BEGIN:VCALENDAR
VERSION:2.0
PRODID:-//ST-U16Z-Q1C//NONSGML kigkonsult.se iCalcreator 2.41.80//
CALSCALE:GREGORIAN
UID:31616430-3733-4432-b836-323437393561
BEGIN:VEVENT
UID:62346364-3462-4963-b031-613362323863
DTSTAMP:20260421T223101Z
DESCRIPTION:1/1 Benátky nad Jizerou - VK Mladá Boleslav 2:0 (23\,17)\nPořad
 atel: VK Benátky nad Jizerou
DTSTART;TZID=Europe/Berlin:20240901T100000
DTEND;TZID=Europe/Berlin:20240901T120000
LOCATION:Nibe aréna\, městská sportovní hala\, 5. května 746 Benátky nad Ji
 zerou - Benátky nad Jizerou II
SUMMARY:ST-U16Z-Q1C: Benátky nad Jizerou-VK Mladá Boleslav
END:VEVENT
BEGIN:VEVENT
UID:66383037-6231-4436-a630-386331376563
DTSTAMP:20260421T223101Z
DESCRIPTION:1/2 Malibu Mladá Boleslav A - Malibu Mladá Boleslav B 2:X\nPořa
 datel: 2 hřiště
DTSTART;TZID=Europe/Berlin:20240901T100000
DTEND;TZID=Europe/Berlin:20240901T120000
LOCATION:Sportovni hala Gymnazium Dr. J. Pekaře \, Palackého 211 Mladá Bole
 slav - Mladá Boleslav II
SUMMARY:ST-U16Z-Q1C: Malibu Mladá Boleslav A-Malibu Mladá Boleslav B
END:VEVENT
BEGIN:VEVENT
UID:63633433-6463-4361-b662-343864356131
DTSTAMP:20260421T223101Z
DESCRIPTION:1/3 VK Mladá Boleslav - AŠ Mladá Boleslav 0:2 (-9\,-13)
DTSTART;TZID=Europe/Berlin:20240901T100000
DTEND;TZID=Europe/Berlin:20240901T120000
LOCATION:Městská Sportovní hala\, U stadionu 1322 Mladá Boleslav - Mladá Bo
 leslav II
SUMMARY:ST-U16Z-Q1C: VK Mladá Boleslav-AŠ Mladá Boleslav
END:VEVENT
BEGIN:VEVENT
UID:32356531-3239-4133-a338-336233326236
DTSTAMP:20260421T223101Z
DESCRIPTION:1/4 Malibu Mladá Boleslav B - Benátky nad Jizerou X:2
DTSTART;TZID=Europe/Berlin:20240901T100000
DTEND;TZID=Europe/Berlin:20240901T120000
LOCATION:Sportovni hala Gymnazium Dr. J. Pekaře \, Palackého 211 Mladá Bole
 slav - Mladá Boleslav II
SUMMARY:ST-U16Z-Q1C: Malibu Mladá Boleslav B-Benátky nad Jizerou
END:VEVENT
BEGIN:VEVENT
UID:32343066-6438-4230-b933-363531626538
DTSTAMP:20260421T223101Z
DESCRIPTION:1/5 AŠ Mladá Boleslav - Malibu Mladá Boleslav A 2:0 (11\,9)
DTSTART;TZID=Europe/Berlin:20240901T100000
DTEND;TZID=Europe/Berlin:20240901T120000
LOCATION:Městská Sportovní hala\, U stadionu 1322 Mladá Boleslav - Mladá Bo
 leslav II
SUMMARY:ST-U16Z-Q1C: AŠ Mladá Boleslav-Malibu Mladá Boleslav A
END:VEVENT
BEGIN:VEVENT
UID:38376338-6638-4534-b131-333466636337
DTSTAMP:20260421T223101Z
DESCRIPTION:1/6 VK Mladá Boleslav - Malibu Mladá Boleslav B 2:X
DTSTART;TZID=Europe/Berlin:20240901T100000
DTEND;TZID=Europe/Berlin:20240901T120000
LOCATION:Městská Sportovní hala\, U stadionu 1322 Mladá Boleslav - Mladá Bo
 leslav II
SUMMARY:ST-U16Z-Q1C: VK Mladá Boleslav-Malibu Mladá Boleslav B
END:VEVENT
BEGIN:VEVENT
UID:36303236-3464-4133-a133-313937373264
DTSTAMP:20260421T223101Z
DESCRIPTION:1/7 Benátky nad Jizerou - Malibu Mladá Boleslav A 1:2 (-22\,25\
 ,-12)
DTSTART;TZID=Europe/Berlin:20240901T100000
DTEND;TZID=Europe/Berlin:20240901T120000
LOCATION:Nibe aréna\, městská sportovní hala\, 5. května 746 Benátky nad Ji
 zerou - Benátky nad Jizerou II
SUMMARY:ST-U16Z-Q1C: Benátky nad Jizerou-Malibu Mladá Boleslav A
END:VEVENT
BEGIN:VEVENT
UID:33613638-3933-4232-b363-643264666339
DTSTAMP:20260421T223101Z
DESCRIPTION:1/8 Malibu Mladá Boleslav B - AŠ Mladá Boleslav X:2
DTSTART;TZID=Europe/Berlin:20240901T100000
DTEND;TZID=Europe/Berlin:20240901T120000
LOCATION:Sportovni hala Gymnazium Dr. J. Pekaře \, Palackého 211 Mladá Bole
 slav - Mladá Boleslav II
SUMMARY:ST-U16Z-Q1C: Malibu Mladá Boleslav B-AŠ Mladá Boleslav
END:VEVENT
BEGIN:VEVENT
UID:63316564-3065-4761-b136-643163346164
DTSTAMP:20260421T223101Z
DESCRIPTION:1/9 Malibu Mladá Boleslav A - VK Mladá Boleslav 1:2 (20\,-19\,-
 9)
DTSTART;TZID=Europe/Berlin:20240901T100000
DTEND;TZID=Europe/Berlin:20240901T120000
LOCATION:Sportovni hala Gymnazium Dr. J. Pekaře \, Palackého 211 Mladá Bole
 slav - Mladá Boleslav II
SUMMARY:ST-U16Z-Q1C: Malibu Mladá Boleslav A-VK Mladá Boleslav
END:VEVENT
BEGIN:VEVENT
UID:64396431-3834-4931-b134-313031613765
DTSTAMP:20260421T223101Z
DESCRIPTION:1/10 AŠ Mladá Boleslav - Benátky nad Jizerou 2:0 (12\,5)
DTSTART;TZID=Europe/Berlin:20240901T100000
DTEND;TZID=Europe/Berlin:20240901T120000
LOCATION:Městská Sportovní hala\, U stadionu 1322 Mladá Boleslav - Mladá Bo
 leslav II
SUMMARY:ST-U16Z-Q1C: AŠ Mladá Boleslav-Benátky nad Jizerou
END:VEVENT
END:VCALENDAR
