BEGIN:VCALENDAR
VERSION:2.0
PRODID:-//VY-Z-A//NONSGML kigkonsult.se iCalcreator 2.41.80//
CALSCALE:GREGORIAN
UID:37353439-3533-4235-a535-623239613833
BEGIN:VEVENT
UID:30343365-3666-4165-a230-643130653331
DTSTAMP:20260422T202244Z
DESCRIPTION:1/1 Demlova B - Náměšť nad Oslavou 3:0 (14\,16\,19)
DTSTART;TZID=Europe/Berlin:20250208T090000
DTEND;TZID=Europe/Berlin:20250208T110000
LOCATION:Gymnázium Jihlava\, Jana Masaryka 1560 Jihlava
SUMMARY:VY-Z-A: Demlova B-Náměšť nad Oslavou
END:VEVENT
BEGIN:VEVENT
UID:34613266-6638-4437-b031-663963346132
DTSTAMP:20260422T202244Z
DESCRIPTION:1/2 Sokol Havlíčkův Brod 'B' - Pelhřimov 'B' 2:3 (-20\,-18\,22\
 ,16\,-13)
DTSTART;TZID=Europe/Berlin:20250208T100000
DTEND;TZID=Europe/Berlin:20250208T120000
LOCATION:Střední zdravotnická škola Havlíčkův Brod\, Masarykova 2033 Havlíč
 kův Brod
SUMMARY:VY-Z-A: Sokol Havlíčkův Brod 'B'-Pelhřimov 'B'
END:VEVENT
BEGIN:VEVENT
UID:35383037-3766-4331-a164-666134363662
DTSTAMP:20260422T202244Z
DESCRIPTION:2/3 Demlova B - Náměšť nad Oslavou 3:0 (23\,15\,13)
DTSTART;TZID=Europe/Berlin:20250208T120000
DTEND;TZID=Europe/Berlin:20250208T140000
LOCATION:Gymnázium Jihlava\, Jana Masaryka 1560 Jihlava
SUMMARY:VY-Z-A: Demlova B-Náměšť nad Oslavou
END:VEVENT
BEGIN:VEVENT
UID:61373863-6266-4638-b861-646466613661
DTSTAMP:20260422T202244Z
DESCRIPTION:2/4 Sokol Havlíčkův Brod 'B' - Pelhřimov 'B' 2:3 (24\,-18\,-14\
 ,18\,-13)
DTSTART;TZID=Europe/Berlin:20250208T130000
DTEND;TZID=Europe/Berlin:20250208T150000
LOCATION:Střední zdravotnická škola Havlíčkův Brod\, Masarykova 2033 Havlíč
 kův Brod
SUMMARY:VY-Z-A: Sokol Havlíčkův Brod 'B'-Pelhřimov 'B'
END:VEVENT
BEGIN:VEVENT
UID:32626165-6266-4038-a231-613062373935
DTSTAMP:20260422T202244Z
DESCRIPTION:3/5 Náměšť nad Oslavou - Sokol Havlíčkův Brod 'B' 0:3 (-20\,-20
 \,-15)
DTSTART;TZID=Europe/Berlin:20250216T090000
DTEND;TZID=Europe/Berlin:20250216T110000
LOCATION:ZŠ Komenského\, Komenského nám. 53 Náměšť nad Oslavou
SUMMARY:VY-Z-A: Náměšť nad Oslavou-Sokol Havlíčkův Brod 'B'
END:VEVENT
BEGIN:VEVENT
UID:62653239-3336-4638-a664-316363333463
DTSTAMP:20260422T202244Z
DESCRIPTION:3/6 Pelhřimov 'B' - Demlova B 0:3 (-7\,-11\,-17)
DTSTART;TZID=Europe/Berlin:20250322T090000
DTEND;TZID=Europe/Berlin:20250322T110000
LOCATION:Základní škola Pelhřimov\, Osvobození\, Osvobození 1881 Pelhřimov
SUMMARY:VY-Z-A: Pelhřimov 'B'-Demlova B
END:VEVENT
BEGIN:VEVENT
UID:34353232-3538-4334-a136-653366376538
DTSTAMP:20260422T202244Z
DESCRIPTION:4/7 Náměšť nad Oslavou - Sokol Havlíčkův Brod 'B' 2:3 (17\,-18\
 ,-18\,21\,-11)
DTSTART;TZID=Europe/Berlin:20250216T130000
DTEND;TZID=Europe/Berlin:20250216T150000
LOCATION:ZŠ Komenského\, Komenského nám. 53 Náměšť nad Oslavou
SUMMARY:VY-Z-A: Náměšť nad Oslavou-Sokol Havlíčkův Brod 'B'
END:VEVENT
BEGIN:VEVENT
UID:37313062-6364-4066-b337-643361343033
DTSTAMP:20260422T202244Z
DESCRIPTION:4/8 Pelhřimov 'B' - Demlova B 0:3 (-23\,-13\,-14)
DTSTART;TZID=Europe/Berlin:20250322T120000
DTEND;TZID=Europe/Berlin:20250322T140000
LOCATION:Základní škola Pelhřimov\, Osvobození\, Osvobození 1881 Pelhřimov
SUMMARY:VY-Z-A: Pelhřimov 'B'-Demlova B
END:VEVENT
BEGIN:VEVENT
UID:35666533-3462-4035-b236-313137633930
DTSTAMP:20260422T202244Z
DESCRIPTION:5/9 Náměšť nad Oslavou - Demlova B 0:3 (-15\,-15\,-8)
DTSTART;TZID=Europe/Berlin:20250315T100000
DTEND;TZID=Europe/Berlin:20250315T120000
LOCATION:ZŠ Komenského\, Komenského nám. 53 Náměšť nad Oslavou
SUMMARY:VY-Z-A: Náměšť nad Oslavou-Demlova B
END:VEVENT
BEGIN:VEVENT
UID:39656337-6532-4336-b932-643264346462
DTSTAMP:20260422T202244Z
DESCRIPTION:5/10 Pelhřimov 'B' - Sokol Havlíčkův Brod 'B' 3:0 (20\,13\,14)
DTSTART;TZID=Europe/Berlin:20250308T100000
DTEND;TZID=Europe/Berlin:20250308T120000
LOCATION:Základní škola Pelhřimov\, Osvobození\, Osvobození 1881 Pelhřimov
SUMMARY:VY-Z-A: Pelhřimov 'B'-Sokol Havlíčkův Brod 'B'
END:VEVENT
BEGIN:VEVENT
UID:37326633-3734-4831-b434-343331363663
DTSTAMP:20260422T202244Z
DESCRIPTION:6/11 Náměšť nad Oslavou - Demlova B 1:3 (15\,-19\,-20\,-17)
DTSTART;TZID=Europe/Berlin:20250315T130000
DTEND;TZID=Europe/Berlin:20250315T150000
LOCATION:ZŠ Komenského\, Komenského nám. 53 Náměšť nad Oslavou
SUMMARY:VY-Z-A: Náměšť nad Oslavou-Demlova B
END:VEVENT
BEGIN:VEVENT
UID:62613534-3138-4037-b961-626662663237
DTSTAMP:20260422T202244Z
DESCRIPTION:6/12 Pelhřimov 'B' - Sokol Havlíčkův Brod 'B' 3:0 (22\,19\,22)
DTSTART;TZID=Europe/Berlin:20250308T130000
DTEND;TZID=Europe/Berlin:20250308T150000
LOCATION:Základní škola Pelhřimov\, Osvobození\, Osvobození 1881 Pelhřimov
SUMMARY:VY-Z-A: Pelhřimov 'B'-Sokol Havlíčkův Brod 'B'
END:VEVENT
BEGIN:VEVENT
UID:36313136-6661-4463-b532-323563323430
DTSTAMP:20260422T202244Z
DESCRIPTION:7/13 Sokol Havlíčkův Brod 'B' - Náměšť nad Oslavou 3:0 (24\,17\
 ,24)
DTSTART;TZID=Europe/Berlin:20250222T090000
DTEND;TZID=Europe/Berlin:20250222T110000
LOCATION:Střední zdravotnická škola Havlíčkův Brod\, Masarykova 2033 Havlíč
 kův Brod
SUMMARY:VY-Z-A: Sokol Havlíčkův Brod 'B'-Náměšť nad Oslavou
END:VEVENT
BEGIN:VEVENT
UID:66363132-3331-4431-b730-383963626539
DTSTAMP:20260422T202244Z
DESCRIPTION:7/14 Demlova B - Pelhřimov 'B' 3:0 (22\,19\,13)
DTSTART;TZID=Europe/Berlin:20250222T090000
DTEND;TZID=Europe/Berlin:20250222T110000
LOCATION:Gymnázium Jihlava\, Jana Masaryka 1560 Jihlava
SUMMARY:VY-Z-A: Demlova B-Pelhřimov 'B'
END:VEVENT
BEGIN:VEVENT
UID:61313232-3130-4439-a534-326530393730
DTSTAMP:20260422T202244Z
DESCRIPTION:8/15 Sokol Havlíčkův Brod 'B' - Náměšť nad Oslavou 3:1 (-20\,23
 \,21\,17)
DTSTART;TZID=Europe/Berlin:20250222T130000
DTEND;TZID=Europe/Berlin:20250222T150000
LOCATION:Střední zdravotnická škola Havlíčkův Brod\, Masarykova 2033 Havlíč
 kův Brod
SUMMARY:VY-Z-A: Sokol Havlíčkův Brod 'B'-Náměšť nad Oslavou
END:VEVENT
BEGIN:VEVENT
UID:66306263-3232-4033-b563-303233623666
DTSTAMP:20260422T202244Z
DESCRIPTION:8/16 Demlova B - Pelhřimov 'B' 3:0 (19\,18\,14)
DTSTART;TZID=Europe/Berlin:20250222T120000
DTEND;TZID=Europe/Berlin:20250222T140000
LOCATION:Gymnázium Jihlava\, Jana Masaryka 1560 Jihlava
SUMMARY:VY-Z-A: Demlova B-Pelhřimov 'B'
END:VEVENT
END:VCALENDAR
