BEGIN:VCALENDAR
VERSION:2.0
PRODID:-//JC-U18Z-KP1//NONSGML kigkonsult.se iCalcreator 2.41.80//
CALSCALE:GREGORIAN
UID:31346534-6362-4437-a239-626561306262
BEGIN:VEVENT
UID:32356161-3763-4639-b039-636334303433
DTSTAMP:20260421T112921Z
DESCRIPTION:1/1 TJ Slovan J. Hradec - Volejbal Rudolfov 3:0 (13\,17\,14)\nP
 ořadatel: Volejbal Tábor (SH Mír\, Tábor)
DTSTART;TZID=Europe/Berlin:20241012T090000
DTEND;TZID=Europe/Berlin:20241012T110000
LOCATION:Sportovní hala J. Hradec\, U Stadionu 1137 Jindřichův Hradec - Jin
 dřichův Hradec II
SUMMARY:JC-U18Z-KP1: TJ Slovan J. Hradec-Volejbal Rudolfov
END:VEVENT
BEGIN:VEVENT
UID:36613963-6565-4938-a337-316562333435
DTSTAMP:20260421T112921Z
DESCRIPTION:1/2 Škola volejbalu A - TJ Slovan J. Hradec 3:1 (-16\,10\,16\,1
 8)
DTSTART;TZID=Europe/Berlin:20241012T103000
DTEND;TZID=Europe/Berlin:20241012T123000
LOCATION:Sportovní hala Hrdějovice\,  Hrdějovice597
SUMMARY:JC-U18Z-KP1: Škola volejbalu A-TJ Slovan J. Hradec
END:VEVENT
BEGIN:VEVENT
UID:62666362-3861-4365-b130-373762363934
DTSTAMP:20260421T112921Z
DESCRIPTION:1/3 Volejbal Rudolfov - Škola volejbalu A 0:3 (-16\,-5\,-14)
DTSTART;TZID=Europe/Berlin:20241012T120000
DTEND;TZID=Europe/Berlin:20241012T140000
LOCATION:Sportovní hala Rudolfov\, Adamovská 511 Rudolfov
SUMMARY:JC-U18Z-KP1: Volejbal Rudolfov-Škola volejbalu A
END:VEVENT
BEGIN:VEVENT
UID:33303766-6132-4263-a462-316665393236
DTSTAMP:20260421T112921Z
DESCRIPTION:1/4 TJ Tatran Prachatice - Škola volejbalu B 3:1 (24\,16\,-22\,
 11)
DTSTART;TZID=Europe/Berlin:20241012T090000
DTEND;TZID=Europe/Berlin:20241012T110000
LOCATION:, U Stadionu 764 Prachatice - Prachatice II
SUMMARY:JC-U18Z-KP1: TJ Tatran Prachatice-Škola volejbalu B
END:VEVENT
BEGIN:VEVENT
UID:38373562-3663-4633-a163-303132373830
DTSTAMP:20260421T112921Z
DESCRIPTION:1/5 Volejbal Tábor A - TJ Tatran Prachatice 3:1 (24\,-22\,20\,2
 2)
DTSTART;TZID=Europe/Berlin:20241012T103000
DTEND;TZID=Europe/Berlin:20241012T123000
LOCATION:Sportovní Hala Mír\, U Stadionu Míru 1579 Tábor
SUMMARY:JC-U18Z-KP1: Volejbal Tábor A-TJ Tatran Prachatice
END:VEVENT
BEGIN:VEVENT
UID:32323339-3730-4433-b639-623735303065
DTSTAMP:20260421T112921Z
DESCRIPTION:1/6 Škola volejbalu B - Volejbal Tábor A 0:3 (-25\,-8\,-19)
DTSTART;TZID=Europe/Berlin:20241012T120000
DTEND;TZID=Europe/Berlin:20241012T140000
LOCATION:Sportovní hala Hrdějovice\,  Hrdějovice597
SUMMARY:JC-U18Z-KP1: Škola volejbalu B-Volejbal Tábor A
END:VEVENT
BEGIN:VEVENT
UID:37643233-6230-4438-b761-656665303965
DTSTAMP:20260421T112921Z
DESCRIPTION:1/7 Třebín - VSK Český Krumlov 3:0 (9\,15\,9)
DTSTART;TZID=Europe/Berlin:20241012T090000
DTEND;TZID=Europe/Berlin:20241012T110000
LOCATION:ZŠ Máj I\, M. Chlajna 1319 České Budějovice - České Budějovice 2
SUMMARY:JC-U18Z-KP1: Třebín-VSK Český Krumlov
END:VEVENT
BEGIN:VEVENT
UID:37306533-6564-4133-b938-366131333266
DTSTAMP:20260421T112921Z
DESCRIPTION:1/8 TJ ČZ Strakonice - Třebín 0:3 (-17\,-19\,-10)
DTSTART;TZID=Europe/Berlin:20241012T103000
DTEND;TZID=Europe/Berlin:20241012T123000
LOCATION:Hala TJ ČZ Strakonice\, Máchova 108 Strakonice - Strakonice I
SUMMARY:JC-U18Z-KP1: TJ ČZ Strakonice-Třebín
END:VEVENT
BEGIN:VEVENT
UID:37393764-6237-4561-b036-613537376165
DTSTAMP:20260421T112921Z
DESCRIPTION:1/9 VSK Český Krumlov - TJ ČZ Strakonice 0:3 (-20\,-18\,-25)
DTSTART;TZID=Europe/Berlin:20241012T120000
DTEND;TZID=Europe/Berlin:20241012T140000
LOCATION:ZŠ Za Nádražím Český Krumlov\, Za Nádražím 222 Český Krumlov - Nád
 ražní Předměstí
SUMMARY:JC-U18Z-KP1: VSK Český Krumlov-TJ ČZ Strakonice
END:VEVENT
BEGIN:VEVENT
UID:39646132-3462-4363-b337-353530616263
DTSTAMP:20260421T112921Z
DESCRIPTION:2/10 Třebín - TJ Tatran Prachatice 3:1 (22\,23\,-22\,18)\nPořad
 atel: Jindřichův Hradec (SH J. Hradec)
DTSTART;TZID=Europe/Berlin:20241109T090000
DTEND;TZID=Europe/Berlin:20241109T110000
LOCATION:ZŠ Máj I\, M. Chlajna 1319 České Budějovice - České Budějovice 2
SUMMARY:JC-U18Z-KP1: Třebín-TJ Tatran Prachatice
END:VEVENT
BEGIN:VEVENT
UID:62376338-3166-4534-a232-353932323330
DTSTAMP:20260421T112921Z
DESCRIPTION:2/11 TJ Tatran Prachatice - TJ Slovan J. Hradec 3:1 (16\,16\,-2
 0\,15)
DTSTART;TZID=Europe/Berlin:20241109T103000
DTEND;TZID=Europe/Berlin:20241109T123000
LOCATION:, U Stadionu 764 Prachatice - Prachatice II
SUMMARY:JC-U18Z-KP1: TJ Tatran Prachatice-TJ Slovan J. Hradec
END:VEVENT
BEGIN:VEVENT
UID:30373434-6133-4638-b561-343739346337
DTSTAMP:20260421T112921Z
DESCRIPTION:2/12 TJ Slovan J. Hradec - Třebín 0:3 (-16\,-18\,-10)
DTSTART;TZID=Europe/Berlin:20241109T120000
DTEND;TZID=Europe/Berlin:20241109T140000
LOCATION:Sportovní hala J. Hradec\, U Stadionu 1137 Jindřichův Hradec - Jin
 dřichův Hradec II
SUMMARY:JC-U18Z-KP1: TJ Slovan J. Hradec-Třebín
END:VEVENT
BEGIN:VEVENT
UID:61636130-3061-4635-b563-373633376366
DTSTAMP:20260421T112921Z
DESCRIPTION:2/13 TJ ČZ Strakonice - Volejbal Tábor A 0:3 (-25\,-9\,-18)
DTSTART;TZID=Europe/Berlin:20241109T090000
DTEND;TZID=Europe/Berlin:20241109T110000
LOCATION:Hala TJ ČZ Strakonice\, Máchova 108 Strakonice - Strakonice I
SUMMARY:JC-U18Z-KP1: TJ ČZ Strakonice-Volejbal Tábor A
END:VEVENT
BEGIN:VEVENT
UID:32343062-3235-4438-b665-656430643734
DTSTAMP:20260421T112921Z
DESCRIPTION:2/14 Volejbal Tábor A - Škola volejbalu A 2:3 (-20\,21\,24\,-17
 \,-9)
DTSTART;TZID=Europe/Berlin:20241109T103000
DTEND;TZID=Europe/Berlin:20241109T123000
LOCATION:Sportovní Hala Mír\, U Stadionu Míru 1579 Tábor
SUMMARY:JC-U18Z-KP1: Volejbal Tábor A-Škola volejbalu A
END:VEVENT
BEGIN:VEVENT
UID:64386363-6335-4638-b337-356266323236
DTSTAMP:20260421T112921Z
DESCRIPTION:2/15 Škola volejbalu A - TJ ČZ Strakonice 3:0 (12\,22\,11)
DTSTART;TZID=Europe/Berlin:20241109T120000
DTEND;TZID=Europe/Berlin:20241109T140000
LOCATION:Sportovní hala Hrdějovice\,  Hrdějovice597
SUMMARY:JC-U18Z-KP1: Škola volejbalu A-TJ ČZ Strakonice
END:VEVENT
BEGIN:VEVENT
UID:31323037-3065-4263-b361-633735363431
DTSTAMP:20260421T112921Z
DESCRIPTION:2/16 VSK Český Krumlov - Škola volejbalu B 0:3 (-21\,-15\,-15)
DTSTART;TZID=Europe/Berlin:20241109T090000
DTEND;TZID=Europe/Berlin:20241109T110000
LOCATION:ZŠ Za Nádražím Český Krumlov\, Za Nádražím 222 Český Krumlov - Nád
 ražní Předměstí
SUMMARY:JC-U18Z-KP1: VSK Český Krumlov-Škola volejbalu B
END:VEVENT
BEGIN:VEVENT
UID:65343166-3164-4235-b130-363238356334
DTSTAMP:20260421T112921Z
DESCRIPTION:2/17 Škola volejbalu B - Volejbal Rudolfov 0:3 (-23\,-24\,-21)
DTSTART;TZID=Europe/Berlin:20241109T103000
DTEND;TZID=Europe/Berlin:20241109T123000
LOCATION:Sportovní hala Hrdějovice\,  Hrdějovice597
SUMMARY:JC-U18Z-KP1: Škola volejbalu B-Volejbal Rudolfov
END:VEVENT
BEGIN:VEVENT
UID:39353661-3863-4765-a130-376330653061
DTSTAMP:20260421T112921Z
DESCRIPTION:2/18 Volejbal Rudolfov - VSK Český Krumlov 3:1 (-11\,14\,22\,23
 )
DTSTART;TZID=Europe/Berlin:20241109T120000
DTEND;TZID=Europe/Berlin:20241109T140000
LOCATION:Sportovní hala Rudolfov\, Adamovská 511 Rudolfov
SUMMARY:JC-U18Z-KP1: Volejbal Rudolfov-VSK Český Krumlov
END:VEVENT
BEGIN:VEVENT
UID:34623264-6437-4263-a665-316139396438
DTSTAMP:20260421T112921Z
DESCRIPTION:3/19 Volejbal Tábor A - TJ Slovan J. Hradec 3:0 (11\,20\,14)\nP
 ořadatel: Volejbal Tábor (hala Kvapilova\, Tábor)
DTSTART;TZID=Europe/Berlin:20250111T090000
DTEND;TZID=Europe/Berlin:20250111T110000
LOCATION:Sportovní Hala Mír\, U Stadionu Míru 1579 Tábor
SUMMARY:JC-U18Z-KP1: Volejbal Tábor A-TJ Slovan J. Hradec
END:VEVENT
BEGIN:VEVENT
UID:31323431-3933-4463-b432-376234616435
DTSTAMP:20260421T112921Z
DESCRIPTION:3/20 TJ Slovan J. Hradec - VSK Český Krumlov 3:0 (17\,10\,17)
DTSTART;TZID=Europe/Berlin:20250111T103000
DTEND;TZID=Europe/Berlin:20250111T123000
LOCATION:Sportovní hala J. Hradec\, U Stadionu 1137 Jindřichův Hradec - Jin
 dřichův Hradec II
SUMMARY:JC-U18Z-KP1: TJ Slovan J. Hradec-VSK Český Krumlov
END:VEVENT
BEGIN:VEVENT
UID:31383238-3035-4361-b330-333937373163
DTSTAMP:20260421T112921Z
DESCRIPTION:3/21 VSK Český Krumlov - Volejbal Tábor A 0:3 (-7\,-6\,-14)
DTSTART;TZID=Europe/Berlin:20250111T120000
DTEND;TZID=Europe/Berlin:20250111T140000
LOCATION:ZŠ Za Nádražím Český Krumlov\, Za Nádražím 222 Český Krumlov - Nád
 ražní Předměstí
SUMMARY:JC-U18Z-KP1: VSK Český Krumlov-Volejbal Tábor A
END:VEVENT
BEGIN:VEVENT
UID:31306235-3037-4138-b765-636662303764
DTSTAMP:20260421T112921Z
DESCRIPTION:3/22 Škola volejbalu B - Škola volejbalu A 0:3 (-8\,-19\,-11)\n
 Pořadatel: Škola volejbalu (hala Hrdějovice)
DTSTART;TZID=Europe/Berlin:20250111T090000
DTEND;TZID=Europe/Berlin:20250111T110000
LOCATION:Sportovní hala Hrdějovice\,  Hrdějovice597
SUMMARY:JC-U18Z-KP1: Škola volejbalu B-Škola volejbalu A
END:VEVENT
BEGIN:VEVENT
UID:38393566-6265-4462-b339-366230383131
DTSTAMP:20260421T112921Z
DESCRIPTION:3/23 Škola volejbalu A - Třebín 1:3 (22\,-20\,-23\,-26)
DTSTART;TZID=Europe/Berlin:20250111T103000
DTEND;TZID=Europe/Berlin:20250111T123000
LOCATION:Sportovní hala Hrdějovice\,  Hrdějovice597
SUMMARY:JC-U18Z-KP1: Škola volejbalu A-Třebín
END:VEVENT
BEGIN:VEVENT
UID:65663933-6437-4230-b032-633632326233
DTSTAMP:20260421T112921Z
DESCRIPTION:3/24 Třebín - Škola volejbalu B 3:1 (23\,-20\,11\,14)
DTSTART;TZID=Europe/Berlin:20250111T120000
DTEND;TZID=Europe/Berlin:20250111T140000
LOCATION:ZŠ Máj I\, M. Chlajna 1319 České Budějovice - České Budějovice 2
SUMMARY:JC-U18Z-KP1: Třebín-Škola volejbalu B
END:VEVENT
BEGIN:VEVENT
UID:31636539-6137-4766-a163-616164643136
DTSTAMP:20260421T112921Z
DESCRIPTION:3/25 TJ Tatran Prachatice - Volejbal Rudolfov 3:0 (15\,20\,16)
 \nPořadatel: ???
DTSTART;TZID=Europe/Berlin:20250111T090000
DTEND;TZID=Europe/Berlin:20250111T110000
LOCATION:, U Stadionu 764 Prachatice - Prachatice II
SUMMARY:JC-U18Z-KP1: TJ Tatran Prachatice-Volejbal Rudolfov
END:VEVENT
BEGIN:VEVENT
UID:34346637-6636-4930-b465-366232326566
DTSTAMP:20260421T112921Z
DESCRIPTION:3/26 Volejbal Rudolfov - TJ ČZ Strakonice 3:1 (21\,-14\,20\,19)
DTSTART;TZID=Europe/Berlin:20250111T103000
DTEND;TZID=Europe/Berlin:20250111T123000
LOCATION:Sportovní hala Rudolfov\, Adamovská 511 Rudolfov
SUMMARY:JC-U18Z-KP1: Volejbal Rudolfov-TJ ČZ Strakonice
END:VEVENT
BEGIN:VEVENT
UID:35343361-6235-4163-b234-383938373739
DTSTAMP:20260421T112921Z
DESCRIPTION:3/27 TJ ČZ Strakonice - TJ Tatran Prachatice 0:3 (-13\,-13\,-20
 )
DTSTART;TZID=Europe/Berlin:20250111T120000
DTEND;TZID=Europe/Berlin:20250111T140000
LOCATION:Hala TJ ČZ Strakonice\, Máchova 108 Strakonice - Strakonice I
SUMMARY:JC-U18Z-KP1: TJ ČZ Strakonice-TJ Tatran Prachatice
END:VEVENT
BEGIN:VEVENT
UID:62666136-3535-4937-a137-336363376537
DTSTAMP:20260421T112921Z
DESCRIPTION:4/28 Škola volejbalu B - TJ Slovan J. Hradec 3:1 (23\,19\,-22\,
 16)\nPořadatel: Škola volejbalu (hala Hrdějovice)
DTSTART;TZID=Europe/Berlin:20250301T090000
DTEND;TZID=Europe/Berlin:20250301T110000
LOCATION:Sportovní hala Hrdějovice\,  Hrdějovice597
SUMMARY:JC-U18Z-KP1: Škola volejbalu B-TJ Slovan J. Hradec
END:VEVENT
BEGIN:VEVENT
UID:63336236-6565-4364-b962-653865636663
DTSTAMP:20260421T112921Z
DESCRIPTION:4/29 TJ ČZ Strakonice - TJ Slovan J. Hradec 1:3 (-22\,-23\,23\,
 -15)
DTSTART;TZID=Europe/Berlin:20250301T103000
DTEND;TZID=Europe/Berlin:20250301T123000
LOCATION:Hala TJ ČZ Strakonice\, Máchova 108 Strakonice - Strakonice I
SUMMARY:JC-U18Z-KP1: TJ ČZ Strakonice-TJ Slovan J. Hradec
END:VEVENT
BEGIN:VEVENT
UID:33356636-3964-4935-b538-393237643539
DTSTAMP:20260421T112921Z
DESCRIPTION:4/30 Škola volejbalu B - TJ ČZ Strakonice 3:0 (19\,16\,14)
DTSTART;TZID=Europe/Berlin:20250301T120000
DTEND;TZID=Europe/Berlin:20250301T140000
LOCATION:Sportovní hala Hrdějovice\,  Hrdějovice597
SUMMARY:JC-U18Z-KP1: Škola volejbalu B-TJ ČZ Strakonice
END:VEVENT
BEGIN:VEVENT
UID:62353465-3038-4561-b665-343431393837
DTSTAMP:20260421T112921Z
DESCRIPTION:4/31 TJ Tatran Prachatice - Škola volejbalu A 1:3 (-15\,14\,-17
 \,-11)\nPořadatel: VSK Č. Krumlov
DTSTART;TZID=Europe/Berlin:20250301T090000
DTEND;TZID=Europe/Berlin:20250301T110000
LOCATION:, U Stadionu 764 Prachatice - Prachatice II
SUMMARY:JC-U18Z-KP1: TJ Tatran Prachatice-Škola volejbalu A
END:VEVENT
BEGIN:VEVENT
UID:35623635-3563-4533-b931-653564653636
DTSTAMP:20260421T112921Z
DESCRIPTION:4/32 VSK Český Krumlov - TJ Tatran Prachatice 0:3 (-13\,-9\,-18
 )
DTSTART;TZID=Europe/Berlin:20250301T103000
DTEND;TZID=Europe/Berlin:20250301T123000
LOCATION:ZŠ Za Nádražím Český Krumlov\, Za Nádražím 222 Český Krumlov - Nád
 ražní Předměstí
SUMMARY:JC-U18Z-KP1: VSK Český Krumlov-TJ Tatran Prachatice
END:VEVENT
BEGIN:VEVENT
UID:31366663-3433-4761-a466-393730633536
DTSTAMP:20260421T112921Z
DESCRIPTION:4/33 Škola volejbalu A - VSK Český Krumlov 3:0 (17\,12\,7)
DTSTART;TZID=Europe/Berlin:20250301T120000
DTEND;TZID=Europe/Berlin:20250301T140000
LOCATION:Sportovní hala Hrdějovice\,  Hrdějovice597
SUMMARY:JC-U18Z-KP1: Škola volejbalu A-VSK Český Krumlov
END:VEVENT
BEGIN:VEVENT
UID:33346437-6565-4962-b164-346130386533
DTSTAMP:20260421T112921Z
DESCRIPTION:4/34 Volejbal Tábor A - Volejbal Rudolfov 3:0 (9\,19\,5)\nPořad
 atel: Volejbal Tábor (hala Kvapilova\, Tábor)
DTSTART;TZID=Europe/Berlin:20250301T090000
DTEND;TZID=Europe/Berlin:20250301T110000
LOCATION:Sportovní Hala Mír\, U Stadionu Míru 1579 Tábor
SUMMARY:JC-U18Z-KP1: Volejbal Tábor A-Volejbal Rudolfov
END:VEVENT
BEGIN:VEVENT
UID:65663231-6431-4666-a539-663630333236
DTSTAMP:20260421T112921Z
DESCRIPTION:4/35 Třebín - Volejbal Tábor A 1:3 (-12\,14\,-10\,-24)
DTSTART;TZID=Europe/Berlin:20250301T103000
DTEND;TZID=Europe/Berlin:20250301T123000
LOCATION:ZŠ Máj I\, M. Chlajna 1319 České Budějovice - České Budějovice 2
SUMMARY:JC-U18Z-KP1: Třebín-Volejbal Tábor A
END:VEVENT
BEGIN:VEVENT
UID:66343862-3963-4335-b263-393764346230
DTSTAMP:20260421T112921Z
DESCRIPTION:4/36 Volejbal Rudolfov - Třebín 0:3 (-14\,-16\,-21)
DTSTART;TZID=Europe/Berlin:20250301T120000
DTEND;TZID=Europe/Berlin:20250301T140000
LOCATION:Sportovní hala Rudolfov\, Adamovská 511 Rudolfov
SUMMARY:JC-U18Z-KP1: Volejbal Rudolfov-Třebín
END:VEVENT
END:VCALENDAR
