BEGIN:VCALENDAR
VERSION:2.0
PRODID:-//JC-U20Z-1C//NONSGML kigkonsult.se iCalcreator 2.41.80//
CALSCALE:GREGORIAN
UID:35636334-6433-4639-b936-633730396662
BEGIN:VEVENT
UID:32303638-3132-4162-a461-303131363738
DTSTAMP:20260421T144831Z
DESCRIPTION:1/1 VSK Slavia JU ČB - TJ ČZ Strakonice 0:3 (-4\,-13\,-14)
DTSTART;TZID=Europe/Berlin:20241103T090000
DTEND;TZID=Europe/Berlin:20241103T110000
LOCATION:Sportovní hala Jihočeské univerzity\, Na Sádkách 305 České Budějov
 ice - České Budějovice 2
SUMMARY:JC-U20Z-1C: VSK Slavia JU ČB-TJ ČZ Strakonice
END:VEVENT
BEGIN:VEVENT
UID:34663237-6361-4430-b136-366564343162
DTSTAMP:20260421T144831Z
DESCRIPTION:1/2 TJ Slovan J. Hradec - VSK Slavia JU ČB 3:0 (10\,4\,13)
DTSTART;TZID=Europe/Berlin:20241103T103000
DTEND;TZID=Europe/Berlin:20241103T123000
LOCATION:Sportovní hala J. Hradec\, U Stadionu 1137 Jindřichův Hradec - Jin
 dřichův Hradec II
SUMMARY:JC-U20Z-1C: TJ Slovan J. Hradec-VSK Slavia JU ČB
END:VEVENT
BEGIN:VEVENT
UID:37353032-3437-4232-b739-346331613766
DTSTAMP:20260421T144831Z
DESCRIPTION:1/3 TJ ČZ Strakonice - TJ Slovan J. Hradec 1:3 (-9\,20\,-15\,-1
 7)
DTSTART;TZID=Europe/Berlin:20241103T120000
DTEND;TZID=Europe/Berlin:20241103T140000
LOCATION:Hala TJ ČZ Strakonice\, Máchova 108 Strakonice - Strakonice I
SUMMARY:JC-U20Z-1C: TJ ČZ Strakonice-TJ Slovan J. Hradec
END:VEVENT
END:VCALENDAR
