BEGIN:VCALENDAR
VERSION:2.0
PRODID:-//JC-U20Z-3A//NONSGML kigkonsult.se iCalcreator 2.41.80//
CALSCALE:GREGORIAN
UID:33336562-3062-4839-a438-646430663931
BEGIN:VEVENT
UID:65333164-3538-4036-b365-656437653532
DTSTAMP:20260421T144853Z
DESCRIPTION:1/1 TJ Slovan J. Hradec - SK TŘEBÍN LVI B 0:3 (-14\,-23\,-24)
DTSTART;TZID=Europe/Berlin:20250309T090000
DTEND;TZID=Europe/Berlin:20250309T110000
LOCATION:Sportovní hala J. Hradec\, U Stadionu 1137 Jindřichův Hradec - Jin
 dřichův Hradec II
SUMMARY:JC-U20Z-3A: TJ Slovan J. Hradec-SK TŘEBÍN LVI B
END:VEVENT
BEGIN:VEVENT
UID:66316431-3766-4131-b731-353231326663
DTSTAMP:20260421T144853Z
DESCRIPTION:1/2 SK TŘEBÍN LVI B - Škola volejbalu A 3:2 (17\,-15\,14\,-22\,
 14)
DTSTART;TZID=Europe/Berlin:20250309T103000
DTEND;TZID=Europe/Berlin:20250309T123000
LOCATION:ZŠ Máj I\, M. Chlajna 1319 České Budějovice - České Budějovice 2
SUMMARY:JC-U20Z-3A: SK TŘEBÍN LVI B-Škola volejbalu A
END:VEVENT
BEGIN:VEVENT
UID:38376533-3532-4630-b730-633766316636
DTSTAMP:20260421T144853Z
DESCRIPTION:1/3 TJ Slovan J. Hradec - Škola volejbalu A 0:3 (-23\,-16\,-18)
DTSTART;TZID=Europe/Berlin:20250309T120000
DTEND;TZID=Europe/Berlin:20250309T140000
LOCATION:Sportovní hala J. Hradec\, U Stadionu 1137 Jindřichův Hradec - Jin
 dřichův Hradec II
SUMMARY:JC-U20Z-3A: TJ Slovan J. Hradec-Škola volejbalu A
END:VEVENT
END:VCALENDAR
