BEGIN:VCALENDAR
VERSION:2.0
PRODID:-//JC-U20Z-4C//NONSGML kigkonsult.se iCalcreator 2.41.80//
CALSCALE:GREGORIAN
UID:34383265-3138-4564-b766-333735306163
BEGIN:VEVENT
UID:65623164-3838-4136-a136-303932336639
DTSTAMP:20260421T144833Z
DESCRIPTION:1/1 VK Madeta - Chillies Sokol Katovice 3:1 (16\,16\,-22\,15)
DTSTART;TZID=Europe/Berlin:20250405T090000
DTEND;TZID=Europe/Berlin:20250405T110000
LOCATION:Sportovní hala\, Stromovka 1216 České Budějovice - České Budějovic
 e 2
SUMMARY:JC-U20Z-4C: VK Madeta-Chillies Sokol Katovice
END:VEVENT
BEGIN:VEVENT
UID:34373338-3665-4466-b335-663236653365
DTSTAMP:20260421T144833Z
DESCRIPTION:1/2 VSK Slavia JU ČB - VK Madeta 1:3 (21\,-12\,-13\,-13)
DTSTART;TZID=Europe/Berlin:20250405T103000
DTEND;TZID=Europe/Berlin:20250405T123000
LOCATION:Sportovní hala Jihočeské univerzity\, Na Sádkách 305 České Budějov
 ice - České Budějovice 2
SUMMARY:JC-U20Z-4C: VSK Slavia JU ČB-VK Madeta
END:VEVENT
BEGIN:VEVENT
UID:36623464-6462-4166-b437-316564373931
DTSTAMP:20260421T144833Z
DESCRIPTION:1/3 Chillies Sokol Katovice - VSK Slavia JU ČB 3:1 (17\,-22\,22
 \,19)
DTSTART;TZID=Europe/Berlin:20250405T120000
DTEND;TZID=Europe/Berlin:20250405T140000
LOCATION:Hala TJ ČZ Strakonice\, Máchova 108 Strakonice - Strakonice I
SUMMARY:JC-U20Z-4C: Chillies Sokol Katovice-VSK Slavia JU ČB
END:VEVENT
END:VCALENDAR
