BEGIN:VCALENDAR
VERSION:2.0
PRODID:-//PP-U14Z-Q-D//NONSGML kigkonsult.se iCalcreator 2.41.80//
CALSCALE:GREGORIAN
UID:35356664-3531-4333-b264-643733336332
BEGIN:VEVENT
UID:31363234-3538-4239-b033-303338643731
DTSTAMP:20260421T210124Z
DESCRIPTION:1/1 Horní Počernice - SK Meteor Praha A 0:2 (-13\,-18)
DTSTART;TZID=Europe/Berlin:20240907T090000
DTEND;TZID=Europe/Berlin:20240907T110000
LOCATION:SKŠ ZŠ Mikulova Praha\, Mikulova 1594 Praha - Chodov
SUMMARY:PP-U14Z-Q-D: Horní Počernice-SK Meteor Praha A
END:VEVENT
BEGIN:VEVENT
UID:35633039-6463-4936-b162-626535303264
DTSTAMP:20260421T210124Z
DESCRIPTION:2/2 Mikulova B - Španielka 0:2 (-14\,-14)
DTSTART;TZID=Europe/Berlin:20240907T100000
DTEND;TZID=Europe/Berlin:20240907T120000
LOCATION:SKŠ ZŠ Mikulova Praha\, Mikulova 1594 Praha - Chodov
SUMMARY:PP-U14Z-Q-D: Mikulova B-Španielka
END:VEVENT
BEGIN:VEVENT
UID:37386335-6632-4262-a133-343734353935
DTSTAMP:20260421T210124Z
DESCRIPTION:3/3 Španielka - Horní Počernice 2:0 (9\,12)
DTSTART;TZID=Europe/Berlin:20240907T110000
DTEND;TZID=Europe/Berlin:20240907T130000
LOCATION:SKŠ ZŠ Mikulova Praha\, Mikulova 1594 Praha - Chodov
SUMMARY:PP-U14Z-Q-D: Španielka-Horní Počernice
END:VEVENT
BEGIN:VEVENT
UID:61353963-3464-4464-b738-613666633136
DTSTAMP:20260421T210124Z
DESCRIPTION:4/4 Mikulova B - SK Meteor Praha A 2:1 (20\,-20\,12)
DTSTART;TZID=Europe/Berlin:20240907T120000
DTEND;TZID=Europe/Berlin:20240907T140000
LOCATION:SKŠ ZŠ Mikulova Praha\, Mikulova 1594 Praha - Chodov
SUMMARY:PP-U14Z-Q-D: Mikulova B-SK Meteor Praha A
END:VEVENT
BEGIN:VEVENT
UID:65653263-6637-4332-a138-656431633965
DTSTAMP:20260421T210124Z
DESCRIPTION:5/5 SK Meteor Praha A - Španielka 0:2 (-10\,-21)
DTSTART;TZID=Europe/Berlin:20240907T130000
DTEND;TZID=Europe/Berlin:20240907T150000
LOCATION:SKŠ ZŠ Mikulova Praha\, Mikulova 1594 Praha - Chodov
SUMMARY:PP-U14Z-Q-D: SK Meteor Praha A-Španielka
END:VEVENT
BEGIN:VEVENT
UID:38383533-3136-4239-b030-386566323435
DTSTAMP:20260421T210124Z
DESCRIPTION:6/6 Horní Počernice - Mikulova B 0:2 (-24\,-8)
DTSTART;TZID=Europe/Berlin:20240907T140000
DTEND;TZID=Europe/Berlin:20240907T160000
LOCATION:SKŠ ZŠ Mikulova Praha\, Mikulova 1594 Praha - Chodov
SUMMARY:PP-U14Z-Q-D: Horní Počernice-Mikulova B
END:VEVENT
END:VCALENDAR
