BEGIN:VCALENDAR
VERSION:2.0
PRODID:-//PP-U16M-Q-A//NONSGML kigkonsult.se iCalcreator 2.41.80//
CALSCALE:GREGORIAN
UID:62653166-6639-4134-a565-303265613764
BEGIN:VEVENT
UID:33613162-6562-4138-b737-313438633735
DTSTAMP:20260421T223030Z
DESCRIPTION:1/1 SK Dansport Praha - BVŠP 2:0 (16\,21)
DTSTART;TZID=Europe/Berlin:20240908T090000
DTEND;TZID=Europe/Berlin:20240908T110000
LOCATION:, U Meteoru 29 Praha - Libeň
SUMMARY:PP-U16M-Q-A: SK Dansport Praha-BVŠP
END:VEVENT
BEGIN:VEVENT
UID:64303466-3363-4639-a462-366139353339
DTSTAMP:20260421T223030Z
DESCRIPTION:1/2 VK Lvi Praha B - TJ ABC Braník\, z.s. 0:2 (-8\,-24)
DTSTART;TZID=Europe/Berlin:20240908T090000
DTEND;TZID=Europe/Berlin:20240908T110000
LOCATION:, U Meteoru 29 Praha - Libeň
SUMMARY:PP-U16M-Q-A: VK Lvi Praha B-TJ ABC Braník\, z.s.
END:VEVENT
BEGIN:VEVENT
UID:37643436-3935-4530-a335-613330303235
DTSTAMP:20260421T223030Z
DESCRIPTION:2/3 VK Lvi Praha A - SK Dansport Praha 2:0 (16\,14)
DTSTART;TZID=Europe/Berlin:20240908T100000
DTEND;TZID=Europe/Berlin:20240908T120000
LOCATION:, U Meteoru 29 Praha - Libeň
SUMMARY:PP-U16M-Q-A: VK Lvi Praha A-SK Dansport Praha
END:VEVENT
BEGIN:VEVENT
UID:31646133-6664-4637-a133-333338303564
DTSTAMP:20260421T223030Z
DESCRIPTION:2/4 BVŠP - VK Lvi Praha B 2:0 (25\,14)
DTSTART;TZID=Europe/Berlin:20240908T100000
DTEND;TZID=Europe/Berlin:20240908T120000
LOCATION:, U Meteoru 29 Praha - Libeň
SUMMARY:PP-U16M-Q-A: BVŠP-VK Lvi Praha B
END:VEVENT
BEGIN:VEVENT
UID:65613737-3938-4834-a435-396663303339
DTSTAMP:20260421T223030Z
DESCRIPTION:3/5 SK Dansport Praha - VK Lvi Praha B 2:0 (13\,17)
DTSTART;TZID=Europe/Berlin:20240908T110000
DTEND;TZID=Europe/Berlin:20240908T130000
LOCATION:, U Meteoru 29 Praha - Libeň
SUMMARY:PP-U16M-Q-A: SK Dansport Praha-VK Lvi Praha B
END:VEVENT
BEGIN:VEVENT
UID:64663262-6264-4138-b836-336539396632
DTSTAMP:20260421T223030Z
DESCRIPTION:3/6 VK Lvi Praha A - TJ ABC Braník\, z.s. 2:0 (17\,11)
DTSTART;TZID=Europe/Berlin:20240908T110000
DTEND;TZID=Europe/Berlin:20240908T130000
LOCATION:, U Meteoru 29 Praha - Libeň
SUMMARY:PP-U16M-Q-A: VK Lvi Praha A-TJ ABC Braník\, z.s.
END:VEVENT
BEGIN:VEVENT
UID:63643939-6237-4039-a237-623563663634
DTSTAMP:20260421T223030Z
DESCRIPTION:4/7 TJ ABC Braník\, z.s. - BVŠP 2:1 (17\,-23\,9)
DTSTART;TZID=Europe/Berlin:20240908T120000
DTEND;TZID=Europe/Berlin:20240908T140000
LOCATION:, U Meteoru 29 Praha - Libeň
SUMMARY:PP-U16M-Q-A: TJ ABC Braník\, z.s.-BVŠP
END:VEVENT
BEGIN:VEVENT
UID:36663161-3438-4139-b532-666631353163
DTSTAMP:20260421T223030Z
DESCRIPTION:4/8 VK Lvi Praha B - VK Lvi Praha A 0:2 (-7\,-14)
DTSTART;TZID=Europe/Berlin:20240908T120000
DTEND;TZID=Europe/Berlin:20240908T140000
LOCATION:, U Meteoru 29 Praha - Libeň
SUMMARY:PP-U16M-Q-A: VK Lvi Praha B-VK Lvi Praha A
END:VEVENT
BEGIN:VEVENT
UID:34366238-3131-4963-a263-613161333430
DTSTAMP:20260421T223030Z
DESCRIPTION:5/9 TJ ABC Braník\, z.s. - SK Dansport Praha 0:2 (-18\,-15)
DTSTART;TZID=Europe/Berlin:20240908T130000
DTEND;TZID=Europe/Berlin:20240908T150000
LOCATION:, U Meteoru 29 Praha - Libeň
SUMMARY:PP-U16M-Q-A: TJ ABC Braník\, z.s.-SK Dansport Praha
END:VEVENT
BEGIN:VEVENT
UID:62336431-3639-4832-a333-343035303763
DTSTAMP:20260421T223030Z
DESCRIPTION:5/10 BVŠP - VK Lvi Praha A 0:2 (-14\,-12)
DTSTART;TZID=Europe/Berlin:20240908T130000
DTEND;TZID=Europe/Berlin:20240908T150000
LOCATION:, U Meteoru 29 Praha - Libeň
SUMMARY:PP-U16M-Q-A: BVŠP-VK Lvi Praha A
END:VEVENT
END:VCALENDAR
