BEGIN:VCALENDAR
VERSION:2.0
PRODID:-//ST-U16Z-Q2A//NONSGML kigkonsult.se iCalcreator 2.41.80//
CALSCALE:GREGORIAN
UID:31323264-3833-4633-b766-316262383965
BEGIN:VEVENT
UID:65626565-3330-4464-b862-356262653934
DTSTAMP:20260421T134939Z
DESCRIPTION:1/1 Malibu Mladá Boleslav A - Nymburské BOMBY 0:2 (-8\,-8)\nPoř
 adatel: FC MALIBU Mladá Boleslav
DTSTART;TZID=Europe/Berlin:20240915T100000
DTEND;TZID=Europe/Berlin:20240915T120000
LOCATION:Sportovni hala Gymnazium Dr. J. Pekaře \, Palackého 211 Mladá Bole
 slav - Mladá Boleslav II
SUMMARY:ST-U16Z-Q2A: Malibu Mladá Boleslav A-Nymburské BOMBY
END:VEVENT
BEGIN:VEVENT
UID:61333937-6531-4232-b531-633766306235
DTSTAMP:20260421T134939Z
DESCRIPTION:1/2 Lysá nad Labem. - Čelákovice 1:2 (21\,-19\,-13)\nPořadatel:
  2 hřiště
DTSTART;TZID=Europe/Berlin:20240915T100000
DTEND;TZID=Europe/Berlin:20240915T120000
LOCATION:Sportovní hala V Aleji\, Komenského 2162 Lysá nad Labem
SUMMARY:ST-U16Z-Q2A: Lysá nad Labem.-Čelákovice
END:VEVENT
BEGIN:VEVENT
UID:35386233-6337-4463-b366-633630643035
DTSTAMP:20260421T134939Z
DESCRIPTION:1/3 Nymburské BOMBY - Kutná Hora. 2:0 (9\,11)
DTSTART;TZID=Europe/Berlin:20240915T100000
DTEND;TZID=Europe/Berlin:20240915T120000
LOCATION:Bios\, V Kolonii 1804 Nymburk
SUMMARY:ST-U16Z-Q2A: Nymburské BOMBY-Kutná Hora.
END:VEVENT
BEGIN:VEVENT
UID:36303861-6439-4264-b165-373463323663
DTSTAMP:20260421T134939Z
DESCRIPTION:1/4 Čelákovice - Malibu Mladá Boleslav A 0:2 (-23\,-18)
DTSTART;TZID=Europe/Berlin:20240915T100000
DTEND;TZID=Europe/Berlin:20240915T120000
LOCATION:Sportovní hala Vikomt\, U Učiliště 1683 Čelákovice
SUMMARY:ST-U16Z-Q2A: Čelákovice-Malibu Mladá Boleslav A
END:VEVENT
BEGIN:VEVENT
UID:38643362-3337-4562-b961-333631386362
DTSTAMP:20260421T134939Z
DESCRIPTION:1/5 Kutná Hora. - Lysá nad Labem. 0:2 (-16\,-17)
DTSTART;TZID=Europe/Berlin:20240915T100000
DTEND;TZID=Europe/Berlin:20240915T120000
LOCATION:Klimeška\, Čáslavská 274 Kutná Hora - Karlov
SUMMARY:ST-U16Z-Q2A: Kutná Hora.-Lysá nad Labem.
END:VEVENT
BEGIN:VEVENT
UID:39343033-3534-4132-b432-653639373030
DTSTAMP:20260421T134939Z
DESCRIPTION:1/6 Nymburské BOMBY - Čelákovice 2:0 (9\,8)
DTSTART;TZID=Europe/Berlin:20240915T100000
DTEND;TZID=Europe/Berlin:20240915T120000
LOCATION:Bios\, V Kolonii 1804 Nymburk
SUMMARY:ST-U16Z-Q2A: Nymburské BOMBY-Čelákovice
END:VEVENT
BEGIN:VEVENT
UID:34623839-3363-4532-b763-316633393134
DTSTAMP:20260421T134939Z
DESCRIPTION:1/7 Malibu Mladá Boleslav A - Lysá nad Labem. 0:2 (-19\,-14)
DTSTART;TZID=Europe/Berlin:20240915T100000
DTEND;TZID=Europe/Berlin:20240915T120000
LOCATION:Sportovni hala Gymnazium Dr. J. Pekaře \, Palackého 211 Mladá Bole
 slav - Mladá Boleslav II
SUMMARY:ST-U16Z-Q2A: Malibu Mladá Boleslav A-Lysá nad Labem.
END:VEVENT
BEGIN:VEVENT
UID:33653864-3630-4733-a536-376164333866
DTSTAMP:20260421T134939Z
DESCRIPTION:1/8 Čelákovice - Kutná Hora. 1:2 (26\,-22\,-13)
DTSTART;TZID=Europe/Berlin:20240915T100000
DTEND;TZID=Europe/Berlin:20240915T120000
LOCATION:Sportovní hala Vikomt\, U Učiliště 1683 Čelákovice
SUMMARY:ST-U16Z-Q2A: Čelákovice-Kutná Hora.
END:VEVENT
BEGIN:VEVENT
UID:32306434-3238-4434-b438-303965333136
DTSTAMP:20260421T134939Z
DESCRIPTION:1/9 Lysá nad Labem. - Nymburské BOMBY 1:2 (-18\,24\,-4)
DTSTART;TZID=Europe/Berlin:20240915T100000
DTEND;TZID=Europe/Berlin:20240915T120000
LOCATION:Sportovní hala V Aleji\, Komenského 2162 Lysá nad Labem
SUMMARY:ST-U16Z-Q2A: Lysá nad Labem.-Nymburské BOMBY
END:VEVENT
BEGIN:VEVENT
UID:39646532-6264-4032-a237-386363383630
DTSTAMP:20260421T134939Z
DESCRIPTION:1/10 Kutná Hora. - Malibu Mladá Boleslav A 0:2 (-16\,-20)
DTSTART;TZID=Europe/Berlin:20240915T100000
DTEND;TZID=Europe/Berlin:20240915T120000
LOCATION:Klimeška\, Čáslavská 274 Kutná Hora - Karlov
SUMMARY:ST-U16Z-Q2A: Kutná Hora.-Malibu Mladá Boleslav A
END:VEVENT
END:VCALENDAR
