BEGIN:VCALENDAR
VERSION:2.0
PRODID:-//PA-U16Z-KVAL-A1//NONSGML kigkonsult.se iCalcreator 2.41.80//
CALSCALE:GREGORIAN
UID:63336436-3939-4033-b435-656435616239
BEGIN:VEVENT
UID:36396236-6236-4461-b930-333139353566
DTSTAMP:20260424T085937Z
DESCRIPTION:1/1 Sokol Pardubice I. A - Sokol Pardubice I. C 2:0 (9\,14)\npo
 řadatel Pardubice
DTSTART;TZID=Europe/Berlin:20240915T090000
DTEND;TZID=Europe/Berlin:20240915T110000
LOCATION:Sokolovna\, Jiráskova 29 Pardubice - Zelené Předměstí
SUMMARY:PA-U16Z-KVAL-A1: Sokol Pardubice I. A-Sokol Pardubice I. C
END:VEVENT
BEGIN:VEVENT
UID:62643530-6566-4761-a335-393262633031
DTSTAMP:20260424T085937Z
DESCRIPTION:1/2 Sokol Pardubice I. A - TJ Energetik Chvaletice 2:0 (13\,14)
 \npořadatel Pardubice
DTSTART;TZID=Europe/Berlin:20240915T090000
DTEND;TZID=Europe/Berlin:20240915T110000
LOCATION:Sokolovna\, Jiráskova 29 Pardubice - Zelené Předměstí
SUMMARY:PA-U16Z-KVAL-A1: Sokol Pardubice I. A-TJ Energetik Chvaletice
END:VEVENT
BEGIN:VEVENT
UID:37653138-6566-4636-a533-643264306333
DTSTAMP:20260424T085937Z
DESCRIPTION:1/3 TJ Energetik Chvaletice - Sokol Pardubice I. C 1:2 (20\,-21
 \,-14)\npořadatel Pardubice
DTSTART;TZID=Europe/Berlin:20240915T090000
DTEND;TZID=Europe/Berlin:20240915T110000
LOCATION:ZŠ Chvaletice\, Spojovací 431 Chvaletice
SUMMARY:PA-U16Z-KVAL-A1: TJ Energetik Chvaletice-Sokol Pardubice I. C
END:VEVENT
END:VCALENDAR
