BEGIN:VCALENDAR
VERSION:2.0
PRODID:-//EX-U20M-2C//NONSGML kigkonsult.se iCalcreator 2.41.80//
CALSCALE:GREGORIAN
UID:37303931-6465-4464-a536-396338366632
BEGIN:VEVENT
UID:39376632-3139-4266-a338-363866373563
DTSTAMP:20260424T075752Z
DESCRIPTION:2/1 VK Ostrava - Odolena Voda 0:3 (-8\,-15\,-17)
DTSTART;TZID=Europe/Berlin:20241005T100000
DTEND;TZID=Europe/Berlin:20241005T120000
LOCATION:Hala Janáčkova konzervatoř Ostrava\, Českobratrská 958 Ostrava - M
 oravská Ostrava
SUMMARY:EX-U20M-2C: VK Ostrava-Odolena Voda
END:VEVENT
BEGIN:VEVENT
UID:63636330-3765-4139-b132-326339356439
DTSTAMP:20260424T075752Z
DESCRIPTION:2/2 Příbram - Nový Jičín 1:3 (-19\,21\,-19\,-24)
DTSTART;TZID=Europe/Berlin:20241005T120000
DTEND;TZID=Europe/Berlin:20241005T140000
LOCATION:Hala Janáčkova konzervatoř Ostrava\, Českobratrská 958 Ostrava - M
 oravská Ostrava
SUMMARY:EX-U20M-2C: Příbram-Nový Jičín
END:VEVENT
BEGIN:VEVENT
UID:34303036-3063-4063-a134-326164313664
DTSTAMP:20260424T075752Z
DESCRIPTION:2/3 Ústí n. L. - Odolena Voda 1:3 (-15\,25\,-18\,-21)
DTSTART;TZID=Europe/Berlin:20241005T140000
DTEND;TZID=Europe/Berlin:20241005T160000
LOCATION:Hala Janáčkova konzervatoř Ostrava\, Českobratrská 958 Ostrava - M
 oravská Ostrava
SUMMARY:EX-U20M-2C: Ústí n. L.-Odolena Voda
END:VEVENT
BEGIN:VEVENT
UID:36306536-3062-4237-b838-643532323532
DTSTAMP:20260424T075752Z
DESCRIPTION:2/4 VK Ostrava - Příbram 2:3 (-14\,20\,19\,-12\,-7)
DTSTART;TZID=Europe/Berlin:20241005T160000
DTEND;TZID=Europe/Berlin:20241005T180000
LOCATION:Hala Janáčkova konzervatoř Ostrava\, Českobratrská 958 Ostrava - M
 oravská Ostrava
SUMMARY:EX-U20M-2C: VK Ostrava-Příbram
END:VEVENT
BEGIN:VEVENT
UID:36663232-3462-4531-b034-313131346233
DTSTAMP:20260424T075752Z
DESCRIPTION:2/5 Ústí n. L. - Nový Jičín 3:2 (-17\,25\,13\,-20\,13)
DTSTART;TZID=Europe/Berlin:20241005T180000
DTEND;TZID=Europe/Berlin:20241005T200000
LOCATION:Hala Janáčkova konzervatoř Ostrava\, Českobratrská 958 Ostrava - M
 oravská Ostrava
SUMMARY:EX-U20M-2C: Ústí n. L.-Nový Jičín
END:VEVENT
BEGIN:VEVENT
UID:65666361-3564-4631-b131-633737656437
DTSTAMP:20260424T075752Z
DESCRIPTION:2/6 Odolena Voda - Příbram 1:3 (19\,-20\,-23\,-21)
DTSTART;TZID=Europe/Berlin:20241006T090000
DTEND;TZID=Europe/Berlin:20241006T110000
LOCATION:Hala Janáčkova konzervatoř Ostrava\, Českobratrská 958 Ostrava - M
 oravská Ostrava
SUMMARY:EX-U20M-2C: Odolena Voda-Příbram
END:VEVENT
BEGIN:VEVENT
UID:31323837-3835-4231-b932-373061663337
DTSTAMP:20260424T075752Z
DESCRIPTION:2/7 VK Ostrava - Ústí n. L. 0:3 (-25\,-17\,-19)
DTSTART;TZID=Europe/Berlin:20241006T110000
DTEND;TZID=Europe/Berlin:20241006T130000
LOCATION:Hala Janáčkova konzervatoř Ostrava\, Českobratrská 958 Ostrava - M
 oravská Ostrava
SUMMARY:EX-U20M-2C: VK Ostrava-Ústí n. L.
END:VEVENT
BEGIN:VEVENT
UID:34373139-3030-4333-a165-303764346464
DTSTAMP:20260424T075752Z
DESCRIPTION:2/8 Nový Jičín - Odolena Voda 3:1 (23\,-20\,15\,17)
DTSTART;TZID=Europe/Berlin:20241006T130000
DTEND;TZID=Europe/Berlin:20241006T150000
LOCATION:Hala Janáčkova konzervatoř Ostrava\, Českobratrská 958 Ostrava - M
 oravská Ostrava
SUMMARY:EX-U20M-2C: Nový Jičín-Odolena Voda
END:VEVENT
BEGIN:VEVENT
UID:34613861-3038-4462-b364-373831613331
DTSTAMP:20260424T075752Z
DESCRIPTION:2/9 Příbram - Ústí n. L. 1:3 (-23\,-23\,21\,-20)
DTSTART;TZID=Europe/Berlin:20241006T150000
DTEND;TZID=Europe/Berlin:20241006T170000
LOCATION:Hala Janáčkova konzervatoř Ostrava\, Českobratrská 958 Ostrava - M
 oravská Ostrava
SUMMARY:EX-U20M-2C: Příbram-Ústí n. L.
END:VEVENT
BEGIN:VEVENT
UID:30333735-6335-4233-b030-616562393533
DTSTAMP:20260424T075752Z
DESCRIPTION:2/10 Nový Jičín - VK Ostrava 3:1 (22\,-23\,20\,23)
DTSTART;TZID=Europe/Berlin:20241006T170000
DTEND;TZID=Europe/Berlin:20241006T190000
LOCATION:Hala Janáčkova konzervatoř Ostrava\, Českobratrská 958 Ostrava - M
 oravská Ostrava
SUMMARY:EX-U20M-2C: Nový Jičín-VK Ostrava
END:VEVENT
END:VCALENDAR
