BEGIN:VCALENDAR
VERSION:2.0
PRODID:-//CP-U16M-Z1F//NONSGML kigkonsult.se iCalcreator 2.41.80//
CALSCALE:GREGORIAN
UID:30653131-3061-4562-a135-646331393565
BEGIN:VEVENT
UID:36303839-3534-4031-b538-363963653732
DTSTAMP:20260424T165345Z
DESCRIPTION:1/1 Prosek A - VSK Český Krumlov 2:0 (15\,8)
DTSTART;TZID=Europe/Berlin:20241019T113000
DTEND;TZID=Europe/Berlin:20241019T133000
LOCATION:SH SK Prosek\, Lovosická 559 Praha - Letňany
SUMMARY:CP-U16M-Z1F: Prosek A-VSK Český Krumlov
END:VEVENT
BEGIN:VEVENT
UID:39613165-6635-4731-a266-396136373861
DTSTAMP:20260424T165345Z
DESCRIPTION:2/2 Kladno - Prosek B 0:2 (-22\,-16)
DTSTART;TZID=Europe/Berlin:20241019T123000
DTEND;TZID=Europe/Berlin:20241019T143000
LOCATION:Kladenská sportovní hala\, Sportovců 817 Kladno - Rozdělov
SUMMARY:CP-U16M-Z1F: Kladno-Prosek B
END:VEVENT
BEGIN:VEVENT
UID:62343737-3932-4435-a464-386639666338
DTSTAMP:20260424T165345Z
DESCRIPTION:3/3 VSK Český Krumlov - Prosek B 2:1 (21\,-17\,11)
DTSTART;TZID=Europe/Berlin:20241019T133000
DTEND;TZID=Europe/Berlin:20241019T153000
LOCATION:ZŠ Za Nádražím Český Krumlov\, Za Nádražím 222 Český Krumlov - Nád
 ražní Předměstí
SUMMARY:CP-U16M-Z1F: VSK Český Krumlov-Prosek B
END:VEVENT
BEGIN:VEVENT
UID:61626138-3436-4439-a331-643039613138
DTSTAMP:20260424T165345Z
DESCRIPTION:4/4 Prosek A - Kladno 2:0 (12\,12)
DTSTART;TZID=Europe/Berlin:20241019T143000
DTEND;TZID=Europe/Berlin:20241019T163000
LOCATION:SH SK Prosek\, Lovosická 559 Praha - Letňany
SUMMARY:CP-U16M-Z1F: Prosek A-Kladno
END:VEVENT
BEGIN:VEVENT
UID:64653636-3438-4234-a536-313531643763
DTSTAMP:20260424T165345Z
DESCRIPTION:5/5 Kladno - VSK Český Krumlov 2:0 (22\,8)
DTSTART;TZID=Europe/Berlin:20241019T153000
DTEND;TZID=Europe/Berlin:20241019T173000
LOCATION:Kladenská sportovní hala\, Sportovců 817 Kladno - Rozdělov
SUMMARY:CP-U16M-Z1F: Kladno-VSK Český Krumlov
END:VEVENT
BEGIN:VEVENT
UID:37643962-6333-4165-a238-623261326338
DTSTAMP:20260424T165345Z
DESCRIPTION:6/6 Prosek B - Prosek A 0:2 (-10\,-16)
DTSTART;TZID=Europe/Berlin:20241019T163000
DTEND;TZID=Europe/Berlin:20241019T183000
LOCATION:SH SK Prosek\, Lovosická 559 Praha - Letňany
SUMMARY:CP-U16M-Z1F: Prosek B-Prosek A
END:VEVENT
END:VCALENDAR
