BEGIN:VCALENDAR
VERSION:2.0
PRODID:-//CP-U16M-Z1K//NONSGML kigkonsult.se iCalcreator 2.41.80//
CALSCALE:GREGORIAN
UID:63613631-3566-4938-b435-623036323163
BEGIN:VEVENT
UID:65396636-3463-4630-b738-653961633962
DTSTAMP:20260424T233532Z
DESCRIPTION:1/1 SKV Ústí n.L. - Odolena Voda 0:2 (-23\,-24)
DTSTART;TZID=Europe/Berlin:20241020T090000
DTEND;TZID=Europe/Berlin:20241020T110000
LOCATION:ZŠ Rabasova\, Rabasova 3282 Ústí nad Labem - Severní Terasa
SUMMARY:CP-U16M-Z1K: SKV Ústí n.L.-Odolena Voda
END:VEVENT
BEGIN:VEVENT
UID:65666136-3638-4137-a432-373365623764
DTSTAMP:20260424T233532Z
DESCRIPTION:2/2 TJ Slavia HK - SKV Ústí n.L. 2:0 (20\,16)
DTSTART;TZID=Europe/Berlin:20241020T100000
DTEND;TZID=Europe/Berlin:20241020T120000
LOCATION:TJ Slavia Hradec Králové\, Víta Nejedlého 1216 Hradec Králové
SUMMARY:CP-U16M-Z1K: TJ Slavia HK-SKV Ústí n.L.
END:VEVENT
BEGIN:VEVENT
UID:34323739-3363-4537-b630-393131346137
DTSTAMP:20260424T233532Z
DESCRIPTION:3/3 Odolena Voda - TJ Slavia HK 0:2 (-17\,-20)
DTSTART;TZID=Europe/Berlin:20241020T120000
DTEND;TZID=Europe/Berlin:20241020T140000
LOCATION:Sportovní hala\, Ke Stadionu 375 Odolena Voda
SUMMARY:CP-U16M-Z1K: Odolena Voda-TJ Slavia HK
END:VEVENT
END:VCALENDAR
