BEGIN:VCALENDAR
VERSION:2.0
PRODID:-//CP-U16M-Z1M//NONSGML kigkonsult.se iCalcreator 2.41.80//
CALSCALE:GREGORIAN
UID:63636338-3736-4163-b233-373362383166
BEGIN:VEVENT
UID:61333138-6361-4230-b835-616535663537
DTSTAMP:20260424T190101Z
DESCRIPTION:1/1 Příbram B - Prosek B 2:1 (-28\,14\,8)
DTSTART;TZID=Europe/Berlin:20241020T090000
DTEND;TZID=Europe/Berlin:20241020T110000
LOCATION:Tělocvična ZŠ Balbínova\, Balbínova 328 Příbram - Příbram II
SUMMARY:CP-U16M-Z1M: Příbram B-Prosek B
END:VEVENT
BEGIN:VEVENT
UID:62373339-6265-4335-b062-386539313531
DTSTAMP:20260424T190101Z
DESCRIPTION:2/2 Klatovy - Příbram B 0:2 (-19\,-19)
DTSTART;TZID=Europe/Berlin:20241020T110000
DTEND;TZID=Europe/Berlin:20241020T130000
LOCATION:Sportovní hala ZŠ Čapkova\, Čapkova 136 Klatovy - Klatovy V
SUMMARY:CP-U16M-Z1M: Klatovy-Příbram B
END:VEVENT
BEGIN:VEVENT
UID:39613361-6366-4337-b532-303463343066
DTSTAMP:20260424T190101Z
DESCRIPTION:3/3 Prosek B - Klatovy 2:1 (14\,-25\,11)
DTSTART;TZID=Europe/Berlin:20241020T120000
DTEND;TZID=Europe/Berlin:20241020T140000
SUMMARY:CP-U16M-Z1M: Prosek B-Klatovy
END:VEVENT
END:VCALENDAR
