BEGIN:VCALENDAR
VERSION:2.0
PRODID:-//CP-U16M-V1A//NONSGML kigkonsult.se iCalcreator 2.41.80//
CALSCALE:GREGORIAN
UID:32626532-3431-4937-a239-643736326430
BEGIN:VEVENT
UID:65646265-6363-4237-b365-353433393437
DTSTAMP:20260424T201901Z
DESCRIPTION:1/1 Volejbal Ostrava - Kojetín 2:0 (13\,22)
DTSTART;TZID=Europe/Berlin:20241019T110000
DTEND;TZID=Europe/Berlin:20241019T130000
LOCATION:Sportovní hala Brušperk\, Sportovní 584 Brušperk
SUMMARY:CP-U16M-V1A: Volejbal Ostrava-Kojetín
END:VEVENT
BEGIN:VEVENT
UID:38323561-3436-4565-b331-626266666463
DTSTAMP:20260424T201901Z
DESCRIPTION:2/2 Tělovýchovná jednota Jiskra Havlíčkův Brod z.s. - VK Rousín
 ov 0:2 (-16\,-17)
DTSTART;TZID=Europe/Berlin:20241019T120000
DTEND;TZID=Europe/Berlin:20241019T140000
LOCATION:Sportovní hala TJ Jiskra\, Ledečská 3028 Havlíčkův Brod
SUMMARY:CP-U16M-V1A: Tělovýchovná jednota Jiskra Havlíčkův Brod z.s.-VK Rou
 sínov
END:VEVENT
BEGIN:VEVENT
UID:36613432-3630-4836-a238-333162633538
DTSTAMP:20260424T201901Z
DESCRIPTION:3/3 VK Rousínov - Kojetín 2:0 (22\,20)
DTSTART;TZID=Europe/Berlin:20241019T130000
DTEND;TZID=Europe/Berlin:20241019T150000
SUMMARY:CP-U16M-V1A: VK Rousínov-Kojetín
END:VEVENT
BEGIN:VEVENT
UID:39366430-6232-4834-b333-636331336236
DTSTAMP:20260424T201901Z
DESCRIPTION:4/4 Tělovýchovná jednota Jiskra Havlíčkův Brod z.s. - Volejbal 
 Ostrava 0:2 (-9\,-14)
DTSTART;TZID=Europe/Berlin:20241019T140000
DTEND;TZID=Europe/Berlin:20241019T160000
LOCATION:Sportovní hala TJ Jiskra\, Ledečská 3028 Havlíčkův Brod
SUMMARY:CP-U16M-V1A: Tělovýchovná jednota Jiskra Havlíčkův Brod z.s.-Volejb
 al Ostrava
END:VEVENT
BEGIN:VEVENT
UID:33656632-3932-4465-b037-386561323031
DTSTAMP:20260424T201901Z
DESCRIPTION:5/5 Volejbal Ostrava - VK Rousínov 2:0 (15\,20)
DTSTART;TZID=Europe/Berlin:20241019T150000
DTEND;TZID=Europe/Berlin:20241019T170000
LOCATION:Sportovní hala Brušperk\, Sportovní 584 Brušperk
SUMMARY:CP-U16M-V1A: Volejbal Ostrava-VK Rousínov
END:VEVENT
BEGIN:VEVENT
UID:30373035-6138-4631-b463-333631643062
DTSTAMP:20260424T201901Z
DESCRIPTION:6/6 Kojetín - Tělovýchovná jednota Jiskra Havlíčkův Brod z.s. 2
 :0 (21\,23)
DTSTART;TZID=Europe/Berlin:20241019T160000
DTEND;TZID=Europe/Berlin:20241019T180000
LOCATION:Městská sportovní hala\, Hanusíkova 1476 Kojetín - Kojetín I-Město
SUMMARY:CP-U16M-V1A: Kojetín-Tělovýchovná jednota Jiskra Havlíčkův Brod z.s
 .
END:VEVENT
END:VCALENDAR
