BEGIN:VCALENDAR
VERSION:2.0
PRODID:-//P-U18Z-2A//NONSGML kigkonsult.se iCalcreator 2.41.80//
CALSCALE:GREGORIAN
UID:66386362-6164-4264-a136-386234303562
BEGIN:VEVENT
UID:35306465-3666-4232-a239-396462623061
DTSTAMP:20260425T103553Z
DESCRIPTION:1/1 Volejbal Plzeň B - Mirošov 2:0 (17\,15)
DTSTART;TZID=Europe/Berlin:20241110T090000
DTEND;TZID=Europe/Berlin:20241110T110000
LOCATION:Sokolovna Mirošov\, Skořická 86 Mirošov
SUMMARY:P-U18Z-2A: Volejbal Plzeň B-Mirošov
END:VEVENT
BEGIN:VEVENT
UID:33336266-6636-4137-a365-663639333738
DTSTAMP:20260425T103553Z
DESCRIPTION:2/2 Slavia Plzeň A - Lhota 1:2 (15\,-22\,-11)
DTSTART;TZID=Europe/Berlin:20241110T101500
DTEND;TZID=Europe/Berlin:20241110T121500
LOCATION:Sokolovna Mirošov\, Skořická 86 Mirošov
SUMMARY:P-U18Z-2A: Slavia Plzeň A-Lhota
END:VEVENT
BEGIN:VEVENT
UID:30313635-3035-4437-b632-663934663362
DTSTAMP:20260425T103553Z
DESCRIPTION:3/3 Lhota - Mirošov 0:2 (-15\,-21)
DTSTART;TZID=Europe/Berlin:20241110T113000
DTEND;TZID=Europe/Berlin:20241110T133000
LOCATION:Sokolovna Mirošov\, Skořická 86 Mirošov
SUMMARY:P-U18Z-2A: Lhota-Mirošov
END:VEVENT
BEGIN:VEVENT
UID:30653736-3966-4635-a334-303665376166
DTSTAMP:20260425T103553Z
DESCRIPTION:4/4 Slavia Plzeň A - Volejbal Plzeň B 2:1 (-19\,23\,12)
DTSTART;TZID=Europe/Berlin:20241110T124500
DTEND;TZID=Europe/Berlin:20241110T144500
LOCATION:Sokolovna Mirošov\, Skořická 86 Mirošov
SUMMARY:P-U18Z-2A: Slavia Plzeň A-Volejbal Plzeň B
END:VEVENT
BEGIN:VEVENT
UID:35393533-3331-4263-a631-646436353337
DTSTAMP:20260425T103553Z
DESCRIPTION:5/5 Volejbal Plzeň B - Lhota 2:0 (18\,8)
DTSTART;TZID=Europe/Berlin:20241110T140000
DTEND;TZID=Europe/Berlin:20241110T160000
LOCATION:Sokolovna Mirošov\, Skořická 86 Mirošov
SUMMARY:P-U18Z-2A: Volejbal Plzeň B-Lhota
END:VEVENT
BEGIN:VEVENT
UID:65303236-3930-4032-b065-643534383762
DTSTAMP:20260425T103553Z
DESCRIPTION:6/6 Mirošov - Slavia Plzeň A 1:2 (-22\,26\,-8)
DTSTART;TZID=Europe/Berlin:20241110T151500
DTEND;TZID=Europe/Berlin:20241110T171500
LOCATION:Sokolovna Mirošov\, Skořická 86 Mirošov
SUMMARY:P-U18Z-2A: Mirošov-Slavia Plzeň A
END:VEVENT
END:VCALENDAR
