BEGIN:VCALENDAR
VERSION:2.0
PRODID:-//PA-U16Z-D-3KOLO//NONSGML kigkonsult.se iCalcreator 2.41.80//
CALSCALE:GREGORIAN
UID:61656265-6435-4830-a438-386362306431
BEGIN:VEVENT
UID:34396663-6336-4663-a433-353330393164
DTSTAMP:20260422T183101Z
DESCRIPTION:1/1 SKO Hlinsko - Sokol Pardubice I. C 3:1 (20\,-23\,24\,20)\nG
 ymnázium K.V.Raise
DTSTART;TZID=Europe/Berlin:20241110T000000
DTEND;TZID=Europe/Berlin:20241110T020000
LOCATION:Tělocvična Gymnázium\, Adámkova třída 55 Hlinsko
SUMMARY:PA-U16Z-D-3KOLO: SKO Hlinsko-Sokol Pardubice I. C
END:VEVENT
BEGIN:VEVENT
UID:61316637-3235-4162-a530-653835353565
DTSTAMP:20260422T183101Z
DESCRIPTION:1/2 VK Choceň - Sokol Pardubice I. C 3:0 (9\,15\,15)\nGymnázium
  K.V.Raise
DTSTART;TZID=Europe/Berlin:20241110T090000
DTEND;TZID=Europe/Berlin:20241110T110000
LOCATION:Tělocvična Gymnázium\, Adámkova třída 55 Hlinsko
SUMMARY:PA-U16Z-D-3KOLO: VK Choceň-Sokol Pardubice I. C
END:VEVENT
BEGIN:VEVENT
UID:34613130-3530-4632-a531-363839633933
DTSTAMP:20260422T183101Z
DESCRIPTION:1/3 VK Choceň - SKO Hlinsko 3:0 (17\,17\,20)\nGymnázium K.V.Rai
 se
DTSTART;TZID=Europe/Berlin:20241110T090000
DTEND;TZID=Europe/Berlin:20241110T110000
LOCATION:Tělocvična Gymnázium\, Adámkova třída 55 Hlinsko
SUMMARY:PA-U16Z-D-3KOLO: VK Choceň-SKO Hlinsko
END:VEVENT
END:VCALENDAR
