BEGIN:VCALENDAR
VERSION:2.0
PRODID:-//PP-U14Z-3-B//NONSGML kigkonsult.se iCalcreator 2.41.80//
CALSCALE:GREGORIAN
UID:63333364-3938-4366-b264-363564396631
BEGIN:VEVENT
UID:38363863-6335-4738-b731-666238613036
DTSTAMP:20260421T210101Z
DESCRIPTION:1/1 Volejbal Vršovice - VK Lvi Praha A 2:0 (16\,23)
DTSTART;TZID=Europe/Berlin:20241109T090000
DTEND;TZID=Europe/Berlin:20241109T110000
LOCATION:FZŠ Brdičkova\, Brdičkova 1878 Praha - Stodůlky
SUMMARY:PP-U14Z-3-B: Volejbal Vršovice-VK Lvi Praha A
END:VEVENT
BEGIN:VEVENT
UID:61356666-3937-4465-a566-336465363237
DTSTAMP:20260421T210101Z
DESCRIPTION:2/2 SK Dansport Praha - Střešovice 1:2 (23\,-17\,-5)
DTSTART;TZID=Europe/Berlin:20241109T100000
DTEND;TZID=Europe/Berlin:20241109T120000
LOCATION:FZŠ Brdičkova\, Brdičkova 1878 Praha - Stodůlky
SUMMARY:PP-U14Z-3-B: SK Dansport Praha-Střešovice
END:VEVENT
BEGIN:VEVENT
UID:64613135-3263-4663-b365-643230316235
DTSTAMP:20260421T210101Z
DESCRIPTION:3/3 VK Lvi Praha A - Střešovice 0:2 (-9\,-14)
DTSTART;TZID=Europe/Berlin:20241109T110000
DTEND;TZID=Europe/Berlin:20241109T130000
LOCATION:FZŠ Brdičkova\, Brdičkova 1878 Praha - Stodůlky
SUMMARY:PP-U14Z-3-B: VK Lvi Praha A-Střešovice
END:VEVENT
BEGIN:VEVENT
UID:65353136-3362-4264-b339-313565323265
DTSTAMP:20260421T210101Z
DESCRIPTION:4/4 Volejbal Vršovice - SK Dansport Praha 0:2 (-15\,-9)
DTSTART;TZID=Europe/Berlin:20241109T120000
DTEND;TZID=Europe/Berlin:20241109T140000
LOCATION:FZŠ Brdičkova\, Brdičkova 1878 Praha - Stodůlky
SUMMARY:PP-U14Z-3-B: Volejbal Vršovice-SK Dansport Praha
END:VEVENT
BEGIN:VEVENT
UID:31363834-3132-4464-b032-633236306231
DTSTAMP:20260421T210101Z
DESCRIPTION:5/5 SK Dansport Praha - VK Lvi Praha A 2:0 (14\,7)
DTSTART;TZID=Europe/Berlin:20241109T130000
DTEND;TZID=Europe/Berlin:20241109T150000
LOCATION:FZŠ Brdičkova\, Brdičkova 1878 Praha - Stodůlky
SUMMARY:PP-U14Z-3-B: SK Dansport Praha-VK Lvi Praha A
END:VEVENT
BEGIN:VEVENT
UID:34326662-6466-4238-b539-356436353638
DTSTAMP:20260421T210101Z
DESCRIPTION:6/6 Střešovice - Volejbal Vršovice 2:0 (11\,20)
DTSTART;TZID=Europe/Berlin:20241109T140000
DTEND;TZID=Europe/Berlin:20241109T160000
LOCATION:FZŠ Brdičkova\, Brdičkova 1878 Praha - Stodůlky
SUMMARY:PP-U14Z-3-B: Střešovice-Volejbal Vršovice
END:VEVENT
END:VCALENDAR
