BEGIN:VCALENDAR
VERSION:2.0
PRODID:-//ST-U16Z-S22//NONSGML kigkonsult.se iCalcreator 2.41.80//
CALSCALE:GREGORIAN
UID:37666233-3439-4061-b930-636136316266
BEGIN:VEVENT
UID:38346437-3964-4633-a263-623732336133
DTSTAMP:20260421T223100Z
DESCRIPTION:1/1 Rakovník - Neratovice 0:2 (-17\,-15)\nPořadatel: VK Rakovní
 k
DTSTART;TZID=Europe/Berlin:20241117T100000
DTEND;TZID=Europe/Berlin:20241117T120000
LOCATION:Tělocvična 3. ZŠ Rakovník\, Okružní 2331 Rakovník - Rakovník II
SUMMARY:ST-U16Z-S22: Rakovník-Neratovice
END:VEVENT
BEGIN:VEVENT
UID:34633031-3132-4131-b465-623535383563
DTSTAMP:20260421T223100Z
DESCRIPTION:1/2 Tuchlovice - Brandýs nad Labem 0:2 (-15\,-14)\nPořadatel: 2
  hřiště
DTSTART;TZID=Europe/Berlin:20241117T100000
DTEND;TZID=Europe/Berlin:20241117T120000
LOCATION:ZŠ Tuchlovice\, Školní 277 Tuchlovice
SUMMARY:ST-U16Z-S22: Tuchlovice-Brandýs nad Labem
END:VEVENT
BEGIN:VEVENT
UID:31643064-3731-4339-b437-323633313062
DTSTAMP:20260421T223100Z
DESCRIPTION:1/3 Králův Dvůr A - AŠ Mladá Boleslav 0:2 (-15\,-8)
DTSTART;TZID=Europe/Berlin:20241117T100000
DTEND;TZID=Europe/Berlin:20241117T120000
LOCATION:Sportovní hala Chýně\, Bolzanova 800 Chýně
SUMMARY:ST-U16Z-S22: Králův Dvůr A-AŠ Mladá Boleslav
END:VEVENT
BEGIN:VEVENT
UID:35643634-6639-4461-b766-343765323034
DTSTAMP:20260421T223100Z
DESCRIPTION:1/4 Tuchlovice - Neratovice 0:2 (-16\,-14)
DTSTART;TZID=Europe/Berlin:20241117T100000
DTEND;TZID=Europe/Berlin:20241117T120000
LOCATION:ZŠ Tuchlovice\, Školní 277 Tuchlovice
SUMMARY:ST-U16Z-S22: Tuchlovice-Neratovice
END:VEVENT
BEGIN:VEVENT
UID:64663732-3634-4638-a433-663962373664
DTSTAMP:20260421T223100Z
DESCRIPTION:1/5 Rakovník - AŠ Mladá Boleslav 0:2 (-20\,-23)
DTSTART;TZID=Europe/Berlin:20241117T100000
DTEND;TZID=Europe/Berlin:20241117T120000
LOCATION:Tělocvična 3. ZŠ Rakovník\, Okružní 2331 Rakovník - Rakovník II
SUMMARY:ST-U16Z-S22: Rakovník-AŠ Mladá Boleslav
END:VEVENT
BEGIN:VEVENT
UID:37316135-3430-4565-b765-333639346438
DTSTAMP:20260421T223100Z
DESCRIPTION:1/6 Králův Dvůr A - Brandýs nad Labem 0:2 (-18\,-21)
DTSTART;TZID=Europe/Berlin:20241117T100000
DTEND;TZID=Europe/Berlin:20241117T120000
LOCATION:Sportovní hala Chýně\, Bolzanova 800 Chýně
SUMMARY:ST-U16Z-S22: Králův Dvůr A-Brandýs nad Labem
END:VEVENT
BEGIN:VEVENT
UID:35643865-3666-4238-b135-306161663636
DTSTAMP:20260421T223100Z
DESCRIPTION:1/7 Tuchlovice - AŠ Mladá Boleslav 0:2 (-11\,-10)
DTSTART;TZID=Europe/Berlin:20241117T100000
DTEND;TZID=Europe/Berlin:20241117T120000
LOCATION:ZŠ Tuchlovice\, Školní 277 Tuchlovice
SUMMARY:ST-U16Z-S22: Tuchlovice-AŠ Mladá Boleslav
END:VEVENT
BEGIN:VEVENT
UID:35373664-3938-4634-b466-396264353761
DTSTAMP:20260421T223100Z
DESCRIPTION:1/8 Králův Dvůr A - Neratovice 1:2 (20\,-10\,-8)
DTSTART;TZID=Europe/Berlin:20241117T100000
DTEND;TZID=Europe/Berlin:20241117T120000
LOCATION:Sportovní hala Chýně\, Bolzanova 800 Chýně
SUMMARY:ST-U16Z-S22: Králův Dvůr A-Neratovice
END:VEVENT
BEGIN:VEVENT
UID:64383064-3565-4766-b961-643534306265
DTSTAMP:20260421T223100Z
DESCRIPTION:1/9 Rakovník - Brandýs nad Labem 0:2 (-22\,-14)
DTSTART;TZID=Europe/Berlin:20241117T100000
DTEND;TZID=Europe/Berlin:20241117T120000
LOCATION:Tělocvična 3. ZŠ Rakovník\, Okružní 2331 Rakovník - Rakovník II
SUMMARY:ST-U16Z-S22: Rakovník-Brandýs nad Labem
END:VEVENT
BEGIN:VEVENT
UID:65383631-3738-4135-a563-636262636233
DTSTAMP:20260421T223100Z
DESCRIPTION:1/10 Říčany - Kunice 0:2 (-14\,-24)\nPořadatel: Volejbal Spirit
  Říčany
DTSTART;TZID=Europe/Berlin:20241117T100000
DTEND;TZID=Europe/Berlin:20241117T120000
LOCATION:ZŠ Bezručova\, Bezručova 94 Říčany - Radošovice
SUMMARY:ST-U16Z-S22: Říčany-Kunice
END:VEVENT
BEGIN:VEVENT
UID:32396535-6663-4935-b435-313163316236
DTSTAMP:20260421T223100Z
DESCRIPTION:1/11 Pečky - Lysá nad Labem. 1:2 (27\,-21\,-15)\nPořadatel: 1 h
 řiště
DTSTART;TZID=Europe/Berlin:20241117T100000
DTEND;TZID=Europe/Berlin:20241117T120000
LOCATION:PARKHALA\,  Pečky1039
SUMMARY:ST-U16Z-S22: Pečky-Lysá nad Labem.
END:VEVENT
BEGIN:VEVENT
UID:39363062-3466-4234-a462-373438373037
DTSTAMP:20260421T223100Z
DESCRIPTION:1/12 Kunice - Pečky 2:0 (26\,21)
DTSTART;TZID=Europe/Berlin:20241117T100000
DTEND;TZID=Europe/Berlin:20241117T120000
LOCATION:ZŠ Kunice\, Na Návsi 60 Kunice
SUMMARY:ST-U16Z-S22: Kunice-Pečky
END:VEVENT
BEGIN:VEVENT
UID:32326238-3038-4464-b537-323734303361
DTSTAMP:20260421T223100Z
DESCRIPTION:1/13 Lysá nad Labem. - Říčany 1:2 (-25\,18\,-9)
DTSTART;TZID=Europe/Berlin:20241117T100000
DTEND;TZID=Europe/Berlin:20241117T120000
LOCATION:Sportovní hala V Aleji\, Komenského 2162 Lysá nad Labem
SUMMARY:ST-U16Z-S22: Lysá nad Labem.-Říčany
END:VEVENT
BEGIN:VEVENT
UID:36383666-6334-4939-b831-393339306430
DTSTAMP:20260421T223100Z
DESCRIPTION:1/14 Kunice - Lysá nad Labem. 2:0 (21\,19)
DTSTART;TZID=Europe/Berlin:20241117T100000
DTEND;TZID=Europe/Berlin:20241117T120000
LOCATION:ZŠ Kunice\, Na Návsi 60 Kunice
SUMMARY:ST-U16Z-S22: Kunice-Lysá nad Labem.
END:VEVENT
BEGIN:VEVENT
UID:62333037-6434-4139-a132-356462333533
DTSTAMP:20260421T223100Z
DESCRIPTION:1/15 Říčany - Pečky 1:2 (-17\,22\,-12)
DTSTART;TZID=Europe/Berlin:20241117T100000
DTEND;TZID=Europe/Berlin:20241117T120000
LOCATION:ZŠ Bezručova\, Bezručova 94 Říčany - Radošovice
SUMMARY:ST-U16Z-S22: Říčany-Pečky
END:VEVENT
BEGIN:VEVENT
UID:64333264-6432-4661-b038-643536303863
DTSTAMP:20260421T223100Z
DESCRIPTION:2/16 Neratovice - Lysá nad Labem. 2:0 (7\,21)\nPořadatel: TJ Ne
 ratovice
DTSTART;TZID=Europe/Berlin:20241201T090000
DTEND;TZID=Europe/Berlin:20241201T110000
LOCATION:sportovní hala TJ Neratovice \, Kpt. Jaroše 233 Neratovice
SUMMARY:ST-U16Z-S22: Neratovice-Lysá nad Labem.
END:VEVENT
BEGIN:VEVENT
UID:61306465-3462-4136-b634-653838316563
DTSTAMP:20260421T223100Z
DESCRIPTION:2/17 Brandýs nad Labem - Pečky 2:0 (6\,12)\nPořadatel: 2 hřiště
DTSTART;TZID=Europe/Berlin:20241201T090000
DTEND;TZID=Europe/Berlin:20241201T110000
LOCATION:Sokolovna\, Zápská 329 Brandýs nad Labem-Stará Boleslav - Brandýs 
 nad Labem
SUMMARY:ST-U16Z-S22: Brandýs nad Labem-Pečky
END:VEVENT
BEGIN:VEVENT
UID:65396136-6336-4765-b436-333561336466
DTSTAMP:20260421T223100Z
DESCRIPTION:2/18 AŠ Mladá Boleslav - Říčany 2:0 (12\,19)
DTSTART;TZID=Europe/Berlin:20241201T100000
DTEND;TZID=Europe/Berlin:20241201T120000
LOCATION:Městská Sportovní hala\, U stadionu 1322 Mladá Boleslav - Mladá Bo
 leslav II
SUMMARY:ST-U16Z-S22: AŠ Mladá Boleslav-Říčany
END:VEVENT
BEGIN:VEVENT
UID:64633334-6564-4531-b330-396638313337
DTSTAMP:20260421T223100Z
DESCRIPTION:2/19 Brandýs nad Labem - Lysá nad Labem. 2:0 (17\,18)
DTSTART;TZID=Europe/Berlin:20241201T100000
DTEND;TZID=Europe/Berlin:20241201T120000
LOCATION:Sokolovna\, Zápská 329 Brandýs nad Labem-Stará Boleslav - Brandýs 
 nad Labem
SUMMARY:ST-U16Z-S22: Brandýs nad Labem-Lysá nad Labem.
END:VEVENT
BEGIN:VEVENT
UID:30376238-3937-4936-b730-363161666332
DTSTAMP:20260421T223100Z
DESCRIPTION:2/20 Neratovice - Říčany 2:0 (22\,16)
DTSTART;TZID=Europe/Berlin:20241201T100000
DTEND;TZID=Europe/Berlin:20241201T120000
LOCATION:sportovní hala TJ Neratovice \, Kpt. Jaroše 233 Neratovice
SUMMARY:ST-U16Z-S22: Neratovice-Říčany
END:VEVENT
BEGIN:VEVENT
UID:65383234-6331-4539-b334-396533316361
DTSTAMP:20260421T223100Z
DESCRIPTION:2/21 AŠ Mladá Boleslav - Pečky 2:1 (9\,-20\,6)
DTSTART;TZID=Europe/Berlin:20241201T100000
DTEND;TZID=Europe/Berlin:20241201T120000
LOCATION:Městská Sportovní hala\, U stadionu 1322 Mladá Boleslav - Mladá Bo
 leslav II
SUMMARY:ST-U16Z-S22: AŠ Mladá Boleslav-Pečky
END:VEVENT
BEGIN:VEVENT
UID:33626438-6461-4636-b462-626436313134
DTSTAMP:20260421T223100Z
DESCRIPTION:2/22 Brandýs nad Labem - Říčany 2:0 (15\,24)
DTSTART;TZID=Europe/Berlin:20241201T100000
DTEND;TZID=Europe/Berlin:20241201T120000
LOCATION:Sokolovna\, Zápská 329 Brandýs nad Labem-Stará Boleslav - Brandýs 
 nad Labem
SUMMARY:ST-U16Z-S22: Brandýs nad Labem-Říčany
END:VEVENT
BEGIN:VEVENT
UID:36663032-3133-4130-a531-356237633135
DTSTAMP:20260421T223100Z
DESCRIPTION:2/23 AŠ Mladá Boleslav - Lysá nad Labem. 2:0 (13\,20)
DTSTART;TZID=Europe/Berlin:20241201T100000
DTEND;TZID=Europe/Berlin:20241201T120000
LOCATION:Městská Sportovní hala\, U stadionu 1322 Mladá Boleslav - Mladá Bo
 leslav II
SUMMARY:ST-U16Z-S22: AŠ Mladá Boleslav-Lysá nad Labem.
END:VEVENT
BEGIN:VEVENT
UID:34316534-6165-4532-b135-353837636666
DTSTAMP:20260421T223100Z
DESCRIPTION:2/24 Neratovice - Pečky 1:2 (23\,-20\,-10)
DTSTART;TZID=Europe/Berlin:20241201T100000
DTEND;TZID=Europe/Berlin:20241201T120000
LOCATION:sportovní hala TJ Neratovice \, Kpt. Jaroše 233 Neratovice
SUMMARY:ST-U16Z-S22: Neratovice-Pečky
END:VEVENT
BEGIN:VEVENT
UID:38306139-6337-4539-b337-383566333561
DTSTAMP:20260421T223100Z
DESCRIPTION:2/25 Tuchlovice - Králův Dvůr A 2:1 (-22\,23\,12)\nPořadatel: V
 K Tuchlovice
DTSTART;TZID=Europe/Berlin:20241201T100000
DTEND;TZID=Europe/Berlin:20241201T120000
LOCATION:ZŠ Tuchlovice\, Školní 277 Tuchlovice
SUMMARY:ST-U16Z-S22: Tuchlovice-Králův Dvůr A
END:VEVENT
BEGIN:VEVENT
UID:30633361-6234-4438-b632-336335343032
DTSTAMP:20260421T223100Z
DESCRIPTION:2/26 Rakovník - Kunice 1:2 (16\,-11\,-8)\nPořadatel: 1 hřiště
DTSTART;TZID=Europe/Berlin:20241201T100000
DTEND;TZID=Europe/Berlin:20241201T120000
LOCATION:Tělocvična 3. ZŠ Rakovník\, Okružní 2331 Rakovník - Rakovník II
SUMMARY:ST-U16Z-S22: Rakovník-Kunice
END:VEVENT
BEGIN:VEVENT
UID:37636362-3061-4432-b766-346631346337
DTSTAMP:20260421T223100Z
DESCRIPTION:2/27 Králův Dvůr A - Rakovník 1:2 (-22\,10\,-13)
DTSTART;TZID=Europe/Berlin:20241201T100000
DTEND;TZID=Europe/Berlin:20241201T120000
LOCATION:Sportovní hala Chýně\, Bolzanova 800 Chýně
SUMMARY:ST-U16Z-S22: Králův Dvůr A-Rakovník
END:VEVENT
BEGIN:VEVENT
UID:36353839-3035-4465-a534-336566303937
DTSTAMP:20260421T223100Z
DESCRIPTION:2/28 Kunice - Tuchlovice 2:1 (-10\,18\,10)
DTSTART;TZID=Europe/Berlin:20241201T100000
DTEND;TZID=Europe/Berlin:20241201T120000
LOCATION:ZŠ Kunice\, Na Návsi 60 Kunice
SUMMARY:ST-U16Z-S22: Kunice-Tuchlovice
END:VEVENT
BEGIN:VEVENT
UID:36663265-6136-4434-b131-383837386531
DTSTAMP:20260421T223100Z
DESCRIPTION:2/29 Králův Dvůr A - Kunice 0:2 (-19\,-24)
DTSTART;TZID=Europe/Berlin:20241201T100000
DTEND;TZID=Europe/Berlin:20241201T120000
LOCATION:Sportovní hala Chýně\, Bolzanova 800 Chýně
SUMMARY:ST-U16Z-S22: Králův Dvůr A-Kunice
END:VEVENT
BEGIN:VEVENT
UID:37306364-6466-4262-b436-613932363731
DTSTAMP:20260421T223100Z
DESCRIPTION:2/30 Tuchlovice - Rakovník 2:0 (21\,17)
DTSTART;TZID=Europe/Berlin:20241201T100000
DTEND;TZID=Europe/Berlin:20241201T120000
LOCATION:ZŠ Tuchlovice\, Školní 277 Tuchlovice
SUMMARY:ST-U16Z-S22: Tuchlovice-Rakovník
END:VEVENT
BEGIN:VEVENT
UID:37356632-3563-4534-a463-656131633739
DTSTAMP:20260421T223100Z
DESCRIPTION:3/31 Lysá nad Labem. - Tuchlovice 0:2 (-17\,-9)\nPořadatel: TK 
 Slovan Lysá nad Labem
DTSTART;TZID=Europe/Berlin:20241214T090000
DTEND;TZID=Europe/Berlin:20241214T110000
LOCATION:Sportovní hala V Aleji\, Komenského 2162 Lysá nad Labem
SUMMARY:ST-U16Z-S22: Lysá nad Labem.-Tuchlovice
END:VEVENT
BEGIN:VEVENT
UID:61336263-3135-4430-b833-386165386339
DTSTAMP:20260421T223100Z
DESCRIPTION:3/32 Pečky - Králův Dvůr A 2:0 (18\,17)\nPořadatel: 2 hřiště
DTSTART;TZID=Europe/Berlin:20241214T090000
DTEND;TZID=Europe/Berlin:20241214T110000
LOCATION:PARKHALA\,  Pečky1039
SUMMARY:ST-U16Z-S22: Pečky-Králův Dvůr A
END:VEVENT
BEGIN:VEVENT
UID:30633137-6265-4734-b731-613731366430
DTSTAMP:20260421T223100Z
DESCRIPTION:3/33 Říčany - Rakovník 2:1 (-19\,15\,13)
DTSTART;TZID=Europe/Berlin:20241214T100000
DTEND;TZID=Europe/Berlin:20241214T120000
LOCATION:ZŠ Bezručova\, Bezručova 94 Říčany - Radošovice
SUMMARY:ST-U16Z-S22: Říčany-Rakovník
END:VEVENT
BEGIN:VEVENT
UID:38343138-6361-4965-b230-616261663637
DTSTAMP:20260421T223100Z
DESCRIPTION:3/34 Pečky - Tuchlovice 2:0 (18\,18)
DTSTART;TZID=Europe/Berlin:20241214T100000
DTEND;TZID=Europe/Berlin:20241214T120000
LOCATION:PARKHALA\,  Pečky1039
SUMMARY:ST-U16Z-S22: Pečky-Tuchlovice
END:VEVENT
BEGIN:VEVENT
UID:36336333-3434-4130-a432-626230363165
DTSTAMP:20260421T223100Z
DESCRIPTION:3/35 Lysá nad Labem. - Rakovník 2:0 (16\,11)
DTSTART;TZID=Europe/Berlin:20241214T100000
DTEND;TZID=Europe/Berlin:20241214T120000
LOCATION:Sportovní hala V Aleji\, Komenského 2162 Lysá nad Labem
SUMMARY:ST-U16Z-S22: Lysá nad Labem.-Rakovník
END:VEVENT
BEGIN:VEVENT
UID:36636134-3431-4532-b465-313961373930
DTSTAMP:20260421T223100Z
DESCRIPTION:3/36 Říčany - Králův Dvůr A 2:0 (23\,19)
DTSTART;TZID=Europe/Berlin:20241214T100000
DTEND;TZID=Europe/Berlin:20241214T120000
LOCATION:ZŠ Bezručova\, Bezručova 94 Říčany - Radošovice
SUMMARY:ST-U16Z-S22: Říčany-Králův Dvůr A
END:VEVENT
BEGIN:VEVENT
UID:32663637-3631-4339-b134-313464373832
DTSTAMP:20260421T223100Z
DESCRIPTION:3/37 Pečky - Rakovník 2:1 (-21\,22\,9)
DTSTART;TZID=Europe/Berlin:20241214T100000
DTEND;TZID=Europe/Berlin:20241214T120000
LOCATION:PARKHALA\,  Pečky1039
SUMMARY:ST-U16Z-S22: Pečky-Rakovník
END:VEVENT
BEGIN:VEVENT
UID:36333131-6639-4435-b135-393339656262
DTSTAMP:20260421T223100Z
DESCRIPTION:3/38 Říčany - Tuchlovice 1:2 (22\,-13\,-2)
DTSTART;TZID=Europe/Berlin:20241214T100000
DTEND;TZID=Europe/Berlin:20241214T120000
LOCATION:ZŠ Bezručova\, Bezručova 94 Říčany - Radošovice
SUMMARY:ST-U16Z-S22: Říčany-Tuchlovice
END:VEVENT
BEGIN:VEVENT
UID:65336664-3531-4035-b335-393230323364
DTSTAMP:20260421T223100Z
DESCRIPTION:3/39 Lysá nad Labem. - Králův Dvůr A 1:2 (-14\,23\,-13)
DTSTART;TZID=Europe/Berlin:20241214T100000
DTEND;TZID=Europe/Berlin:20241214T120000
LOCATION:Sportovní hala V Aleji\, Komenského 2162 Lysá nad Labem
SUMMARY:ST-U16Z-S22: Lysá nad Labem.-Králův Dvůr A
END:VEVENT
BEGIN:VEVENT
UID:30373161-3530-4666-b938-303264336264
DTSTAMP:20260421T223100Z
DESCRIPTION:3/40 Kunice - Neratovice 2:0 (15\,25)\nPořadatel: TJ Kunice
DTSTART;TZID=Europe/Berlin:20241214T090000
DTEND;TZID=Europe/Berlin:20241214T110000
LOCATION:ZŠ Strančice\, Revoluční 170 Strančice
SUMMARY:ST-U16Z-S22: Kunice-Neratovice
END:VEVENT
BEGIN:VEVENT
UID:35333332-3932-4039-b061-386333666438
DTSTAMP:20260421T223100Z
DESCRIPTION:3/41 Brandýs nad Labem - AŠ Mladá Boleslav 1:2 (22\,-14\,-7)\nP
 ořadatel: 1 hřiště
DTSTART;TZID=Europe/Berlin:20241214T100000
DTEND;TZID=Europe/Berlin:20241214T120000
LOCATION:Sokolovna\, Zápská 329 Brandýs nad Labem-Stará Boleslav - Brandýs 
 nad Labem
SUMMARY:ST-U16Z-S22: Brandýs nad Labem-AŠ Mladá Boleslav
END:VEVENT
BEGIN:VEVENT
UID:31363239-3165-4466-b063-313162643933
DTSTAMP:20260421T223100Z
DESCRIPTION:3/42 Neratovice - Brandýs nad Labem 0:2 (-13\,-10)
DTSTART;TZID=Europe/Berlin:20241214T100000
DTEND;TZID=Europe/Berlin:20241214T120000
LOCATION:sportovní hala TJ Neratovice \, Kpt. Jaroše 233 Neratovice
SUMMARY:ST-U16Z-S22: Neratovice-Brandýs nad Labem
END:VEVENT
BEGIN:VEVENT
UID:63323133-3634-4934-a338-346164386430
DTSTAMP:20260421T223100Z
DESCRIPTION:3/43 AŠ Mladá Boleslav - Kunice 2:0 (20\,6)
DTSTART;TZID=Europe/Berlin:20241214T100000
DTEND;TZID=Europe/Berlin:20241214T120000
LOCATION:Městská Sportovní hala\, U stadionu 1322 Mladá Boleslav - Mladá Bo
 leslav II
SUMMARY:ST-U16Z-S22: AŠ Mladá Boleslav-Kunice
END:VEVENT
BEGIN:VEVENT
UID:38643937-3336-4463-a231-303534353164
DTSTAMP:20260421T223100Z
DESCRIPTION:3/44 Neratovice - AŠ Mladá Boleslav 2:1 (-19\,19\,11)
DTSTART;TZID=Europe/Berlin:20241214T100000
DTEND;TZID=Europe/Berlin:20241214T120000
LOCATION:sportovní hala TJ Neratovice \, Kpt. Jaroše 233 Neratovice
SUMMARY:ST-U16Z-S22: Neratovice-AŠ Mladá Boleslav
END:VEVENT
BEGIN:VEVENT
UID:36663832-3661-4232-a365-623436343964
DTSTAMP:20260421T223100Z
DESCRIPTION:3/45 Kunice - Brandýs nad Labem 0:2 (-10\,-10)
DTSTART;TZID=Europe/Berlin:20241214T100000
DTEND;TZID=Europe/Berlin:20241214T120000
LOCATION:ZŠ Kunice\, Na Návsi 60 Kunice
SUMMARY:ST-U16Z-S22: Kunice-Brandýs nad Labem
END:VEVENT
END:VCALENDAR
