BEGIN:VCALENDAR
VERSION:2.0
PRODID:-//ST-U16Z-S3A2//NONSGML kigkonsult.se iCalcreator 2.41.80//
CALSCALE:GREGORIAN
UID:61323136-6137-4661-b434-306266633839
BEGIN:VEVENT
UID:61663432-3866-4562-a630-326533396330
DTSTAMP:20260421T210055Z
DESCRIPTION:1/1 Kolín A - Kutná Hora. 2:0 (19\,17)\nPořadatel: SK Volejbal 
 Kolín
DTSTART;TZID=Europe/Berlin:20241116T100000
DTEND;TZID=Europe/Berlin:20241116T120000
LOCATION:hala STAV\, SOŠ Kolín\, Brankovická 1417 Kolín - Kolín V
SUMMARY:ST-U16Z-S3A2: Kolín A-Kutná Hora.
END:VEVENT
BEGIN:VEVENT
UID:39326364-3361-4237-a265-306463663330
DTSTAMP:20260421T210055Z
DESCRIPTION:1/2 Kolín B - VK Mladá Boleslav 2:0 (17\,22)\nPořadatel: 2 hřiš
 tě
DTSTART;TZID=Europe/Berlin:20241116T100000
DTEND;TZID=Europe/Berlin:20241116T120000
LOCATION:hala STAV\, SOŠ Kolín\, Brankovická 1417 Kolín - Kolín V
SUMMARY:ST-U16Z-S3A2: Kolín B-VK Mladá Boleslav
END:VEVENT
BEGIN:VEVENT
UID:37373937-3563-4464-b462-333566356131
DTSTAMP:20260421T210055Z
DESCRIPTION:1/3 Kolín A - Malibu Mladá Boleslav A 0:2 (-9\,-18)
DTSTART;TZID=Europe/Berlin:20241116T100000
DTEND;TZID=Europe/Berlin:20241116T120000
LOCATION:hala STAV\, SOŠ Kolín\, Brankovická 1417 Kolín - Kolín V
SUMMARY:ST-U16Z-S3A2: Kolín A-Malibu Mladá Boleslav A
END:VEVENT
BEGIN:VEVENT
UID:34336261-3939-4762-a262-336665313531
DTSTAMP:20260421T210055Z
DESCRIPTION:1/4 Kutná Hora. - VK Mladá Boleslav 0:2 (-23\,-18)
DTSTART;TZID=Europe/Berlin:20241116T100000
DTEND;TZID=Europe/Berlin:20241116T120000
LOCATION:Klimeška\, Čáslavská 274 Kutná Hora - Karlov
SUMMARY:ST-U16Z-S3A2: Kutná Hora.-VK Mladá Boleslav
END:VEVENT
BEGIN:VEVENT
UID:33646561-6362-4135-a365-656666633137
DTSTAMP:20260421T210055Z
DESCRIPTION:1/5 Kolín B - Malibu Mladá Boleslav A 2:0 (23\,10)
DTSTART;TZID=Europe/Berlin:20241116T100000
DTEND;TZID=Europe/Berlin:20241116T120000
LOCATION:hala STAV\, SOŠ Kolín\, Brankovická 1417 Kolín - Kolín V
SUMMARY:ST-U16Z-S3A2: Kolín B-Malibu Mladá Boleslav A
END:VEVENT
BEGIN:VEVENT
UID:34323862-6431-4262-a664-633961623133
DTSTAMP:20260421T210055Z
DESCRIPTION:1/6 Kolín A - VK Mladá Boleslav 1:2 (-22\,24\,-11)
DTSTART;TZID=Europe/Berlin:20241116T100000
DTEND;TZID=Europe/Berlin:20241116T120000
LOCATION:hala STAV\, SOŠ Kolín\, Brankovická 1417 Kolín - Kolín V
SUMMARY:ST-U16Z-S3A2: Kolín A-VK Mladá Boleslav
END:VEVENT
BEGIN:VEVENT
UID:36623166-6633-4466-b964-383262616566
DTSTAMP:20260421T210055Z
DESCRIPTION:1/7 Kutná Hora. - Malibu Mladá Boleslav A 1:2 (15\,-17\,-14)
DTSTART;TZID=Europe/Berlin:20241116T100000
DTEND;TZID=Europe/Berlin:20241116T120000
LOCATION:Klimeška\, Čáslavská 274 Kutná Hora - Karlov
SUMMARY:ST-U16Z-S3A2: Kutná Hora.-Malibu Mladá Boleslav A
END:VEVENT
BEGIN:VEVENT
UID:62643238-3763-4332-b364-636663303831
DTSTAMP:20260421T210055Z
DESCRIPTION:1/8 Kolín A - Kolín B 2:0 (18\,22)
DTSTART;TZID=Europe/Berlin:20241116T100000
DTEND;TZID=Europe/Berlin:20241116T120000
LOCATION:hala STAV\, SOŠ Kolín\, Brankovická 1417 Kolín - Kolín V
SUMMARY:ST-U16Z-S3A2: Kolín A-Kolín B
END:VEVENT
BEGIN:VEVENT
UID:38616334-3930-4362-a239-313062383362
DTSTAMP:20260421T210055Z
DESCRIPTION:1/9 Čelákovice - VK Kostomlaty 1:2 (22\,-16\,-11)\nPořadatel: V
 SC Čelákovice
DTSTART;TZID=Europe/Berlin:20241117T100000
DTEND;TZID=Europe/Berlin:20241117T120000
LOCATION:Sportovní hala Vikomt\, U Učiliště 1683 Čelákovice
SUMMARY:ST-U16Z-S3A2: Čelákovice-VK Kostomlaty
END:VEVENT
BEGIN:VEVENT
UID:34393461-3439-4035-b730-336162383530
DTSTAMP:20260421T210055Z
DESCRIPTION:1/10 Milovice - VK Kostomlaty 0:2 (-19\,-18)\nPořadatel: 1 hřiš
 tě
DTSTART;TZID=Europe/Berlin:20241117T100000
DTEND;TZID=Europe/Berlin:20241117T120000
LOCATION:MŠ u Veverek\, Komenského 581 Milovice - Mladá
SUMMARY:ST-U16Z-S3A2: Milovice-VK Kostomlaty
END:VEVENT
BEGIN:VEVENT
UID:34306135-6337-4363-b662-336334333730
DTSTAMP:20260421T210055Z
DESCRIPTION:1/11 Milovice - Benátky nad Jizerou 0:2 (-17\,-19)
DTSTART;TZID=Europe/Berlin:20241117T100000
DTEND;TZID=Europe/Berlin:20241117T120000
LOCATION:MŠ u Veverek\, Komenského 581 Milovice - Mladá
SUMMARY:ST-U16Z-S3A2: Milovice-Benátky nad Jizerou
END:VEVENT
BEGIN:VEVENT
UID:65303531-3533-4566-b063-333431333431
DTSTAMP:20260421T210055Z
DESCRIPTION:1/12 Čelákovice - Benátky nad Jizerou 0:2 (-10\,-13)
DTSTART;TZID=Europe/Berlin:20241117T100000
DTEND;TZID=Europe/Berlin:20241117T120000
LOCATION:Sportovní hala Vikomt\, U Učiliště 1683 Čelákovice
SUMMARY:ST-U16Z-S3A2: Čelákovice-Benátky nad Jizerou
END:VEVENT
BEGIN:VEVENT
UID:32366262-3730-4732-a137-636237376138
DTSTAMP:20260421T210055Z
DESCRIPTION:1/13 Milovice - Nymburk B 2:1 (-23\,23\,8)
DTSTART;TZID=Europe/Berlin:20241117T100000
DTEND;TZID=Europe/Berlin:20241117T120000
LOCATION:MŠ u Veverek\, Komenského 581 Milovice - Mladá
SUMMARY:ST-U16Z-S3A2: Milovice-Nymburk B
END:VEVENT
BEGIN:VEVENT
UID:30646335-3431-4534-b536-356230613039
DTSTAMP:20260421T210055Z
DESCRIPTION:1/14 Čelákovice - Nymburk B 2:1 (30\,-23\,7)
DTSTART;TZID=Europe/Berlin:20241117T100000
DTEND;TZID=Europe/Berlin:20241117T120000
LOCATION:Sportovní hala Vikomt\, U Učiliště 1683 Čelákovice
SUMMARY:ST-U16Z-S3A2: Čelákovice-Nymburk B
END:VEVENT
BEGIN:VEVENT
UID:37343734-6666-4537-a237-656337343362
DTSTAMP:20260421T210055Z
DESCRIPTION:2/15 Kolín B - VK Kostomlaty 0:2 (-16\,-11)\nPořadatel: SK Vole
 jbal Kolín
DTSTART;TZID=Europe/Berlin:20241130T100000
DTEND;TZID=Europe/Berlin:20241130T120000
LOCATION:hala STAV\, SOŠ Kolín\, Brankovická 1417 Kolín - Kolín V
SUMMARY:ST-U16Z-S3A2: Kolín B-VK Kostomlaty
END:VEVENT
BEGIN:VEVENT
UID:64623438-3837-4763-a261-623035623765
DTSTAMP:20260421T210055Z
DESCRIPTION:2/16 Kutná Hora. - Nymburk B 2:0 (22\,12)\nPořadatel: 3 hřiště
DTSTART;TZID=Europe/Berlin:20241130T100000
DTEND;TZID=Europe/Berlin:20241130T120000
LOCATION:Klimeška\, Čáslavská 274 Kutná Hora - Karlov
SUMMARY:ST-U16Z-S3A2: Kutná Hora.-Nymburk B
END:VEVENT
BEGIN:VEVENT
UID:33623265-6139-4461-a430-626630326164
DTSTAMP:20260421T210055Z
DESCRIPTION:2/17 Kolín A - Benátky nad Jizerou 2:0 (24\,17)
DTSTART;TZID=Europe/Berlin:20241130T100000
DTEND;TZID=Europe/Berlin:20241130T120000
LOCATION:hala STAV\, SOŠ Kolín\, Brankovická 1417 Kolín - Kolín V
SUMMARY:ST-U16Z-S3A2: Kolín A-Benátky nad Jizerou
END:VEVENT
BEGIN:VEVENT
UID:37656330-6635-4934-a234-623763663438
DTSTAMP:20260421T210055Z
DESCRIPTION:2/18 Kutná Hora. - VK Kostomlaty 2:0 (9\,22)
DTSTART;TZID=Europe/Berlin:20241130T100000
DTEND;TZID=Europe/Berlin:20241130T120000
LOCATION:Klimeška\, Čáslavská 274 Kutná Hora - Karlov
SUMMARY:ST-U16Z-S3A2: Kutná Hora.-VK Kostomlaty
END:VEVENT
BEGIN:VEVENT
UID:66643538-3264-4538-b761-356138623062
DTSTAMP:20260421T210055Z
DESCRIPTION:2/19 Kolín B - Benátky nad Jizerou 1:2 (-21\,16\,-5)
DTSTART;TZID=Europe/Berlin:20241130T100000
DTEND;TZID=Europe/Berlin:20241130T120000
LOCATION:hala STAV\, SOŠ Kolín\, Brankovická 1417 Kolín - Kolín V
SUMMARY:ST-U16Z-S3A2: Kolín B-Benátky nad Jizerou
END:VEVENT
BEGIN:VEVENT
UID:37393336-3337-4064-b936-343233376132
DTSTAMP:20260421T210055Z
DESCRIPTION:2/20 Kolín A - Nymburk B 2:1 (18\,-21\,12)
DTSTART;TZID=Europe/Berlin:20241130T100000
DTEND;TZID=Europe/Berlin:20241130T120000
LOCATION:hala STAV\, SOŠ Kolín\, Brankovická 1417 Kolín - Kolín V
SUMMARY:ST-U16Z-S3A2: Kolín A-Nymburk B
END:VEVENT
BEGIN:VEVENT
UID:65383030-3865-4362-a333-313130336135
DTSTAMP:20260421T210055Z
DESCRIPTION:2/21 Kutná Hora. - Benátky nad Jizerou 2:0 (23\,23)
DTSTART;TZID=Europe/Berlin:20241130T100000
DTEND;TZID=Europe/Berlin:20241130T120000
LOCATION:Klimeška\, Čáslavská 274 Kutná Hora - Karlov
SUMMARY:ST-U16Z-S3A2: Kutná Hora.-Benátky nad Jizerou
END:VEVENT
BEGIN:VEVENT
UID:62366437-3033-4535-b061-633262396334
DTSTAMP:20260421T210055Z
DESCRIPTION:2/22 Kolín B - Nymburk B 2:0 (14\,20)
DTSTART;TZID=Europe/Berlin:20241130T100000
DTEND;TZID=Europe/Berlin:20241130T120000
LOCATION:hala STAV\, SOŠ Kolín\, Brankovická 1417 Kolín - Kolín V
SUMMARY:ST-U16Z-S3A2: Kolín B-Nymburk B
END:VEVENT
BEGIN:VEVENT
UID:62396636-3764-4331-a434-643236343332
DTSTAMP:20260421T210055Z
DESCRIPTION:2/23 Kolín A - VK Kostomlaty 2:0 (24\,14)
DTSTART;TZID=Europe/Berlin:20241130T100000
DTEND;TZID=Europe/Berlin:20241130T120000
LOCATION:hala STAV\, SOŠ Kolín\, Brankovická 1417 Kolín - Kolín V
SUMMARY:ST-U16Z-S3A2: Kolín A-VK Kostomlaty
END:VEVENT
BEGIN:VEVENT
UID:64326166-6662-4462-a337-666464313137
DTSTAMP:20260421T210055Z
DESCRIPTION:2/24 Nymburk B - Benátky nad Jizerou 0:2 (-11\,-10)
DTSTART;TZID=Europe/Berlin:20241130T100000
DTEND;TZID=Europe/Berlin:20241130T120000
LOCATION:ZŠ Komenského\, Nymburk\, Komenského 589 Nymburk
SUMMARY:ST-U16Z-S3A2: Nymburk B-Benátky nad Jizerou
END:VEVENT
BEGIN:VEVENT
UID:31346631-3563-4536-b834-383364653633
DTSTAMP:20260421T210055Z
DESCRIPTION:2/25 Kolín B - Kutná Hora. 0:2 (-23\,-23)
DTSTART;TZID=Europe/Berlin:20241130T100000
DTEND;TZID=Europe/Berlin:20241130T120000
LOCATION:hala STAV\, SOŠ Kolín\, Brankovická 1417 Kolín - Kolín V
SUMMARY:ST-U16Z-S3A2: Kolín B-Kutná Hora.
END:VEVENT
BEGIN:VEVENT
UID:31316161-3031-4438-b334-656336633838
DTSTAMP:20260421T210055Z
DESCRIPTION:2/26 VK Mladá Boleslav - Malibu Mladá Boleslav A 1:2 (14\,-19\,
 -13)\nPořadatel: VK Mladá Boleslav
DTSTART;TZID=Europe/Berlin:20241201T100000
DTEND;TZID=Europe/Berlin:20241201T120000
LOCATION:Městská Sportovní hala\, U stadionu 1322 Mladá Boleslav - Mladá Bo
 leslav II
SUMMARY:ST-U16Z-S3A2: VK Mladá Boleslav-Malibu Mladá Boleslav A
END:VEVENT
BEGIN:VEVENT
UID:66663461-6465-4532-a535-343035643236
DTSTAMP:20260421T210055Z
DESCRIPTION:2/27 Milovice - Čelákovice 2:0 (8\,12)\nPořadatel: 2 hřiště
DTSTART;TZID=Europe/Berlin:20241201T100000
DTEND;TZID=Europe/Berlin:20241201T120000
LOCATION:MŠ u Veverek\, Komenského 581 Milovice - Mladá
SUMMARY:ST-U16Z-S3A2: Milovice-Čelákovice
END:VEVENT
BEGIN:VEVENT
UID:66316436-3630-4736-b731-353939323735
DTSTAMP:20260421T210055Z
DESCRIPTION:2/28 Malibu Mladá Boleslav A - Milovice 2:0 (9\,12)
DTSTART;TZID=Europe/Berlin:20241201T100000
DTEND;TZID=Europe/Berlin:20241201T120000
LOCATION:Sportovni hala Gymnazium Dr. J. Pekaře \, Palackého 211 Mladá Bole
 slav - Mladá Boleslav II
SUMMARY:ST-U16Z-S3A2: Malibu Mladá Boleslav A-Milovice
END:VEVENT
BEGIN:VEVENT
UID:36363164-6661-4038-b561-356139636536
DTSTAMP:20260421T210055Z
DESCRIPTION:2/29 Čelákovice - VK Mladá Boleslav 0:2 (-11\,-4)
DTSTART;TZID=Europe/Berlin:20241201T100000
DTEND;TZID=Europe/Berlin:20241201T120000
LOCATION:Sportovní hala Vikomt\, U Učiliště 1683 Čelákovice
SUMMARY:ST-U16Z-S3A2: Čelákovice-VK Mladá Boleslav
END:VEVENT
BEGIN:VEVENT
UID:32393162-3336-4735-a331-633261306366
DTSTAMP:20260421T210055Z
DESCRIPTION:2/30 Malibu Mladá Boleslav A - Čelákovice 2:0 (18\,10)
DTSTART;TZID=Europe/Berlin:20241201T100000
DTEND;TZID=Europe/Berlin:20241201T120000
LOCATION:Sportovni hala Gymnazium Dr. J. Pekaře \, Palackého 211 Mladá Bole
 slav - Mladá Boleslav II
SUMMARY:ST-U16Z-S3A2: Malibu Mladá Boleslav A-Čelákovice
END:VEVENT
BEGIN:VEVENT
UID:39333561-6139-4031-b336-336533326439
DTSTAMP:20260421T210055Z
DESCRIPTION:2/31 VK Mladá Boleslav - Milovice 2:0 (12\,23)
DTSTART;TZID=Europe/Berlin:20241201T100000
DTEND;TZID=Europe/Berlin:20241201T120000
LOCATION:Městská Sportovní hala\, U stadionu 1322 Mladá Boleslav - Mladá Bo
 leslav II
SUMMARY:ST-U16Z-S3A2: VK Mladá Boleslav-Milovice
END:VEVENT
BEGIN:VEVENT
UID:62386435-3461-4237-b737-616236653439
DTSTAMP:20260421T210055Z
DESCRIPTION:3/32 VK Kostomlaty - Nymburk B 2:0 (16\,9)\nPořadatel: VK Kosto
 mlaty
DTSTART;TZID=Europe/Berlin:20241214T100000
DTEND;TZID=Europe/Berlin:20241214T120000
LOCATION:Bios\, Školní 402 Kostomlaty nad Labem
SUMMARY:ST-U16Z-S3A2: VK Kostomlaty-Nymburk B
END:VEVENT
BEGIN:VEVENT
UID:64366338-3461-4166-b330-303731636462
DTSTAMP:20260421T210055Z
DESCRIPTION:3/33 Benátky nad Jizerou - VK Mladá Boleslav 2:0 (21\,15)\nPořa
 datel: 2 hřiště
DTSTART;TZID=Europe/Berlin:20241214T100000
DTEND;TZID=Europe/Berlin:20241214T120000
LOCATION:Nibe aréna\, městská sportovní hala\, 5. května 746 Benátky nad Ji
 zerou - Benátky nad Jizerou II
SUMMARY:ST-U16Z-S3A2: Benátky nad Jizerou-VK Mladá Boleslav
END:VEVENT
BEGIN:VEVENT
UID:30306435-3030-4364-b762-636130346462
DTSTAMP:20260421T210055Z
DESCRIPTION:3/34 VK Kostomlaty - Malibu Mladá Boleslav A 2:0 (16\,17)
DTSTART;TZID=Europe/Berlin:20241214T100000
DTEND;TZID=Europe/Berlin:20241214T120000
LOCATION:Bios\, Školní 402 Kostomlaty nad Labem
SUMMARY:ST-U16Z-S3A2: VK Kostomlaty-Malibu Mladá Boleslav A
END:VEVENT
BEGIN:VEVENT
UID:39353532-3262-4131-a539-646131376332
DTSTAMP:20260421T210055Z
DESCRIPTION:3/35 Nymburk B - VK Mladá Boleslav 0:2 (-18\,-24)
DTSTART;TZID=Europe/Berlin:20241214T100000
DTEND;TZID=Europe/Berlin:20241214T120000
LOCATION:ZŠ Komenského\, Nymburk\, Komenského 589 Nymburk
SUMMARY:ST-U16Z-S3A2: Nymburk B-VK Mladá Boleslav
END:VEVENT
BEGIN:VEVENT
UID:61333263-3536-4630-a537-323436363666
DTSTAMP:20260421T210055Z
DESCRIPTION:3/36 Benátky nad Jizerou - Malibu Mladá Boleslav A 2:0 (13\,16)
DTSTART;TZID=Europe/Berlin:20241214T100000
DTEND;TZID=Europe/Berlin:20241214T120000
LOCATION:Nibe aréna\, městská sportovní hala\, 5. května 746 Benátky nad Ji
 zerou - Benátky nad Jizerou II
SUMMARY:ST-U16Z-S3A2: Benátky nad Jizerou-Malibu Mladá Boleslav A
END:VEVENT
BEGIN:VEVENT
UID:39373635-3439-4036-a536-666663633761
DTSTAMP:20260421T210055Z
DESCRIPTION:3/37 VK Kostomlaty - VK Mladá Boleslav 2:0 (16\,17)
DTSTART;TZID=Europe/Berlin:20241214T100000
DTEND;TZID=Europe/Berlin:20241214T120000
LOCATION:Bios\, Školní 402 Kostomlaty nad Labem
SUMMARY:ST-U16Z-S3A2: VK Kostomlaty-VK Mladá Boleslav
END:VEVENT
BEGIN:VEVENT
UID:63333531-6135-4439-b132-363762653062
DTSTAMP:20260421T210055Z
DESCRIPTION:3/38 Nymburk B - Malibu Mladá Boleslav A 2:1 (24\,-17\,8)
DTSTART;TZID=Europe/Berlin:20241214T100000
DTEND;TZID=Europe/Berlin:20241214T120000
LOCATION:ZŠ Komenského\, Nymburk\, Komenského 589 Nymburk
SUMMARY:ST-U16Z-S3A2: Nymburk B-Malibu Mladá Boleslav A
END:VEVENT
BEGIN:VEVENT
UID:31333630-6238-4334-a662-653961626130
DTSTAMP:20260421T210055Z
DESCRIPTION:3/39 VK Kostomlaty - Benátky nad Jizerou 0:2 (-21\,-13)
DTSTART;TZID=Europe/Berlin:20241214T100000
DTEND;TZID=Europe/Berlin:20241214T120000
LOCATION:Bios\, Školní 402 Kostomlaty nad Labem
SUMMARY:ST-U16Z-S3A2: VK Kostomlaty-Benátky nad Jizerou
END:VEVENT
BEGIN:VEVENT
UID:35363137-3935-4833-a431-336261376163
DTSTAMP:20260421T210055Z
DESCRIPTION:3/40 Milovice - Kolín B 0:2 (-14\,-13)\nPořadatel: Volejbal Mil
 ovice
DTSTART;TZID=Europe/Berlin:20241214T100000
DTEND;TZID=Europe/Berlin:20241214T120000
LOCATION:MŠ u Veverek\, Komenského 581 Milovice - Mladá
SUMMARY:ST-U16Z-S3A2: Milovice-Kolín B
END:VEVENT
BEGIN:VEVENT
UID:30353735-3963-4234-b266-623161613831
DTSTAMP:20260421T210055Z
DESCRIPTION:3/41 Čelákovice - Kolín B 1:2 (22\,-11\,-12)\nPořadatel: 1 hřiš
 tě
DTSTART;TZID=Europe/Berlin:20241214T100000
DTEND;TZID=Europe/Berlin:20241214T120000
LOCATION:Sportovní hala Vikomt\, U Učiliště 1683 Čelákovice
SUMMARY:ST-U16Z-S3A2: Čelákovice-Kolín B
END:VEVENT
BEGIN:VEVENT
UID:35326233-3932-4339-b339-623731613538
DTSTAMP:20260421T210055Z
DESCRIPTION:3/42 Čelákovice - Kolín A 2:0 (16\,19)
DTSTART;TZID=Europe/Berlin:20241214T100000
DTEND;TZID=Europe/Berlin:20241214T120000
LOCATION:Sportovní hala Vikomt\, U Učiliště 1683 Čelákovice
SUMMARY:ST-U16Z-S3A2: Čelákovice-Kolín A
END:VEVENT
BEGIN:VEVENT
UID:64656239-6465-4366-b938-646337383266
DTSTAMP:20260421T210055Z
DESCRIPTION:3/43 Milovice - Kolín A 0:2 (-14\,-16)
DTSTART;TZID=Europe/Berlin:20241214T100000
DTEND;TZID=Europe/Berlin:20241214T120000
LOCATION:MŠ u Veverek\, Komenského 581 Milovice - Mladá
SUMMARY:ST-U16Z-S3A2: Milovice-Kolín A
END:VEVENT
BEGIN:VEVENT
UID:30363033-3239-4461-a165-333961333435
DTSTAMP:20260421T210055Z
DESCRIPTION:3/44 Čelákovice - Kutná Hora. 0:2 (-11\,-11)
DTSTART;TZID=Europe/Berlin:20241214T100000
DTEND;TZID=Europe/Berlin:20241214T120000
LOCATION:Sportovní hala Vikomt\, U Učiliště 1683 Čelákovice
SUMMARY:ST-U16Z-S3A2: Čelákovice-Kutná Hora.
END:VEVENT
BEGIN:VEVENT
UID:63666434-3133-4432-a462-323630313333
DTSTAMP:20260421T210055Z
DESCRIPTION:3/45 Milovice - Kutná Hora. 0:2 (-13\,-13)
DTSTART;TZID=Europe/Berlin:20241214T100000
DTEND;TZID=Europe/Berlin:20241214T120000
LOCATION:MŠ u Veverek\, Komenského 581 Milovice - Mladá
SUMMARY:ST-U16Z-S3A2: Milovice-Kutná Hora.
END:VEVENT
END:VCALENDAR
