BEGIN:VCALENDAR
VERSION:2.0
PRODID:-//1-M-II//NONSGML kigkonsult.se iCalcreator 2.41.80//
CALSCALE:GREGORIAN
UID:35373734-3865-4439-a539-383465323135
BEGIN:VEVENT
UID:62353231-3439-4132-a566-326462376135
DTSTAMP:20260425T035457Z
DESCRIPTION:1/12131 MFF Praha - Velké Meziříčí 3:2 (21\,-22\,-20\,15\,9)
DTSTART;TZID=Europe/Berlin:20241206T190000
DTEND;TZID=Europe/Berlin:20241206T210000
LOCATION:Sportovní centrum UK\, Bruslařská 1132 Praha - Hostivař
SUMMARY:1-M-II: MFF Praha-Velké Meziříčí
END:VEVENT
BEGIN:VEVENT
UID:35636333-6636-4836-a232-353336303834
DTSTAMP:20260425T035457Z
DESCRIPTION:1/12132 Lvi Praha B - Holubice 3:1 (17\,23\,-20\,24)
DTSTART;TZID=Europe/Berlin:20241206T180000
DTEND;TZID=Europe/Berlin:20241206T200000
LOCATION:Sportovní hala Lužiny\, Bellušova 1877 Praha - Stodůlky
SUMMARY:1-M-II: Lvi Praha B-Holubice
END:VEVENT
BEGIN:VEVENT
UID:37646336-3336-4633-b639-306631343539
DTSTAMP:20260425T035457Z
DESCRIPTION:1/12133 Kolín - Kojetín 3:2 (21\,-20\,23\,-16\,13)
DTSTART;TZID=Europe/Berlin:20241206T180000
DTEND;TZID=Europe/Berlin:20241206T200000
LOCATION:Sportovní hala Borky\, Brankovická 1216 Kolín - Kolín V
SUMMARY:1-M-II: Kolín-Kojetín
END:VEVENT
BEGIN:VEVENT
UID:30613837-3733-4431-b439-646463373062
DTSTAMP:20260425T035457Z
DESCRIPTION:1/12134 Liberec B - Blue Ostrava B 1:3 (-22\,22\,-23\,-20)
DTSTART;TZID=Europe/Berlin:20241206T200000
DTEND;TZID=Europe/Berlin:20241206T220000
LOCATION:Dukla Liberec\, Jeronýmova 558 Liberec - Liberec VII-Horní Růžodol
SUMMARY:1-M-II: Liberec B-Blue Ostrava B
END:VEVENT
BEGIN:VEVENT
UID:65386439-6130-4732-a537-663365653461
DTSTAMP:20260425T035457Z
DESCRIPTION:2/12135 MFF Praha - Holubice 3:2 (-17\,14\,-21\,23\,15)
DTSTART;TZID=Europe/Berlin:20241207T180000
DTEND;TZID=Europe/Berlin:20241207T200000
LOCATION:Sportovní centrum UK\, Bruslařská 1132 Praha - Hostivař
SUMMARY:1-M-II: MFF Praha-Holubice
END:VEVENT
BEGIN:VEVENT
UID:30646462-6231-4464-b631-636661366331
DTSTAMP:20260425T035457Z
DESCRIPTION:2/12136 Lvi Praha B - Velké Meziříčí 0:3 (-21\,-18\,-14)
DTSTART;TZID=Europe/Berlin:20241207T140000
DTEND;TZID=Europe/Berlin:20241207T160000
LOCATION:Unyp Aréna Sparta Praha Podvinný Mlýn \, Kovanecká 2405 Praha - Li
 beň
SUMMARY:1-M-II: Lvi Praha B-Velké Meziříčí
END:VEVENT
BEGIN:VEVENT
UID:62623764-6631-4063-b731-653761666263
DTSTAMP:20260425T035457Z
DESCRIPTION:2/12137 Kolín - Blue Ostrava B 1:3 (-20\,-17\,22\,-22)
DTSTART;TZID=Europe/Berlin:20241207T180000
DTEND;TZID=Europe/Berlin:20241207T200000
LOCATION:Sportovní hala Borky\, Brankovická 1216 Kolín - Kolín V
SUMMARY:1-M-II: Kolín-Blue Ostrava B
END:VEVENT
BEGIN:VEVENT
UID:65663365-3436-4464-b931-343332356630
DTSTAMP:20260425T035457Z
DESCRIPTION:2/12138 Liberec B - Kojetín 3:2 (-23\,17\,20\,-17\,10)
DTSTART;TZID=Europe/Berlin:20241207T140000
DTEND;TZID=Europe/Berlin:20241207T160000
LOCATION:Dukla Liberec\, Jeronýmova 558 Liberec - Liberec VII-Horní Růžodol
SUMMARY:1-M-II: Liberec B-Kojetín
END:VEVENT
BEGIN:VEVENT
UID:33623730-3566-4861-b035-626637316532
DTSTAMP:20260425T035457Z
DESCRIPTION:3/12139 Velké Meziříčí - Kolín 3:0 (9\,21\,17)
DTSTART;TZID=Europe/Berlin:20241213T193000
DTEND;TZID=Europe/Berlin:20241213T213000
LOCATION:ZŠ Komenského\, Komenského 1 Velké Meziříčí
SUMMARY:1-M-II: Velké Meziříčí-Kolín
END:VEVENT
BEGIN:VEVENT
UID:64373838-6162-4439-a335-313232666531
DTSTAMP:20260425T035457Z
DESCRIPTION:3/12140 Holubice - Liberec B 3:0 (22\,18\,23)
DTSTART;TZID=Europe/Berlin:20241213T180000
DTEND;TZID=Europe/Berlin:20241213T200000
LOCATION:Sportovní hala Holubice\,  Holubice299
SUMMARY:1-M-II: Holubice-Liberec B
END:VEVENT
BEGIN:VEVENT
UID:30663138-3439-4164-a536-656233646361
DTSTAMP:20260425T035457Z
DESCRIPTION:3/12141 Kojetín - MFF Praha 1:3 (-24\,22\,-22\,-21)
DTSTART;TZID=Europe/Berlin:20241213T190000
DTEND;TZID=Europe/Berlin:20241213T210000
LOCATION:Městská sportovní hala\, Hanusíkova 1476 Kojetín - Kojetín I-Město
SUMMARY:1-M-II: Kojetín-MFF Praha
END:VEVENT
BEGIN:VEVENT
UID:30333662-6565-4363-b732-393162346162
DTSTAMP:20260425T035457Z
DESCRIPTION:3/12142 Blue Ostrava B - Lvi Praha B 3:0 (14\,19\,19)
DTSTART;TZID=Europe/Berlin:20241213T180000
DTEND;TZID=Europe/Berlin:20241213T200000
LOCATION:Sportovní hala Ostrava -Třebovice\, 5. května 5649 Ostrava - Třebo
 vice
SUMMARY:1-M-II: Blue Ostrava B-Lvi Praha B
END:VEVENT
BEGIN:VEVENT
UID:31656566-6563-4538-a432-366530326662
DTSTAMP:20260425T035457Z
DESCRIPTION:4/12143 Velké Meziříčí - Liberec B 3:0 (15\,21\,20)
DTSTART;TZID=Europe/Berlin:20241214T170000
DTEND;TZID=Europe/Berlin:20241214T190000
LOCATION:ZŠ Komenského\, Komenského 1 Velké Meziříčí
SUMMARY:1-M-II: Velké Meziříčí-Liberec B
END:VEVENT
BEGIN:VEVENT
UID:38306632-3362-4333-b364-633733666662
DTSTAMP:20260425T035457Z
DESCRIPTION:4/12144 Holubice - Kolín 3:1 (15\,-19\,14\,31)
DTSTART;TZID=Europe/Berlin:20241214T160000
DTEND;TZID=Europe/Berlin:20241214T180000
LOCATION:Sportovní hala Holubice\,  Holubice299
SUMMARY:1-M-II: Holubice-Kolín
END:VEVENT
BEGIN:VEVENT
UID:32376231-3932-4535-b634-366364353438
DTSTAMP:20260425T035457Z
DESCRIPTION:4/12145 Kojetín - Lvi Praha B 3:2 (-26\,-22\,22\,24\,11)
DTSTART;TZID=Europe/Berlin:20241214T180000
DTEND;TZID=Europe/Berlin:20241214T200000
LOCATION:Městská sportovní hala\, Hanusíkova 1476 Kojetín - Kojetín I-Město
SUMMARY:1-M-II: Kojetín-Lvi Praha B
END:VEVENT
BEGIN:VEVENT
UID:64323365-3533-4130-b961-353630636232
DTSTAMP:20260425T035457Z
DESCRIPTION:4/12146 Blue Ostrava B - MFF Praha 2:3 (-21\,17\,21\,-21\,-13)
DTSTART;TZID=Europe/Berlin:20241214T140000
DTEND;TZID=Europe/Berlin:20241214T160000
LOCATION:Sportovní hala Ostrava -Třebovice\, 5. května 5649 Ostrava - Třebo
 vice
SUMMARY:1-M-II: Blue Ostrava B-MFF Praha
END:VEVENT
BEGIN:VEVENT
UID:33333934-3035-4736-b364-303537303139
DTSTAMP:20260425T035457Z
DESCRIPTION:5/12147 Liberec B - Velké Meziříčí 2:3 (-21\,19\,-21\,20\,-12)
DTSTART;TZID=Europe/Berlin:20250110T190000
DTEND;TZID=Europe/Berlin:20250110T210000
LOCATION:Dukla Liberec\, Jeronýmova 558 Liberec - Liberec VII-Horní Růžodol
SUMMARY:1-M-II: Liberec B-Velké Meziříčí
END:VEVENT
BEGIN:VEVENT
UID:34633332-6233-4162-b539-646665366161
DTSTAMP:20260425T035457Z
DESCRIPTION:5/12148 Kolín - Holubice 3:0 (21\,15\,20)
DTSTART;TZID=Europe/Berlin:20250110T180000
DTEND;TZID=Europe/Berlin:20250110T200000
LOCATION:Sportovní hala Borky\, Brankovická 1216 Kolín - Kolín V
SUMMARY:1-M-II: Kolín-Holubice
END:VEVENT
BEGIN:VEVENT
UID:62316632-3161-4430-a261-626163343136
DTSTAMP:20260425T035457Z
DESCRIPTION:5/12149 Lvi Praha B - Kojetín 3:0 (23\,16\,22)
DTSTART;TZID=Europe/Berlin:20250110T180000
DTEND;TZID=Europe/Berlin:20250110T200000
LOCATION:Sportovní hala Lužiny\, Bellušova 1877 Praha - Stodůlky
SUMMARY:1-M-II: Lvi Praha B-Kojetín
END:VEVENT
BEGIN:VEVENT
UID:66333364-3666-4764-b962-353261336631
DTSTAMP:20260425T035457Z
DESCRIPTION:5/12150 MFF Praha - Blue Ostrava B 3:1 (-17\,21\,19\,16)
DTSTART;TZID=Europe/Berlin:20250110T190000
DTEND;TZID=Europe/Berlin:20250110T210000
LOCATION:Sportovní centrum UK\, Bruslařská 1132 Praha - Hostivař
SUMMARY:1-M-II: MFF Praha-Blue Ostrava B
END:VEVENT
BEGIN:VEVENT
UID:30353166-3366-4335-a666-306131316134
DTSTAMP:20260425T035457Z
DESCRIPTION:6/12151 Kolín - Velké Meziříčí 2:3 (22\,-23\,-31\,21\,-13)
DTSTART;TZID=Europe/Berlin:20250111T180000
DTEND;TZID=Europe/Berlin:20250111T200000
LOCATION:Sportovní hala Borky\, Brankovická 1216 Kolín - Kolín V
SUMMARY:1-M-II: Kolín-Velké Meziříčí
END:VEVENT
BEGIN:VEVENT
UID:63643966-3833-4565-b738-333936333730
DTSTAMP:20260425T035457Z
DESCRIPTION:6/12152 Liberec B - Holubice 0:3 (-20\,-23\,-15)
DTSTART;TZID=Europe/Berlin:20250111T123000
DTEND;TZID=Europe/Berlin:20250111T143000
LOCATION:Dukla Liberec\, Jeronýmova 558 Liberec - Liberec VII-Horní Růžodol
SUMMARY:1-M-II: Liberec B-Holubice
END:VEVENT
BEGIN:VEVENT
UID:62666463-6331-4336-b035-656531346133
DTSTAMP:20260425T035457Z
DESCRIPTION:6/12153 MFF Praha - Kojetín 3:1 (24\,14\,-19\,14)
DTSTART;TZID=Europe/Berlin:20250111T180000
DTEND;TZID=Europe/Berlin:20250111T200000
LOCATION:Sportovní centrum UK\, Bruslařská 1132 Praha - Hostivař
SUMMARY:1-M-II: MFF Praha-Kojetín
END:VEVENT
BEGIN:VEVENT
UID:34303437-6665-4866-b538-373965316562
DTSTAMP:20260425T035457Z
DESCRIPTION:6/12154 Lvi Praha B - Blue Ostrava B 3:2 (-22\,30\,23\,-21\,12)
DTSTART;TZID=Europe/Berlin:20250111T170000
DTEND;TZID=Europe/Berlin:20250111T190000
LOCATION:Sportovní hala Lužiny\, Bellušova 1877 Praha - Stodůlky
SUMMARY:1-M-II: Lvi Praha B-Blue Ostrava B
END:VEVENT
BEGIN:VEVENT
UID:66303266-3061-4931-b934-393032346466
DTSTAMP:20260425T035457Z
DESCRIPTION:7/12155 Holubice - MFF Praha 0:3 (-20\,-12\,-18)
DTSTART;TZID=Europe/Berlin:20250117T180000
DTEND;TZID=Europe/Berlin:20250117T200000
LOCATION:Sportovní hala Holubice\,  Holubice299
SUMMARY:1-M-II: Holubice-MFF Praha
END:VEVENT
BEGIN:VEVENT
UID:35623134-3030-4639-a531-653031643664
DTSTAMP:20260425T035457Z
DESCRIPTION:7/12156 Velké Meziříčí - Lvi Praha B 3:0 (22\,15\,17)
DTSTART;TZID=Europe/Berlin:20250117T193000
DTEND;TZID=Europe/Berlin:20250117T213000
LOCATION:ZŠ Komenského\, Komenského 1 Velké Meziříčí
SUMMARY:1-M-II: Velké Meziříčí-Lvi Praha B
END:VEVENT
BEGIN:VEVENT
UID:36646164-6462-4234-a238-653361663331
DTSTAMP:20260425T035457Z
DESCRIPTION:7/12157 Blue Ostrava B - Kolín 3:1 (-19\,23\,23\,20)
DTSTART;TZID=Europe/Berlin:20250117T180000
DTEND;TZID=Europe/Berlin:20250117T200000
LOCATION:Sportovní hala Ostrava -Třebovice\, 5. května 5649 Ostrava - Třebo
 vice
SUMMARY:1-M-II: Blue Ostrava B-Kolín
END:VEVENT
BEGIN:VEVENT
UID:66633537-6534-4866-b432-323064663065
DTSTAMP:20260425T035457Z
DESCRIPTION:7/12158 Kojetín - Liberec B 2:3 (-24\,-21\,23\,18\,-12)
DTSTART;TZID=Europe/Berlin:20250117T190000
DTEND;TZID=Europe/Berlin:20250117T210000
LOCATION:Městská sportovní hala\, Hanusíkova 1476 Kojetín - Kojetín I-Město
SUMMARY:1-M-II: Kojetín-Liberec B
END:VEVENT
BEGIN:VEVENT
UID:30373935-3534-4434-b863-623961643836
DTSTAMP:20260425T035457Z
DESCRIPTION:8/12159 Velké Meziříčí - MFF Praha 1:3 (-22\,23\,-22\,-18)
DTSTART;TZID=Europe/Berlin:20250124T193000
DTEND;TZID=Europe/Berlin:20250124T213000
LOCATION:ZŠ Komenského\, Komenského 1 Velké Meziříčí
SUMMARY:1-M-II: Velké Meziříčí-MFF Praha
END:VEVENT
BEGIN:VEVENT
UID:35663536-6230-4032-b266-636462656232
DTSTAMP:20260425T035457Z
DESCRIPTION:8/12160 Holubice - Lvi Praha B 3:1 (15\,-20\,17\,12)
DTSTART;TZID=Europe/Berlin:20250124T180000
DTEND;TZID=Europe/Berlin:20250124T200000
LOCATION:Sportovní hala Holubice\,  Holubice299
SUMMARY:1-M-II: Holubice-Lvi Praha B
END:VEVENT
BEGIN:VEVENT
UID:34643665-3362-4663-b734-626338376636
DTSTAMP:20260425T035457Z
DESCRIPTION:8/12161 Kojetín - Kolín 3:1 (-23\,16\,19\,18)
DTSTART;TZID=Europe/Berlin:20250124T190000
DTEND;TZID=Europe/Berlin:20250124T210000
LOCATION:Městská sportovní hala\, Hanusíkova 1476 Kojetín - Kojetín I-Město
SUMMARY:1-M-II: Kojetín-Kolín
END:VEVENT
BEGIN:VEVENT
UID:61613662-3661-4437-a564-646234616531
DTSTAMP:20260425T035457Z
DESCRIPTION:8/12162 Blue Ostrava B - Liberec B 3:0 (17\,19\,21)
DTSTART;TZID=Europe/Berlin:20250124T180000
DTEND;TZID=Europe/Berlin:20250124T200000
LOCATION:Sportovní hala Ostrava -Třebovice\, 5. května 5649 Ostrava - Třebo
 vice
SUMMARY:1-M-II: Blue Ostrava B-Liberec B
END:VEVENT
END:VCALENDAR
