BEGIN:VCALENDAR
VERSION:2.0
PRODID:-//P-U18Z-4A//NONSGML kigkonsult.se iCalcreator 2.41.80//
CALSCALE:GREGORIAN
UID:61386161-6334-4138-a264-333531623861
BEGIN:VEVENT
UID:37313663-3463-4161-b463-313464626237
DTSTAMP:20260425T101613Z
DESCRIPTION:1/1 Slavia Plzeň A - Domažlice 2:0 (21\,16)
DTSTART;TZID=Europe/Berlin:20250119T090000
DTEND;TZID=Europe/Berlin:20250119T110000
LOCATION:Tělocvična 15.ZŠ\, Terezie Brzkové 863 Plzeň - Skvrňany
SUMMARY:P-U18Z-4A: Slavia Plzeň A-Domažlice
END:VEVENT
BEGIN:VEVENT
UID:61633633-3637-4333-b133-376233643731
DTSTAMP:20260425T101613Z
DESCRIPTION:2/2 Volejbal Plzeň B - Letná 2:0 (8\,15)
DTSTART;TZID=Europe/Berlin:20250119T101500
DTEND;TZID=Europe/Berlin:20250119T121500
LOCATION:Tělocvična 15.ZŠ\, Terezie Brzkové 863 Plzeň - Skvrňany
SUMMARY:P-U18Z-4A: Volejbal Plzeň B-Letná
END:VEVENT
BEGIN:VEVENT
UID:32363661-6364-4732-b531-343361386133
DTSTAMP:20260425T101613Z
DESCRIPTION:3/3 Letná - Domažlice 2:1 (-18\,20\,11)
DTSTART;TZID=Europe/Berlin:20250119T113000
DTEND;TZID=Europe/Berlin:20250119T133000
LOCATION:Tělocvična 15.ZŠ\, Terezie Brzkové 863 Plzeň - Skvrňany
SUMMARY:P-U18Z-4A: Letná-Domažlice
END:VEVENT
BEGIN:VEVENT
UID:35376632-3464-4565-a263-666664383430
DTSTAMP:20260425T101613Z
DESCRIPTION:4/4 Volejbal Plzeň B - Slavia Plzeň A 2:0 (20\,14)
DTSTART;TZID=Europe/Berlin:20250119T124500
DTEND;TZID=Europe/Berlin:20250119T144500
LOCATION:Tělocvična 15.ZŠ\, Terezie Brzkové 863 Plzeň - Skvrňany
SUMMARY:P-U18Z-4A: Volejbal Plzeň B-Slavia Plzeň A
END:VEVENT
BEGIN:VEVENT
UID:30623039-3630-4664-b263-623536323763
DTSTAMP:20260425T101613Z
DESCRIPTION:5/5 Domažlice - Volejbal Plzeň B 0:2 (-10\,-10)
DTSTART;TZID=Europe/Berlin:20250119T140000
DTEND;TZID=Europe/Berlin:20250119T160000
LOCATION:Tělocvična 15.ZŠ\, Terezie Brzkové 863 Plzeň - Skvrňany
SUMMARY:P-U18Z-4A: Domažlice-Volejbal Plzeň B
END:VEVENT
BEGIN:VEVENT
UID:38626637-3534-4262-a565-346463616233
DTSTAMP:20260425T101613Z
DESCRIPTION:6/6 Slavia Plzeň A - Letná 2:0 (18\,23)
DTSTART;TZID=Europe/Berlin:20250119T151500
DTEND;TZID=Europe/Berlin:20250119T171500
LOCATION:Tělocvična 15.ZŠ\, Terezie Brzkové 863 Plzeň - Skvrňany
SUMMARY:P-U18Z-4A: Slavia Plzeň A-Letná
END:VEVENT
END:VCALENDAR
