BEGIN:VCALENDAR
VERSION:2.0
PRODID:-//PP-U14Z-5-A//NONSGML kigkonsult.se iCalcreator 2.41.80//
CALSCALE:GREGORIAN
UID:61396436-3966-4539-a665-326338363336
BEGIN:VEVENT
UID:62326430-3865-4632-a530-303832393835
DTSTAMP:20260421T210033Z
DESCRIPTION:1/1 SK Kometa Praha A - Volejbal Vršovice 2:0 (9\,20)
DTSTART;TZID=Europe/Berlin:20250118T090000
DTEND;TZID=Europe/Berlin:20250118T110000
LOCATION:ZŠ Dolní Břežany\, Na Vršku 290 Dolní Břežany
SUMMARY:PP-U14Z-5-A: SK Kometa Praha A-Volejbal Vršovice
END:VEVENT
BEGIN:VEVENT
UID:36313835-3062-4564-b730-633235306465
DTSTAMP:20260421T210033Z
DESCRIPTION:1/2 Mikulova A - Orion Praha A 2:1 (-17\,28\,13)
DTSTART;TZID=Europe/Berlin:20250118T090000
DTEND;TZID=Europe/Berlin:20250118T110000
LOCATION:ZŠ Dolní Břežany\, Na Vršku 290 Dolní Břežany
SUMMARY:PP-U14Z-5-A: Mikulova A-Orion Praha A
END:VEVENT
BEGIN:VEVENT
UID:38653635-3436-4462-b236-616364363863
DTSTAMP:20260421T210033Z
DESCRIPTION:2/3 PVK Olymp Praha - SK Kometa Praha A 2:0 (20\,11)
DTSTART;TZID=Europe/Berlin:20250118T100000
DTEND;TZID=Europe/Berlin:20250118T120000
LOCATION:ZŠ Dolní Břežany\, Na Vršku 290 Dolní Břežany
SUMMARY:PP-U14Z-5-A: PVK Olymp Praha-SK Kometa Praha A
END:VEVENT
BEGIN:VEVENT
UID:66646137-6462-4036-b662-393866396666
DTSTAMP:20260421T210033Z
DESCRIPTION:2/4 Volejbal Vršovice - Mikulova A 1:2 (-14\,23\,-10)
DTSTART;TZID=Europe/Berlin:20250118T100000
DTEND;TZID=Europe/Berlin:20250118T120000
LOCATION:ZŠ Dolní Břežany\, Na Vršku 290 Dolní Břežany
SUMMARY:PP-U14Z-5-A: Volejbal Vršovice-Mikulova A
END:VEVENT
BEGIN:VEVENT
UID:39666231-3134-4432-b234-656535303037
DTSTAMP:20260421T210033Z
DESCRIPTION:3/5 PVK Olymp Praha - Orion Praha A 2:1 (-20\,17\,8)
DTSTART;TZID=Europe/Berlin:20250118T110000
DTEND;TZID=Europe/Berlin:20250118T130000
LOCATION:ZŠ Dolní Břežany\, Na Vršku 290 Dolní Břežany
SUMMARY:PP-U14Z-5-A: PVK Olymp Praha-Orion Praha A
END:VEVENT
BEGIN:VEVENT
UID:30663433-3666-4466-b762-656330356161
DTSTAMP:20260421T210033Z
DESCRIPTION:3/6 SK Kometa Praha A - Mikulova A 1:2 (-13\,26\,-13)
DTSTART;TZID=Europe/Berlin:20250118T110000
DTEND;TZID=Europe/Berlin:20250118T130000
LOCATION:ZŠ Dolní Břežany\, Na Vršku 290 Dolní Břežany
SUMMARY:PP-U14Z-5-A: SK Kometa Praha A-Mikulova A
END:VEVENT
BEGIN:VEVENT
UID:33616633-3231-4438-b461-613366613934
DTSTAMP:20260421T210033Z
DESCRIPTION:4/7 Orion Praha A - Volejbal Vršovice 2:1 (19\,-20\,11)
DTSTART;TZID=Europe/Berlin:20250118T120000
DTEND;TZID=Europe/Berlin:20250118T140000
LOCATION:ZŠ Dolní Břežany\, Na Vršku 290 Dolní Břežany
SUMMARY:PP-U14Z-5-A: Orion Praha A-Volejbal Vršovice
END:VEVENT
BEGIN:VEVENT
UID:63653932-3666-4236-b038-633037336239
DTSTAMP:20260421T210033Z
DESCRIPTION:4/8 Mikulova A - PVK Olymp Praha 0:2 (-18\,-10)
DTSTART;TZID=Europe/Berlin:20250118T120000
DTEND;TZID=Europe/Berlin:20250118T140000
LOCATION:ZŠ Dolní Břežany\, Na Vršku 290 Dolní Břežany
SUMMARY:PP-U14Z-5-A: Mikulova A-PVK Olymp Praha
END:VEVENT
BEGIN:VEVENT
UID:65616361-3064-4439-b265-623663663939
DTSTAMP:20260421T210033Z
DESCRIPTION:5/9 Orion Praha A - SK Kometa Praha A 2:0 (12\,18)
DTSTART;TZID=Europe/Berlin:20250118T130000
DTEND;TZID=Europe/Berlin:20250118T150000
LOCATION:ZŠ Dolní Břežany\, Na Vršku 290 Dolní Břežany
SUMMARY:PP-U14Z-5-A: Orion Praha A-SK Kometa Praha A
END:VEVENT
BEGIN:VEVENT
UID:61666439-6663-4231-b731-343637653637
DTSTAMP:20260421T210033Z
DESCRIPTION:5/10 Volejbal Vršovice - PVK Olymp Praha 0:2 (-11\,-19)
DTSTART;TZID=Europe/Berlin:20250118T130000
DTEND;TZID=Europe/Berlin:20250118T150000
LOCATION:ZŠ Dolní Břežany\, Na Vršku 290 Dolní Břežany
SUMMARY:PP-U14Z-5-A: Volejbal Vršovice-PVK Olymp Praha
END:VEVENT
END:VCALENDAR
