BEGIN:VCALENDAR
VERSION:2.0
PRODID:-//CP-U16M-4C//NONSGML kigkonsult.se iCalcreator 2.41.80//
CALSCALE:GREGORIAN
UID:38323665-6534-4564-b830-663339623230
BEGIN:VEVENT
UID:34383632-6163-4265-b766-366133623933
DTSTAMP:20260424T162110Z
DESCRIPTION:1/1 Karlovarsko - Odolena Voda 0:2 (-22\,-13)
DTSTART;TZID=Europe/Berlin:20250118T110000
DTEND;TZID=Europe/Berlin:20250118T130000
LOCATION:Mattoni Arena Hala míčových sportů\, Západní 1812 Karlovy Vary
SUMMARY:CP-U16M-4C: Karlovarsko-Odolena Voda
END:VEVENT
BEGIN:VEVENT
UID:34326530-6661-4230-a530-373335346537
DTSTAMP:20260424T162110Z
DESCRIPTION:1/2 Orion A - SKV Ústí n.L. 2:1 (-16\,23\,7)
DTSTART;TZID=Europe/Berlin:20250118T110000
DTEND;TZID=Europe/Berlin:20250118T130000
LOCATION:ZŠ prof. Švejcara\, Mráčkova\, Mráčkova 3090 Praha - Modřany
SUMMARY:CP-U16M-4C: Orion A-SKV Ústí n.L.
END:VEVENT
BEGIN:VEVENT
UID:31333532-6531-4031-b666-396331333239
DTSTAMP:20260424T162110Z
DESCRIPTION:1/3 Příbram B - Volejbalový klub Ostrava\, z.s. 0:2 (-23\,-17)
DTSTART;TZID=Europe/Berlin:20250118T110000
DTEND;TZID=Europe/Berlin:20250118T130000
LOCATION:Tělocvična ZŠ Balbínova\, Balbínova 328 Příbram - Příbram II
SUMMARY:CP-U16M-4C: Příbram B-Volejbalový klub Ostrava\, z.s.
END:VEVENT
BEGIN:VEVENT
UID:61663930-6237-4761-a236-393535656366
DTSTAMP:20260424T162110Z
DESCRIPTION:1/4 Kojetín - PFN Znojmo 2:0 (19\,18)
DTSTART;TZID=Europe/Berlin:20250118T110000
DTEND;TZID=Europe/Berlin:20250118T130000
LOCATION:Městská sportovní hala\, Hanusíkova 1476 Kojetín - Kojetín I-Město
SUMMARY:CP-U16M-4C: Kojetín-PFN Znojmo
END:VEVENT
BEGIN:VEVENT
UID:31396565-3634-4661-a333-303662633138
DTSTAMP:20260424T162110Z
DESCRIPTION:2/5 Karlovarsko - Orion A 2:1 (19\,-24\,13)
DTSTART;TZID=Europe/Berlin:20250118T123000
DTEND;TZID=Europe/Berlin:20250118T143000
LOCATION:Mattoni Arena Hala míčových sportů\, Západní 1812 Karlovy Vary
SUMMARY:CP-U16M-4C: Karlovarsko-Orion A
END:VEVENT
BEGIN:VEVENT
UID:34396465-3837-4533-b164-353265633335
DTSTAMP:20260424T162110Z
DESCRIPTION:2/6 Odolena Voda - SKV Ústí n.L. 2:0 (23\,16)
DTSTART;TZID=Europe/Berlin:20250118T123000
DTEND;TZID=Europe/Berlin:20250118T143000
LOCATION:Sportovní hala\, Ke Stadionu 375 Odolena Voda
SUMMARY:CP-U16M-4C: Odolena Voda-SKV Ústí n.L.
END:VEVENT
BEGIN:VEVENT
UID:64333838-3234-4730-b262-393034353135
DTSTAMP:20260424T162110Z
DESCRIPTION:2/7 Příbram B - Kojetín 1:2 (-21\,21\,-9)
DTSTART;TZID=Europe/Berlin:20250118T123000
DTEND;TZID=Europe/Berlin:20250118T143000
LOCATION:Tělocvična ZŠ Balbínova\, Balbínova 328 Příbram - Příbram II
SUMMARY:CP-U16M-4C: Příbram B-Kojetín
END:VEVENT
BEGIN:VEVENT
UID:66376662-3562-4365-b763-336438343831
DTSTAMP:20260424T162110Z
DESCRIPTION:2/8 Volejbalový klub Ostrava\, z.s. - PFN Znojmo 2:0 (22\,19)
DTSTART;TZID=Europe/Berlin:20250118T123000
DTEND;TZID=Europe/Berlin:20250118T143000
LOCATION:Hala Střední zdravotní školy\, 1. máje 2208 Ostrava - Mariánské Ho
 ry
SUMMARY:CP-U16M-4C: Volejbalový klub Ostrava\, z.s.-PFN Znojmo
END:VEVENT
BEGIN:VEVENT
UID:31333161-6532-4463-b739-643633326136
DTSTAMP:20260424T162110Z
DESCRIPTION:3/9 Karlovarsko - SKV Ústí n.L. 2:0 (15\,21)
DTSTART;TZID=Europe/Berlin:20250118T150000
DTEND;TZID=Europe/Berlin:20250118T170000
LOCATION:Mattoni Arena Hala míčových sportů\, Západní 1812 Karlovy Vary
SUMMARY:CP-U16M-4C: Karlovarsko-SKV Ústí n.L.
END:VEVENT
BEGIN:VEVENT
UID:66646364-3535-4531-a335-623666346136
DTSTAMP:20260424T162110Z
DESCRIPTION:3/10 Odolena Voda - Orion A 2:1 (17\,-18\,3)
DTSTART;TZID=Europe/Berlin:20250118T150000
DTEND;TZID=Europe/Berlin:20250118T170000
LOCATION:Sportovní hala\, Ke Stadionu 375 Odolena Voda
SUMMARY:CP-U16M-4C: Odolena Voda-Orion A
END:VEVENT
BEGIN:VEVENT
UID:32313965-6334-4133-a630-663131613961
DTSTAMP:20260424T162110Z
DESCRIPTION:3/11 Příbram B - PFN Znojmo 1:2 (-14\,22\,-15)
DTSTART;TZID=Europe/Berlin:20250118T150000
DTEND;TZID=Europe/Berlin:20250118T170000
LOCATION:Tělocvična ZŠ Balbínova\, Balbínova 328 Příbram - Příbram II
SUMMARY:CP-U16M-4C: Příbram B-PFN Znojmo
END:VEVENT
BEGIN:VEVENT
UID:35333663-3563-4662-a236-386233383164
DTSTAMP:20260424T162110Z
DESCRIPTION:3/12 Volejbalový klub Ostrava\, z.s. - Kojetín 1:2 (23\,-21\,-1
 3)
DTSTART;TZID=Europe/Berlin:20250118T150000
DTEND;TZID=Europe/Berlin:20250118T170000
LOCATION:Hala Střední zdravotní školy\, 1. máje 2208 Ostrava - Mariánské Ho
 ry
SUMMARY:CP-U16M-4C: Volejbalový klub Ostrava\, z.s.-Kojetín
END:VEVENT
BEGIN:VEVENT
UID:37396438-3964-4262-b533-393736653938
DTSTAMP:20260424T162110Z
DESCRIPTION:4/13 Karlovarsko - Příbram B 1:2 (11\,-14\,-7)
DTSTART;TZID=Europe/Berlin:20250118T163000
DTEND;TZID=Europe/Berlin:20250118T183000
LOCATION:Mattoni Arena Hala míčových sportů\, Západní 1812 Karlovy Vary
SUMMARY:CP-U16M-4C: Karlovarsko-Příbram B
END:VEVENT
BEGIN:VEVENT
UID:38656336-3439-4965-a534-393663303464
DTSTAMP:20260424T162110Z
DESCRIPTION:4/14 Odolena Voda - Volejbalový klub Ostrava\, z.s. 2:0 (12\,14
 )
DTSTART;TZID=Europe/Berlin:20250118T163000
DTEND;TZID=Europe/Berlin:20250118T183000
LOCATION:Sportovní hala\, Ke Stadionu 375 Odolena Voda
SUMMARY:CP-U16M-4C: Odolena Voda-Volejbalový klub Ostrava\, z.s.
END:VEVENT
BEGIN:VEVENT
UID:36666161-3632-4164-a563-326365326530
DTSTAMP:20260424T162110Z
DESCRIPTION:4/15 Orion A - Kojetín 0:2 (-14\,-20)
DTSTART;TZID=Europe/Berlin:20250118T163000
DTEND;TZID=Europe/Berlin:20250118T183000
LOCATION:ZŠ prof. Švejcara\, Mráčkova\, Mráčkova 3090 Praha - Modřany
SUMMARY:CP-U16M-4C: Orion A-Kojetín
END:VEVENT
BEGIN:VEVENT
UID:61373839-6565-4238-a330-653266653632
DTSTAMP:20260424T162110Z
DESCRIPTION:4/16 SKV Ústí n.L. - PFN Znojmo 1:2 (-16\,22\,-7)
DTSTART;TZID=Europe/Berlin:20250118T163000
DTEND;TZID=Europe/Berlin:20250118T183000
LOCATION:ZŠ Rabasova\, Rabasova 3282 Ústí nad Labem - Severní Terasa
SUMMARY:CP-U16M-4C: SKV Ústí n.L.-PFN Znojmo
END:VEVENT
BEGIN:VEVENT
UID:39623361-3339-4331-b966-383161396438
DTSTAMP:20260424T162110Z
DESCRIPTION:5/17 Karlovarsko - Volejbalový klub Ostrava\, z.s. 1:2 (15\,-22
 \,-8)
DTSTART;TZID=Europe/Berlin:20250119T090000
DTEND;TZID=Europe/Berlin:20250119T110000
LOCATION:Mattoni Arena Hala míčových sportů\, Západní 1812 Karlovy Vary
SUMMARY:CP-U16M-4C: Karlovarsko-Volejbalový klub Ostrava\, z.s.
END:VEVENT
BEGIN:VEVENT
UID:37393637-3265-4430-b638-323734666161
DTSTAMP:20260424T162110Z
DESCRIPTION:5/18 Odolena Voda - Příbram B 2:1 (-22\,15\,10)
DTSTART;TZID=Europe/Berlin:20250119T090000
DTEND;TZID=Europe/Berlin:20250119T110000
LOCATION:Sportovní hala\, Ke Stadionu 375 Odolena Voda
SUMMARY:CP-U16M-4C: Odolena Voda-Příbram B
END:VEVENT
BEGIN:VEVENT
UID:66643437-6438-4163-b461-303636363137
DTSTAMP:20260424T162110Z
DESCRIPTION:5/19 Orion A - PFN Znojmo 0:2 (-22\,-18)
DTSTART;TZID=Europe/Berlin:20250119T090000
DTEND;TZID=Europe/Berlin:20250119T110000
LOCATION:ZŠ prof. Švejcara\, Mráčkova\, Mráčkova 3090 Praha - Modřany
SUMMARY:CP-U16M-4C: Orion A-PFN Znojmo
END:VEVENT
BEGIN:VEVENT
UID:34623639-3734-4663-b830-363666643636
DTSTAMP:20260424T162110Z
DESCRIPTION:5/20 SKV Ústí n.L. - Kojetín 0:2 (-12\,-11)
DTSTART;TZID=Europe/Berlin:20250119T090000
DTEND;TZID=Europe/Berlin:20250119T110000
LOCATION:ZŠ Rabasova\, Rabasova 3282 Ústí nad Labem - Severní Terasa
SUMMARY:CP-U16M-4C: SKV Ústí n.L.-Kojetín
END:VEVENT
BEGIN:VEVENT
UID:31626632-3264-4536-b232-623263653261
DTSTAMP:20260424T162110Z
DESCRIPTION:6/21 Karlovarsko - Kojetín 0:2 (-20\,-24)
DTSTART;TZID=Europe/Berlin:20250119T103000
DTEND;TZID=Europe/Berlin:20250119T123000
LOCATION:Mattoni Arena Hala míčových sportů\, Západní 1812 Karlovy Vary
SUMMARY:CP-U16M-4C: Karlovarsko-Kojetín
END:VEVENT
BEGIN:VEVENT
UID:37636564-3164-4465-b633-613331333139
DTSTAMP:20260424T162110Z
DESCRIPTION:6/22 Odolena Voda - PFN Znojmo 2:1 (8\,-23\,11)
DTSTART;TZID=Europe/Berlin:20250119T103000
DTEND;TZID=Europe/Berlin:20250119T123000
LOCATION:Sportovní hala\, Ke Stadionu 375 Odolena Voda
SUMMARY:CP-U16M-4C: Odolena Voda-PFN Znojmo
END:VEVENT
BEGIN:VEVENT
UID:36656166-6164-4065-b539-663737353062
DTSTAMP:20260424T162110Z
DESCRIPTION:6/23 Orion A - Příbram B 2:0 (20\,21)
DTSTART;TZID=Europe/Berlin:20250119T103000
DTEND;TZID=Europe/Berlin:20250119T123000
LOCATION:ZŠ prof. Švejcara\, Mráčkova\, Mráčkova 3090 Praha - Modřany
SUMMARY:CP-U16M-4C: Orion A-Příbram B
END:VEVENT
BEGIN:VEVENT
UID:66343037-3331-4233-a431-386261646464
DTSTAMP:20260424T162110Z
DESCRIPTION:6/24 SKV Ústí n.L. - Volejbalový klub Ostrava\, z.s. 0:2 (-24\,
 -14)
DTSTART;TZID=Europe/Berlin:20250119T103000
DTEND;TZID=Europe/Berlin:20250119T123000
LOCATION:ZŠ Rabasova\, Rabasova 3282 Ústí nad Labem - Severní Terasa
SUMMARY:CP-U16M-4C: SKV Ústí n.L.-Volejbalový klub Ostrava\, z.s.
END:VEVENT
BEGIN:VEVENT
UID:38333562-3633-4939-b239-383063343639
DTSTAMP:20260424T162110Z
DESCRIPTION:7/25 Karlovarsko - PFN Znojmo 0:2 (-23\,-23)
DTSTART;TZID=Europe/Berlin:20250119T120000
DTEND;TZID=Europe/Berlin:20250119T140000
LOCATION:Mattoni Arena Hala míčových sportů\, Západní 1812 Karlovy Vary
SUMMARY:CP-U16M-4C: Karlovarsko-PFN Znojmo
END:VEVENT
BEGIN:VEVENT
UID:33656331-3133-4133-b637-336335646139
DTSTAMP:20260424T162110Z
DESCRIPTION:7/26 Odolena Voda - Kojetín 2:0 (22\,14)
DTSTART;TZID=Europe/Berlin:20250119T120000
DTEND;TZID=Europe/Berlin:20250119T140000
LOCATION:Sportovní hala\, Ke Stadionu 375 Odolena Voda
SUMMARY:CP-U16M-4C: Odolena Voda-Kojetín
END:VEVENT
BEGIN:VEVENT
UID:63623262-3038-4132-a235-303337653137
DTSTAMP:20260424T162110Z
DESCRIPTION:7/27 Orion A - Volejbalový klub Ostrava\, z.s. 0:2 (-22\,-21)
DTSTART;TZID=Europe/Berlin:20250119T120000
DTEND;TZID=Europe/Berlin:20250119T140000
LOCATION:ZŠ prof. Švejcara\, Mráčkova\, Mráčkova 3090 Praha - Modřany
SUMMARY:CP-U16M-4C: Orion A-Volejbalový klub Ostrava\, z.s.
END:VEVENT
BEGIN:VEVENT
UID:61663530-3533-4964-b566-303663323239
DTSTAMP:20260424T162110Z
DESCRIPTION:7/28 SKV Ústí n.L. - Příbram B 1:2 (24\,-16\,-12)
DTSTART;TZID=Europe/Berlin:20250119T120000
DTEND;TZID=Europe/Berlin:20250119T140000
LOCATION:ZŠ Rabasova\, Rabasova 3282 Ústí nad Labem - Severní Terasa
SUMMARY:CP-U16M-4C: SKV Ústí n.L.-Příbram B
END:VEVENT
END:VCALENDAR
