BEGIN:VCALENDAR
VERSION:2.0
PRODID:-//PP-U16M-T4-2//NONSGML kigkonsult.se iCalcreator 2.41.80//
CALSCALE:GREGORIAN
UID:36313030-3966-4433-a432-306131393066
BEGIN:VEVENT
UID:63343764-6239-4637-a331-363035306632
DTSTAMP:20260421T210040Z
DESCRIPTION:1/1 SK PROSEK C - SK Meteor Praha A 1:2 (21\,-23\,-9)
DTSTART;TZID=Europe/Berlin:20250126T090000
DTEND;TZID=Europe/Berlin:20250126T110000
LOCATION:Sokol Bubeneč\, Korunovační 630 Praha - Bubeneč
SUMMARY:PP-U16M-T4-2: SK PROSEK C-SK Meteor Praha A
END:VEVENT
BEGIN:VEVENT
UID:30663266-3231-4662-b238-313537353331
DTSTAMP:20260421T210040Z
DESCRIPTION:2/2 BVŠP - SK PROSEK B 0:2 (-18\,-18)
DTSTART;TZID=Europe/Berlin:20250126T100000
DTEND;TZID=Europe/Berlin:20250126T120000
LOCATION:Sokol Bubeneč\, Korunovační 630 Praha - Bubeneč
SUMMARY:PP-U16M-T4-2: BVŠP-SK PROSEK B
END:VEVENT
BEGIN:VEVENT
UID:36626435-3662-4630-a534-626166613466
DTSTAMP:20260421T210040Z
DESCRIPTION:3/3 BVŠP - SK PROSEK C 2:0 (12\,12)
DTSTART;TZID=Europe/Berlin:20250126T110000
DTEND;TZID=Europe/Berlin:20250126T130000
LOCATION:Sokol Bubeneč\, Korunovační 630 Praha - Bubeneč
SUMMARY:PP-U16M-T4-2: BVŠP-SK PROSEK C
END:VEVENT
BEGIN:VEVENT
UID:61343938-3630-4432-b639-373566313137
DTSTAMP:20260421T210040Z
DESCRIPTION:4/4 SK PROSEK B - SK Meteor Praha A 2:0 (23\,12)
DTSTART;TZID=Europe/Berlin:20250126T120000
DTEND;TZID=Europe/Berlin:20250126T140000
LOCATION:Sokol Bubeneč\, Korunovační 630 Praha - Bubeneč
SUMMARY:PP-U16M-T4-2: SK PROSEK B-SK Meteor Praha A
END:VEVENT
BEGIN:VEVENT
UID:39623531-3735-4637-a132-386339383437
DTSTAMP:20260421T210040Z
DESCRIPTION:5/5 SK PROSEK B - SK PROSEK C 2:0 (12\,10)
DTSTART;TZID=Europe/Berlin:20250126T130000
DTEND;TZID=Europe/Berlin:20250126T150000
LOCATION:Sokol Bubeneč\, Korunovační 630 Praha - Bubeneč
SUMMARY:PP-U16M-T4-2: SK PROSEK B-SK PROSEK C
END:VEVENT
BEGIN:VEVENT
UID:61656335-3261-4335-b863-336337326265
DTSTAMP:20260421T210040Z
DESCRIPTION:6/6 SK Meteor Praha A - BVŠP 0:2 (-22\,-22)
DTSTART;TZID=Europe/Berlin:20250126T140000
DTEND;TZID=Europe/Berlin:20250126T160000
LOCATION:Sokol Bubeneč\, Korunovační 630 Praha - Bubeneč
SUMMARY:PP-U16M-T4-2: SK Meteor Praha A-BVŠP
END:VEVENT
END:VCALENDAR
