BEGIN:VCALENDAR
VERSION:2.0
PRODID:-//1-U22Z-II//NONSGML kigkonsult.se iCalcreator 2.41.80//
CALSCALE:GREGORIAN
UID:64346362-6563-4233-b139-663837386232
BEGIN:VEVENT
UID:38393665-3839-4734-a664-356661313935
DTSTAMP:20260425T101559Z
DESCRIPTION:1/1 Nymburk - Zlín X:3
DTSTART;TZID=Europe/Berlin:20250201T110000
DTEND;TZID=Europe/Berlin:20250201T130000
LOCATION:ZŠ Komenského\, Nymburk\, Komenského 589 Nymburk
SUMMARY:1-U22Z-II: Nymburk-Zlín
END:VEVENT
BEGIN:VEVENT
UID:38353065-3565-4932-b437-323831313463
DTSTAMP:20260425T101559Z
DESCRIPTION:1/2 Mikulova - Kojetín 3:0 (19\,25\,11)
DTSTART;TZID=Europe/Berlin:20250315T120000
DTEND;TZID=Europe/Berlin:20250315T140000
LOCATION:TJ Sokol Modřany\, K Vltavě 410 Praha - Modřany
SUMMARY:1-U22Z-II: Mikulova-Kojetín
END:VEVENT
BEGIN:VEVENT
UID:36306335-6462-4963-b965-623936613733
DTSTAMP:20260425T101559Z
DESCRIPTION:1/3 Benátky n. J. - KP Brno B 3:1 (17\,21\,-24\,20)
DTSTART;TZID=Europe/Berlin:20250201T100000
DTEND;TZID=Europe/Berlin:20250201T120000
LOCATION:Nibe aréna\, městská sportovní hala\, 5. května 746 Benátky nad Ji
 zerou - Benátky nad Jizerou II
SUMMARY:1-U22Z-II: Benátky n. J.-KP Brno B
END:VEVENT
BEGIN:VEVENT
UID:38663731-3836-4832-a230-366533396634
DTSTAMP:20260425T101559Z
DESCRIPTION:2/4 Nymburk - Zlín X:3
DTSTART;TZID=Europe/Berlin:20250201T150000
DTEND;TZID=Europe/Berlin:20250201T170000
LOCATION:ZŠ Komenského\, Nymburk\, Komenského 589 Nymburk
SUMMARY:1-U22Z-II: Nymburk-Zlín
END:VEVENT
BEGIN:VEVENT
UID:62373436-3337-4465-b264-613038656132
DTSTAMP:20260425T101559Z
DESCRIPTION:2/5 Mikulova - Kojetín 3:2 (15\,-22\,-23\,23\,11)
DTSTART;TZID=Europe/Berlin:20250315T160000
DTEND;TZID=Europe/Berlin:20250315T180000
LOCATION:TJ Sokol Modřany\, K Vltavě 410 Praha - Modřany
SUMMARY:1-U22Z-II: Mikulova-Kojetín
END:VEVENT
BEGIN:VEVENT
UID:34323630-6163-4762-b032-336336616638
DTSTAMP:20260425T101559Z
DESCRIPTION:2/6 Benátky n. J. - KP Brno B 3:1 (-21\,16\,22\,14)
DTSTART;TZID=Europe/Berlin:20250201T140000
DTEND;TZID=Europe/Berlin:20250201T160000
LOCATION:Nibe aréna\, městská sportovní hala\, 5. května 746 Benátky nad Ji
 zerou - Benátky nad Jizerou II
SUMMARY:1-U22Z-II: Benátky n. J.-KP Brno B
END:VEVENT
BEGIN:VEVENT
UID:66616632-3830-4430-b263-636161383866
DTSTAMP:20260425T101559Z
DESCRIPTION:3/7 Kojetín - Nymburk 2:3 (-5\,-18\,13\,25\,-15)
DTSTART;TZID=Europe/Berlin:20250208T100000
DTEND;TZID=Europe/Berlin:20250208T120000
LOCATION:Městská sportovní hala\, Hanusíkova 1476 Kojetín - Kojetín I-Město
SUMMARY:1-U22Z-II: Kojetín-Nymburk
END:VEVENT
BEGIN:VEVENT
UID:63306631-3133-4365-b230-326263346261
DTSTAMP:20260425T101559Z
DESCRIPTION:3/8 KP Brno B - Mikulova 3:2 (17\,-22\,16\,-23\,10)
DTSTART;TZID=Europe/Berlin:20250208T110000
DTEND;TZID=Europe/Berlin:20250208T130000
LOCATION:Základní škola Brno\, Sirotkova 36\, Sirotkova 371 Brno - Žabovřes
 ky
SUMMARY:1-U22Z-II: KP Brno B-Mikulova
END:VEVENT
BEGIN:VEVENT
UID:63333136-3965-4631-a364-643134333064
DTSTAMP:20260425T101559Z
DESCRIPTION:3/9 Zlín - Benátky n. J. 3:2 (-20\,16\,-15\,22\,17)
DTSTART;TZID=Europe/Berlin:20250208T110000
DTEND;TZID=Europe/Berlin:20250208T130000
LOCATION:Sportovní hala Datart Zlín\, U Zimního stadionu 4286 Zlín
SUMMARY:1-U22Z-II: Zlín-Benátky n. J.
END:VEVENT
BEGIN:VEVENT
UID:65333362-3162-4630-b237-356234383034
DTSTAMP:20260425T101559Z
DESCRIPTION:4/10 Kojetín - Nymburk 3:2 (20\,-21\,18\,-12\,16)
DTSTART;TZID=Europe/Berlin:20250208T140000
DTEND;TZID=Europe/Berlin:20250208T160000
LOCATION:Městská sportovní hala\, Hanusíkova 1476 Kojetín - Kojetín I-Město
SUMMARY:1-U22Z-II: Kojetín-Nymburk
END:VEVENT
BEGIN:VEVENT
UID:32353335-6664-4464-b761-633230643564
DTSTAMP:20260425T101559Z
DESCRIPTION:4/11 KP Brno B - Mikulova 2:3 (-23\,22\,-31\,14\,-13)
DTSTART;TZID=Europe/Berlin:20250208T140000
DTEND;TZID=Europe/Berlin:20250208T160000
LOCATION:Základní škola Brno\, Sirotkova 36\, Sirotkova 371 Brno - Žabovřes
 ky
SUMMARY:1-U22Z-II: KP Brno B-Mikulova
END:VEVENT
BEGIN:VEVENT
UID:66383036-3165-4563-b032-613535313466
DTSTAMP:20260425T101559Z
DESCRIPTION:4/12 Zlín - Benátky n. J. 3:0 (17\,21\,12)
DTSTART;TZID=Europe/Berlin:20250208T140000
DTEND;TZID=Europe/Berlin:20250208T160000
LOCATION:Sportovní hala Datart Zlín\, U Zimního stadionu 4286 Zlín
SUMMARY:1-U22Z-II: Zlín-Benátky n. J.
END:VEVENT
BEGIN:VEVENT
UID:63616537-3331-4633-b438-666432303333
DTSTAMP:20260425T101559Z
DESCRIPTION:5/13 Nymburk - KP Brno B 3:0 (19\,25\,19)
DTSTART;TZID=Europe/Berlin:20250301T110000
DTEND;TZID=Europe/Berlin:20250301T130000
LOCATION:Sportovní centrum Nymburk\, Sportovní 1801 Nymburk
SUMMARY:1-U22Z-II: Nymburk-KP Brno B
END:VEVENT
BEGIN:VEVENT
UID:31376237-3831-4663-b336-633733303762
DTSTAMP:20260425T101559Z
DESCRIPTION:5/14 Mikulova - Zlín 3:2 (23\,-23\,-23\,23\,12)
DTSTART;TZID=Europe/Berlin:20250301T120000
DTEND;TZID=Europe/Berlin:20250301T140000
LOCATION:TJ Sokol Modřany\, K Vltavě 410 Praha - Modřany
SUMMARY:1-U22Z-II: Mikulova-Zlín
END:VEVENT
BEGIN:VEVENT
UID:36643035-3733-4539-b833-623432356265
DTSTAMP:20260425T101559Z
DESCRIPTION:5/15 Benátky n. J. - Kojetín 1:3 (-21\,16\,-22\,-22)
DTSTART;TZID=Europe/Berlin:20250406T120000
DTEND;TZID=Europe/Berlin:20250406T140000
LOCATION:Nibe aréna\, městská sportovní hala\, 5. května 746 Benátky nad Ji
 zerou - Benátky nad Jizerou II
SUMMARY:1-U22Z-II: Benátky n. J.-Kojetín
END:VEVENT
BEGIN:VEVENT
UID:65623435-3137-4935-b636-613630656234
DTSTAMP:20260425T101559Z
DESCRIPTION:6/16 Nymburk - KP Brno B 2:3 (-20\,12\,-18\,21\,-12)
DTSTART;TZID=Europe/Berlin:20250301T140000
DTEND;TZID=Europe/Berlin:20250301T160000
LOCATION:Sportovní centrum Nymburk\, Sportovní 1801 Nymburk
SUMMARY:1-U22Z-II: Nymburk-KP Brno B
END:VEVENT
BEGIN:VEVENT
UID:63383862-3135-4365-b538-653063633632
DTSTAMP:20260425T101559Z
DESCRIPTION:6/17 Mikulova - Zlín 2:3 (-15\,-21\,22\,28\,-12)
DTSTART;TZID=Europe/Berlin:20250301T150000
DTEND;TZID=Europe/Berlin:20250301T170000
LOCATION:TJ Sokol Modřany\, K Vltavě 410 Praha - Modřany
SUMMARY:1-U22Z-II: Mikulova-Zlín
END:VEVENT
BEGIN:VEVENT
UID:65613865-3965-4166-b363-636661633261
DTSTAMP:20260425T101559Z
DESCRIPTION:6/18 Benátky n. J. - Kojetín 3:0 (23\,20\,20)
DTSTART;TZID=Europe/Berlin:20250406T160000
DTEND;TZID=Europe/Berlin:20250406T180000
LOCATION:Nibe aréna\, městská sportovní hala\, 5. května 746 Benátky nad Ji
 zerou - Benátky nad Jizerou II
SUMMARY:1-U22Z-II: Benátky n. J.-Kojetín
END:VEVENT
BEGIN:VEVENT
UID:63633532-3038-4337-b132-393734656532
DTSTAMP:20260425T101559Z
DESCRIPTION:7/19 Zlín - Nymburk 1:3 (-22\,19\,-19\,-13)
DTSTART;TZID=Europe/Berlin:20250315T110000
DTEND;TZID=Europe/Berlin:20250315T130000
LOCATION:Sportovní hala Datart Zlín\, U Zimního stadionu 4286 Zlín
SUMMARY:1-U22Z-II: Zlín-Nymburk
END:VEVENT
BEGIN:VEVENT
UID:64333535-6237-4436-b939-383738313330
DTSTAMP:20260425T101559Z
DESCRIPTION:7/20 Kojetín - Mikulova 3:1 (-21\,19\,15\,17)
DTSTART;TZID=Europe/Berlin:20250201T100000
DTEND;TZID=Europe/Berlin:20250201T120000
LOCATION:Městská sportovní hala\, Hanusíkova 1476 Kojetín - Kojetín I-Město
SUMMARY:1-U22Z-II: Kojetín-Mikulova
END:VEVENT
BEGIN:VEVENT
UID:37313864-3331-4165-b636-623738653539
DTSTAMP:20260425T101559Z
DESCRIPTION:7/21 KP Brno B - Benátky n. J. 3:0 (18\,14\,15)
DTSTART;TZID=Europe/Berlin:20250316T110000
DTEND;TZID=Europe/Berlin:20250316T130000
LOCATION:Základní škola Brno\, Sirotkova 36\, Sirotkova 371 Brno - Žabovřes
 ky
SUMMARY:1-U22Z-II: KP Brno B-Benátky n. J.
END:VEVENT
BEGIN:VEVENT
UID:38333730-3838-4962-b161-366434303933
DTSTAMP:20260425T101559Z
DESCRIPTION:8/22 Zlín - Nymburk 1:3 (25\,-16\,-17\,-11)
DTSTART;TZID=Europe/Berlin:20250315T140000
DTEND;TZID=Europe/Berlin:20250315T160000
LOCATION:Sportovní hala Datart Zlín\, U Zimního stadionu 4286 Zlín
SUMMARY:1-U22Z-II: Zlín-Nymburk
END:VEVENT
BEGIN:VEVENT
UID:30316531-6136-4233-a561-636465346263
DTSTAMP:20260425T101559Z
DESCRIPTION:8/23 Kojetín - Mikulova 3:0 (25\,22\,26)
DTSTART;TZID=Europe/Berlin:20250201T140000
DTEND;TZID=Europe/Berlin:20250201T160000
LOCATION:Městská sportovní hala\, Hanusíkova 1476 Kojetín - Kojetín I-Město
SUMMARY:1-U22Z-II: Kojetín-Mikulova
END:VEVENT
BEGIN:VEVENT
UID:37376663-3263-4639-b361-613063643831
DTSTAMP:20260425T101559Z
DESCRIPTION:8/24 KP Brno B - Benátky n. J. 3:0 (10\,16\,11)
DTSTART;TZID=Europe/Berlin:20250316T140000
DTEND;TZID=Europe/Berlin:20250316T160000
LOCATION:Základní škola Brno\, Sirotkova 36\, Sirotkova 371 Brno - Žabovřes
 ky
SUMMARY:1-U22Z-II: KP Brno B-Benátky n. J.
END:VEVENT
BEGIN:VEVENT
UID:30643337-3364-4837-a166-323964636439
DTSTAMP:20260425T101559Z
DESCRIPTION:9/25 Nymburk - Kojetín 3:0 (18\,23\,14)
DTSTART;TZID=Europe/Berlin:20250329T100000
DTEND;TZID=Europe/Berlin:20250329T120000
LOCATION:Bios\, V Kolonii 1804 Nymburk
SUMMARY:1-U22Z-II: Nymburk-Kojetín
END:VEVENT
BEGIN:VEVENT
UID:33383761-3339-4663-b937-303563353032
DTSTAMP:20260425T101559Z
DESCRIPTION:9/26 Mikulova - KP Brno B 1:3 (-16\,-14\,19\,-22)
DTSTART;TZID=Europe/Berlin:20250329T120000
DTEND;TZID=Europe/Berlin:20250329T140000
LOCATION:Sportovní hala DDM Praha 12 - Monet\, Herrmannova 2016 Praha - Mod
 řany
SUMMARY:1-U22Z-II: Mikulova-KP Brno B
END:VEVENT
BEGIN:VEVENT
UID:64316361-6262-4566-a633-316131353136
DTSTAMP:20260425T101559Z
DESCRIPTION:9/27 Benátky n. J. - Zlín 3:0 (20\,24\,18)
DTSTART;TZID=Europe/Berlin:20250329T110000
DTEND;TZID=Europe/Berlin:20250329T130000
LOCATION:Nibe aréna\, městská sportovní hala\, 5. května 746 Benátky nad Ji
 zerou - Benátky nad Jizerou II
SUMMARY:1-U22Z-II: Benátky n. J.-Zlín
END:VEVENT
BEGIN:VEVENT
UID:36386662-3863-4535-a231-323838653839
DTSTAMP:20260425T101559Z
DESCRIPTION:10/28 Nymburk - Kojetín 1:3 (24\,-23\,-20\,-23)
DTSTART;TZID=Europe/Berlin:20250329T140000
DTEND;TZID=Europe/Berlin:20250329T160000
LOCATION:Bios\, V Kolonii 1804 Nymburk
SUMMARY:1-U22Z-II: Nymburk-Kojetín
END:VEVENT
BEGIN:VEVENT
UID:32343037-6235-4437-b235-393236346130
DTSTAMP:20260425T101559Z
DESCRIPTION:10/29 Mikulova - KP Brno B 2:3 (-18\,18\,-24\,21\,-8)
DTSTART;TZID=Europe/Berlin:20250329T160000
DTEND;TZID=Europe/Berlin:20250329T180000
LOCATION:Sportovní hala DDM Praha 12 - Monet\, Herrmannova 2016 Praha - Mod
 řany
SUMMARY:1-U22Z-II: Mikulova-KP Brno B
END:VEVENT
BEGIN:VEVENT
UID:65646535-6434-4039-b366-663861396639
DTSTAMP:20260425T101559Z
DESCRIPTION:10/30 Benátky n. J. - Zlín 3:2 (-17\,18\,-19\,25\,13)
DTSTART;TZID=Europe/Berlin:20250329T140000
DTEND;TZID=Europe/Berlin:20250329T160000
LOCATION:Nibe aréna\, městská sportovní hala\, 5. května 746 Benátky nad Ji
 zerou - Benátky nad Jizerou II
SUMMARY:1-U22Z-II: Benátky n. J.-Zlín
END:VEVENT
BEGIN:VEVENT
UID:64633435-6133-4564-b565-313537316435
DTSTAMP:20260425T101559Z
DESCRIPTION:11/31 KP Brno B - Nymburk 2:3 (-22\,16\,26\,-21\,-9)
DTSTART;TZID=Europe/Berlin:20250405T090000
DTEND;TZID=Europe/Berlin:20250405T110000
LOCATION:Sportovní gymnázium Ludvíka Daňka\, Botanická 63 Brno - Ponava
SUMMARY:1-U22Z-II: KP Brno B-Nymburk
END:VEVENT
BEGIN:VEVENT
UID:64613038-3064-4130-a330-376234346662
DTSTAMP:20260425T101559Z
DESCRIPTION:11/32 Zlín - Mikulova 3:0 (19\,20\,13)
DTSTART;TZID=Europe/Berlin:20250405T100000
DTEND;TZID=Europe/Berlin:20250405T120000
LOCATION:Sportovní hala Datart Zlín\, U Zimního stadionu 4286 Zlín
SUMMARY:1-U22Z-II: Zlín-Mikulova
END:VEVENT
BEGIN:VEVENT
UID:33303937-6562-4534-b433-356138373862
DTSTAMP:20260425T101559Z
DESCRIPTION:11/33 Kojetín - Benátky n. J. 3:0 (18\,17\,21)
DTSTART;TZID=Europe/Berlin:20250301T110000
DTEND;TZID=Europe/Berlin:20250301T130000
LOCATION:Městská sportovní hala\, Hanusíkova 1476 Kojetín - Kojetín I-Město
SUMMARY:1-U22Z-II: Kojetín-Benátky n. J.
END:VEVENT
BEGIN:VEVENT
UID:31643365-6239-4032-b966-366261396133
DTSTAMP:20260425T101559Z
DESCRIPTION:12/34 KP Brno B - Nymburk 2:3 (21\,-17\,-13\,22\,-11)
DTSTART;TZID=Europe/Berlin:20250405T130000
DTEND;TZID=Europe/Berlin:20250405T150000
LOCATION:Sportovní gymnázium Ludvíka Daňka\, Botanická 63 Brno - Ponava
SUMMARY:1-U22Z-II: KP Brno B-Nymburk
END:VEVENT
BEGIN:VEVENT
UID:38376262-6363-4963-b362-666531613835
DTSTAMP:20260425T101559Z
DESCRIPTION:12/35 Zlín - Mikulova 3:1 (18\,-22\,23\,16)
DTSTART;TZID=Europe/Berlin:20250405T130000
DTEND;TZID=Europe/Berlin:20250405T150000
LOCATION:Sportovní hala Datart Zlín\, U Zimního stadionu 4286 Zlín
SUMMARY:1-U22Z-II: Zlín-Mikulova
END:VEVENT
BEGIN:VEVENT
UID:63373533-6632-4134-b134-373735386565
DTSTAMP:20260425T101559Z
DESCRIPTION:12/36 Kojetín - Benátky n. J. 3:0 (20\,17\,23)
DTSTART;TZID=Europe/Berlin:20250301T150000
DTEND;TZID=Europe/Berlin:20250301T170000
LOCATION:Městská sportovní hala\, Hanusíkova 1476 Kojetín - Kojetín I-Město
SUMMARY:1-U22Z-II: Kojetín-Benátky n. J.
END:VEVENT
END:VCALENDAR
