BEGIN:VCALENDAR
VERSION:2.0
PRODID:-//2-U18Z-III//NONSGML kigkonsult.se iCalcreator 2.41.80//
CALSCALE:GREGORIAN
UID:34323239-3963-4434-b634-656131333461
BEGIN:VEVENT
UID:35613537-6131-4636-b562-366566646662
DTSTAMP:20260424T233531Z
DESCRIPTION:1/1 Znojmo - VAM Olomouc 0:3 (-17\,-22\,-18)
DTSTART;TZID=Europe/Berlin:20250201T100000
DTEND;TZID=Europe/Berlin:20250201T120000
LOCATION:Gymnázium Dr. Karla Polesného\, náměstí Komenského 945 Znojmo
SUMMARY:2-U18Z-III: Znojmo-VAM Olomouc
END:VEVENT
BEGIN:VEVENT
UID:32623661-3761-4636-b633-396139386535
DTSTAMP:20260424T233531Z
DESCRIPTION:1/2 Jihlava B - Svitavy 3:1 (17\,18\,-24\,15)
DTSTART;TZID=Europe/Berlin:20250330T103000
DTEND;TZID=Europe/Berlin:20250330T123000
LOCATION:ZŠ Jihlava Demlova\, Demlova 4178 Jihlava
SUMMARY:2-U18Z-III: Jihlava B-Svitavy
END:VEVENT
BEGIN:VEVENT
UID:65373162-3936-4639-a165-326435336235
DTSTAMP:20260424T233531Z
DESCRIPTION:1/3 Třebíč - Valašské Meziříčí 1:3 (-17\,-16\,24\,-11)
DTSTART;TZID=Europe/Berlin:20250201T100000
DTEND;TZID=Europe/Berlin:20250201T120000
LOCATION:tělocvična HŠ a OA Třebíč\, Otmarova 187 Třebíč - Jejkov
SUMMARY:2-U18Z-III: Třebíč-Valašské Meziříčí
END:VEVENT
BEGIN:VEVENT
UID:61663561-3633-4361-b263-383934343335
DTSTAMP:20260424T233531Z
DESCRIPTION:2/4 Znojmo - VAM Olomouc 3:1 (-10\,15\,19\,18)
DTSTART;TZID=Europe/Berlin:20250201T140000
DTEND;TZID=Europe/Berlin:20250201T160000
LOCATION:Gymnázium Dr. Karla Polesného\, náměstí Komenského 945 Znojmo
SUMMARY:2-U18Z-III: Znojmo-VAM Olomouc
END:VEVENT
BEGIN:VEVENT
UID:66653831-6539-4836-b739-333166346238
DTSTAMP:20260424T233531Z
DESCRIPTION:2/5 Jihlava B - Svitavy 0:3 (-19\,-23\,-16)
DTSTART;TZID=Europe/Berlin:20250330T133000
DTEND;TZID=Europe/Berlin:20250330T153000
LOCATION:ZŠ Jihlava Demlova\, Demlova 4178 Jihlava
SUMMARY:2-U18Z-III: Jihlava B-Svitavy
END:VEVENT
BEGIN:VEVENT
UID:61316533-3838-4036-b131-613263656266
DTSTAMP:20260424T233531Z
DESCRIPTION:2/6 Třebíč - Valašské Meziříčí 1:3 (-13\,21\,-12\,-16)
DTSTART;TZID=Europe/Berlin:20250201T140000
DTEND;TZID=Europe/Berlin:20250201T160000
LOCATION:tělocvična HŠ a OA Třebíč\, Otmarova 187 Třebíč - Jejkov
SUMMARY:2-U18Z-III: Třebíč-Valašské Meziříčí
END:VEVENT
BEGIN:VEVENT
UID:32666162-3832-4237-b736-353633663865
DTSTAMP:20260424T233531Z
DESCRIPTION:3/7 Svitavy - Znojmo 3:0 (12\,16\,20)
DTSTART;TZID=Europe/Berlin:20250208T100000
DTEND;TZID=Europe/Berlin:20250208T120000
LOCATION:Sportovní hala Na Střelnici\, Pražská 2162 Svitavy - Předměstí
SUMMARY:2-U18Z-III: Svitavy-Znojmo
END:VEVENT
BEGIN:VEVENT
UID:38373930-3035-4061-a134-613634643364
DTSTAMP:20260424T233531Z
DESCRIPTION:3/8 Valašské Meziříčí - Jihlava B 3:1 (-20\,22\,15\,16)
DTSTART;TZID=Europe/Berlin:20250208T103000
DTEND;TZID=Europe/Berlin:20250208T123000
LOCATION:ZŠ Šafaříkova\, Šafaříkova 726 Valašské Meziříčí
SUMMARY:2-U18Z-III: Valašské Meziříčí-Jihlava B
END:VEVENT
BEGIN:VEVENT
UID:61363064-3433-4439-b963-316533303335
DTSTAMP:20260424T233531Z
DESCRIPTION:3/9 VAM Olomouc - Třebíč 0:3 (-23\,-24\,-20)
DTSTART;TZID=Europe/Berlin:20250208T110000
DTEND;TZID=Europe/Berlin:20250208T130000
LOCATION:Baluo\, U Letiště 976 Olomouc - Neředín
SUMMARY:2-U18Z-III: VAM Olomouc-Třebíč
END:VEVENT
BEGIN:VEVENT
UID:65626435-6331-4366-a531-643537356166
DTSTAMP:20260424T233531Z
DESCRIPTION:4/10 Svitavy - Znojmo 3:0 (17\,20\,17)
DTSTART;TZID=Europe/Berlin:20250208T140000
DTEND;TZID=Europe/Berlin:20250208T160000
LOCATION:Sportovní hala Na Střelnici\, Pražská 2162 Svitavy - Předměstí
SUMMARY:2-U18Z-III: Svitavy-Znojmo
END:VEVENT
BEGIN:VEVENT
UID:36306662-3236-4162-b831-323761313938
DTSTAMP:20260424T233531Z
DESCRIPTION:4/11 Valašské Meziříčí - Jihlava B 3:0 (9\,19\,15)
DTSTART;TZID=Europe/Berlin:20250208T143000
DTEND;TZID=Europe/Berlin:20250208T163000
LOCATION:ZŠ Šafaříkova\, Šafaříkova 726 Valašské Meziříčí
SUMMARY:2-U18Z-III: Valašské Meziříčí-Jihlava B
END:VEVENT
BEGIN:VEVENT
UID:35646136-3532-4664-b262-363538636432
DTSTAMP:20260424T233531Z
DESCRIPTION:4/12 VAM Olomouc - Třebíč 3:1 (27\,-14\,20\,23)
DTSTART;TZID=Europe/Berlin:20250208T150000
DTEND;TZID=Europe/Berlin:20250208T170000
LOCATION:Baluo\, U Letiště 976 Olomouc - Neředín
SUMMARY:2-U18Z-III: VAM Olomouc-Třebíč
END:VEVENT
BEGIN:VEVENT
UID:37653138-3232-4163-b366-653334313033
DTSTAMP:20260424T233531Z
DESCRIPTION:5/13 Znojmo - Valašské Meziříčí 1:3 (20\,-20\,-16\,-10)
DTSTART;TZID=Europe/Berlin:20250301T110000
DTEND;TZID=Europe/Berlin:20250301T130000
LOCATION:Gymnázium Dr. Karla Polesného\, náměstí Komenského 945 Znojmo
SUMMARY:2-U18Z-III: Znojmo-Valašské Meziříčí
END:VEVENT
BEGIN:VEVENT
UID:64373733-3966-4536-a131-666462613365
DTSTAMP:20260424T233531Z
DESCRIPTION:5/14 Jihlava B - VAM Olomouc 0:3 (-18\,-21\,-11)
DTSTART;TZID=Europe/Berlin:20250301T100000
DTEND;TZID=Europe/Berlin:20250301T120000
LOCATION:ZŠ Jihlava Demlova\, Demlova 4178 Jihlava
SUMMARY:2-U18Z-III: Jihlava B-VAM Olomouc
END:VEVENT
BEGIN:VEVENT
UID:65633739-3764-4338-b738-643133323166
DTSTAMP:20260424T233531Z
DESCRIPTION:5/15 Třebíč - Svitavy 2:3 (-23\,-22\,20\,19\,-10)
DTSTART;TZID=Europe/Berlin:20250322T110000
DTEND;TZID=Europe/Berlin:20250322T130000
LOCATION:hala ZŠ TGM\, Komenského nám. 61 Třebíč - Horka-Domky
SUMMARY:2-U18Z-III: Třebíč-Svitavy
END:VEVENT
BEGIN:VEVENT
UID:31313937-3735-4135-b830-343065393533
DTSTAMP:20260424T233531Z
DESCRIPTION:6/16 Znojmo - Valašské Meziříčí 0:3 (-11\,-22\,-21)
DTSTART;TZID=Europe/Berlin:20250301T150000
DTEND;TZID=Europe/Berlin:20250301T170000
LOCATION:Gymnázium Dr. Karla Polesného\, náměstí Komenského 945 Znojmo
SUMMARY:2-U18Z-III: Znojmo-Valašské Meziříčí
END:VEVENT
BEGIN:VEVENT
UID:38653236-3137-4738-a430-643538306535
DTSTAMP:20260424T233531Z
DESCRIPTION:6/17 Jihlava B - VAM Olomouc 1:3 (-12\,20\,-14\,-12)
DTSTART;TZID=Europe/Berlin:20250301T140000
DTEND;TZID=Europe/Berlin:20250301T160000
LOCATION:ZŠ Jihlava Demlova\, Demlova 4178 Jihlava
SUMMARY:2-U18Z-III: Jihlava B-VAM Olomouc
END:VEVENT
BEGIN:VEVENT
UID:38653535-3464-4831-b332-623038393065
DTSTAMP:20260424T233531Z
DESCRIPTION:6/18 Třebíč - Svitavy 0:3 (-14\,-15\,-21)
DTSTART;TZID=Europe/Berlin:20250322T150000
DTEND;TZID=Europe/Berlin:20250322T170000
LOCATION:hala ZŠ TGM\, Komenského nám. 61 Třebíč - Horka-Domky
SUMMARY:2-U18Z-III: Třebíč-Svitavy
END:VEVENT
BEGIN:VEVENT
UID:30396139-3430-4437-b839-666132346533
DTSTAMP:20260424T233531Z
DESCRIPTION:7/19 VAM Olomouc - Znojmo 1:3 (-16\,15\,-19\,-14)
DTSTART;TZID=Europe/Berlin:20250315T110000
DTEND;TZID=Europe/Berlin:20250315T130000
LOCATION:VOŠ a SPŠE Olomouc\, Božetěchova 755 Olomouc - Hodolany
SUMMARY:2-U18Z-III: VAM Olomouc-Znojmo
END:VEVENT
BEGIN:VEVENT
UID:39666661-3238-4639-a665-373764313037
DTSTAMP:20260424T233531Z
DESCRIPTION:7/20 Svitavy - Jihlava B 3:0 (19\,20\,18)
DTSTART;TZID=Europe/Berlin:20250315T100000
DTEND;TZID=Europe/Berlin:20250315T120000
LOCATION:Sportovní hala Na Střelnici\, Pražská 2162 Svitavy - Předměstí
SUMMARY:2-U18Z-III: Svitavy-Jihlava B
END:VEVENT
BEGIN:VEVENT
UID:65396632-3262-4564-a631-623136396363
DTSTAMP:20260424T233531Z
DESCRIPTION:7/21 Valašské Meziříčí - Třebíč 3:0 (13\,15\,14)
DTSTART;TZID=Europe/Berlin:20250315T100000
DTEND;TZID=Europe/Berlin:20250315T120000
LOCATION:ZŠ Šafaříkova\, Šafaříkova 726 Valašské Meziříčí
SUMMARY:2-U18Z-III: Valašské Meziříčí-Třebíč
END:VEVENT
BEGIN:VEVENT
UID:34373661-3435-4434-b834-376137656438
DTSTAMP:20260424T233531Z
DESCRIPTION:8/22 VAM Olomouc - Znojmo 3:0 (21\,21\,21)
DTSTART;TZID=Europe/Berlin:20250315T150000
DTEND;TZID=Europe/Berlin:20250315T170000
LOCATION:VOŠ a SPŠE Olomouc\, Božetěchova 755 Olomouc - Hodolany
SUMMARY:2-U18Z-III: VAM Olomouc-Znojmo
END:VEVENT
BEGIN:VEVENT
UID:30303539-3165-4139-b030-393261333132
DTSTAMP:20260424T233531Z
DESCRIPTION:8/23 Svitavy - Jihlava B 3:0 (20\,11\,13)
DTSTART;TZID=Europe/Berlin:20250315T140000
DTEND;TZID=Europe/Berlin:20250315T160000
LOCATION:Sportovní hala Na Střelnici\, Pražská 2162 Svitavy - Předměstí
SUMMARY:2-U18Z-III: Svitavy-Jihlava B
END:VEVENT
BEGIN:VEVENT
UID:62333237-3265-4935-b932-613630643332
DTSTAMP:20260424T233531Z
DESCRIPTION:8/24 Valašské Meziříčí - Třebíč 3:0 (19\,21\,16)
DTSTART;TZID=Europe/Berlin:20250315T130000
DTEND;TZID=Europe/Berlin:20250315T150000
LOCATION:ZŠ Šafaříkova\, Šafaříkova 726 Valašské Meziříčí
SUMMARY:2-U18Z-III: Valašské Meziříčí-Třebíč
END:VEVENT
BEGIN:VEVENT
UID:30666538-3665-4937-a533-643239346565
DTSTAMP:20260424T233531Z
DESCRIPTION:9/25 Znojmo - Svitavy 3:0 (24\,22\,17)
DTSTART;TZID=Europe/Berlin:20250323T100000
DTEND;TZID=Europe/Berlin:20250323T120000
LOCATION:Gymnázium Dr. Karla Polesného\, náměstí Komenského 945 Znojmo
SUMMARY:2-U18Z-III: Znojmo-Svitavy
END:VEVENT
BEGIN:VEVENT
UID:30663839-6137-4134-b836-646465346262
DTSTAMP:20260424T233531Z
DESCRIPTION:9/26 Jihlava B - Valašské Meziříčí 0:3 (-7\,-14\,-18)
DTSTART;TZID=Europe/Berlin:20250329T103000
DTEND;TZID=Europe/Berlin:20250329T123000
LOCATION:ZŠ Jihlava Demlova\, Demlova 4178 Jihlava
SUMMARY:2-U18Z-III: Jihlava B-Valašské Meziříčí
END:VEVENT
BEGIN:VEVENT
UID:66393534-3433-4234-a665-626465343733
DTSTAMP:20260424T233531Z
DESCRIPTION:9/27 Třebíč - VAM Olomouc 3:1 (19\,-19\,20\,23)
DTSTART;TZID=Europe/Berlin:20250329T110000
DTEND;TZID=Europe/Berlin:20250329T130000
LOCATION:hala ZŠ TGM\, Komenského nám. 61 Třebíč - Horka-Domky
SUMMARY:2-U18Z-III: Třebíč-VAM Olomouc
END:VEVENT
BEGIN:VEVENT
UID:36613330-6539-4762-b632-613130353163
DTSTAMP:20260424T233531Z
DESCRIPTION:10/28 Znojmo - Svitavy 2:3 (-15\,15\,23\,-16\,-11)
DTSTART;TZID=Europe/Berlin:20250323T140000
DTEND;TZID=Europe/Berlin:20250323T160000
LOCATION:Gymnázium Dr. Karla Polesného\, náměstí Komenského 945 Znojmo
SUMMARY:2-U18Z-III: Znojmo-Svitavy
END:VEVENT
BEGIN:VEVENT
UID:35356638-3630-4230-b034-333738343734
DTSTAMP:20260424T233531Z
DESCRIPTION:10/29 Jihlava B - Valašské Meziříčí 0:3 (-9\,-17\,-18)
DTSTART;TZID=Europe/Berlin:20250329T143000
DTEND;TZID=Europe/Berlin:20250329T163000
LOCATION:ZŠ Jihlava Demlova\, Demlova 4178 Jihlava
SUMMARY:2-U18Z-III: Jihlava B-Valašské Meziříčí
END:VEVENT
BEGIN:VEVENT
UID:37616431-6435-4866-b466-663162636630
DTSTAMP:20260424T233531Z
DESCRIPTION:10/30 Třebíč - VAM Olomouc 3:2 (19\,20\,-20\,-16\,12)
DTSTART;TZID=Europe/Berlin:20250329T150000
DTEND;TZID=Europe/Berlin:20250329T170000
LOCATION:hala ZŠ TGM\, Komenského nám. 61 Třebíč - Horka-Domky
SUMMARY:2-U18Z-III: Třebíč-VAM Olomouc
END:VEVENT
BEGIN:VEVENT
UID:62313539-3263-4734-b634-386238353934
DTSTAMP:20260424T233531Z
DESCRIPTION:11/31 Valašské Meziříčí - Znojmo 3:0 (18\,17\,24)
DTSTART;TZID=Europe/Berlin:20250405T110000
DTEND;TZID=Europe/Berlin:20250405T130000
LOCATION:ZŠ Šafaříkova\, Šafaříkova 726 Valašské Meziříčí
SUMMARY:2-U18Z-III: Valašské Meziříčí-Znojmo
END:VEVENT
BEGIN:VEVENT
UID:34323164-6366-4462-b363-653037383365
DTSTAMP:20260424T233531Z
DESCRIPTION:11/32 VAM Olomouc - Jihlava B 3:1 (-15\,15\,19\,15)
DTSTART;TZID=Europe/Berlin:20250406T110000
DTEND;TZID=Europe/Berlin:20250406T130000
LOCATION:VOŠ a SPŠE Olomouc\, Božetěchova 755 Olomouc - Hodolany
SUMMARY:2-U18Z-III: VAM Olomouc-Jihlava B
END:VEVENT
BEGIN:VEVENT
UID:66666131-6231-4364-a236-346432643133
DTSTAMP:20260424T233531Z
DESCRIPTION:11/33 Svitavy - Třebíč 3:1 (-19\,10\,13\,13)
DTSTART;TZID=Europe/Berlin:20250406T100000
DTEND;TZID=Europe/Berlin:20250406T120000
LOCATION:Sportovní hala Na Střelnici\, Pražská 2162 Svitavy - Předměstí
SUMMARY:2-U18Z-III: Svitavy-Třebíč
END:VEVENT
BEGIN:VEVENT
UID:33616437-3337-4230-a665-626464373865
DTSTAMP:20260424T233531Z
DESCRIPTION:12/34 Valašské Meziříčí - Znojmo 3:1 (19\,-20\,21\,15)
DTSTART;TZID=Europe/Berlin:20250405T140000
DTEND;TZID=Europe/Berlin:20250405T160000
LOCATION:ZŠ Šafaříkova\, Šafaříkova 726 Valašské Meziříčí
SUMMARY:2-U18Z-III: Valašské Meziříčí-Znojmo
END:VEVENT
BEGIN:VEVENT
UID:62326437-6138-4135-a661-656434613463
DTSTAMP:20260424T233531Z
DESCRIPTION:12/35 VAM Olomouc - Jihlava B 3:1 (-22\,19\,19\,9)
DTSTART;TZID=Europe/Berlin:20250406T150000
DTEND;TZID=Europe/Berlin:20250406T170000
LOCATION:VOŠ a SPŠE Olomouc\, Božetěchova 755 Olomouc - Hodolany
SUMMARY:2-U18Z-III: VAM Olomouc-Jihlava B
END:VEVENT
BEGIN:VEVENT
UID:61303536-6536-4437-b630-323339373132
DTSTAMP:20260424T233531Z
DESCRIPTION:12/36 Svitavy - Třebíč 3:2 (14\,20\,-17\,-22\,7)
DTSTART;TZID=Europe/Berlin:20250406T140000
DTEND;TZID=Europe/Berlin:20250406T160000
LOCATION:Sportovní hala Na Střelnici\, Pražská 2162 Svitavy - Předměstí
SUMMARY:2-U18Z-III: Svitavy-Třebíč
END:VEVENT
END:VCALENDAR
