BEGIN:VCALENDAR
VERSION:2.0
PRODID:-//2-U20Z-II//NONSGML kigkonsult.se iCalcreator 2.41.80//
CALSCALE:GREGORIAN
UID:37633365-3763-4337-b438-623565616266
BEGIN:VEVENT
UID:34326162-6239-4439-b465-366236626239
DTSTAMP:20260421T224739Z
DESCRIPTION:1/1 Slavia Praha - Svitavy 3:0 (24\,21\,13)
DTSTART;TZID=Europe/Berlin:20250202T110000
DTEND;TZID=Europe/Berlin:20250202T130000
LOCATION:Jana\, Vladivostocká 1460 Praha - Vršovice
SUMMARY:2-U20Z-II: Slavia Praha-Svitavy
END:VEVENT
BEGIN:VEVENT
UID:35646532-3539-4537-b631-633063656132
DTSTAMP:20260421T224739Z
DESCRIPTION:1/2 Mikulova - KP Brno B 3:0 (21\,7\,20)
DTSTART;TZID=Europe/Berlin:20250308T100000
DTEND;TZID=Europe/Berlin:20250308T120000
LOCATION:VCM OLYMP PRAHA \, Radlická 115 Praha - Radlice
SUMMARY:2-U20Z-II: Mikulova-KP Brno B
END:VEVENT
BEGIN:VEVENT
UID:61326166-6339-4735-b637-656132393137
DTSTAMP:20260421T224739Z
DESCRIPTION:1/3 Meteor - Znojmo 3:0 (23\,12\,18)
DTSTART;TZID=Europe/Berlin:20250329T120000
DTEND;TZID=Europe/Berlin:20250329T140000
LOCATION:ZŠ Žernosecká\, Žernosecká 1597 Praha - Kobylisy
SUMMARY:2-U20Z-II: Meteor-Znojmo
END:VEVENT
BEGIN:VEVENT
UID:63363531-3161-4538-a161-396666643733
DTSTAMP:20260421T224739Z
DESCRIPTION:2/4 Slavia Praha - Svitavy 3:1 (-22\,20\,13\,15)
DTSTART;TZID=Europe/Berlin:20250202T140000
DTEND;TZID=Europe/Berlin:20250202T160000
LOCATION:Jana\, Vladivostocká 1460 Praha - Vršovice
SUMMARY:2-U20Z-II: Slavia Praha-Svitavy
END:VEVENT
BEGIN:VEVENT
UID:34663865-3666-4637-a466-313434333039
DTSTAMP:20260421T224739Z
DESCRIPTION:2/5 Mikulova - KP Brno B 3:1 (-20\,17\,15\,22)
DTSTART;TZID=Europe/Berlin:20250308T140000
DTEND;TZID=Europe/Berlin:20250308T160000
LOCATION:VCM OLYMP PRAHA \, Radlická 115 Praha - Radlice
SUMMARY:2-U20Z-II: Mikulova-KP Brno B
END:VEVENT
BEGIN:VEVENT
UID:35623664-6239-4532-b163-353238633230
DTSTAMP:20260421T224739Z
DESCRIPTION:2/6 Meteor - Znojmo 0:3 (-19\,-17\,-26)
DTSTART;TZID=Europe/Berlin:20250329T160000
DTEND;TZID=Europe/Berlin:20250329T180000
LOCATION:ZŠ Žernosecká\, Žernosecká 1597 Praha - Kobylisy
SUMMARY:2-U20Z-II: Meteor-Znojmo
END:VEVENT
BEGIN:VEVENT
UID:32663932-3630-4662-b936-313532363565
DTSTAMP:20260421T224739Z
DESCRIPTION:3/7 KP Brno B - Slavia Praha 1:3 (-21\,-24\,21\,-21)
DTSTART;TZID=Europe/Berlin:20250309T110000
DTEND;TZID=Europe/Berlin:20250309T130000
LOCATION:Sportovní gymnázium Ludvíka Daňka\, Botanická 63 Brno - Ponava
SUMMARY:2-U20Z-II: KP Brno B-Slavia Praha
END:VEVENT
BEGIN:VEVENT
UID:63636635-6335-4437-a237-313030363461
DTSTAMP:20260421T224739Z
DESCRIPTION:3/8 Znojmo - Mikulova 3:0 (20\,24\,36)
DTSTART;TZID=Europe/Berlin:20250322T110000
DTEND;TZID=Europe/Berlin:20250322T130000
LOCATION:Gymnázium Dr. Karla Polesného\, náměstí Komenského 945 Znojmo
SUMMARY:2-U20Z-II: Znojmo-Mikulova
END:VEVENT
BEGIN:VEVENT
UID:32616234-3966-4564-b338-353066333838
DTSTAMP:20260421T224739Z
DESCRIPTION:3/9 Svitavy - Meteor 0:3 (-20\,-21\,-16)
DTSTART;TZID=Europe/Berlin:20250309T110000
DTEND;TZID=Europe/Berlin:20250309T130000
LOCATION:Sportovní hala Na Střelnici\, Pražská 2162 Svitavy - Předměstí
SUMMARY:2-U20Z-II: Svitavy-Meteor
END:VEVENT
BEGIN:VEVENT
UID:35343933-3738-4162-b261-666131636237
DTSTAMP:20260421T224739Z
DESCRIPTION:4/10 KP Brno B - Slavia Praha 3:2 (-21\,-20\,21\,16\,11)
DTSTART;TZID=Europe/Berlin:20250309T140000
DTEND;TZID=Europe/Berlin:20250309T160000
LOCATION:Sportovní gymnázium Ludvíka Daňka\, Botanická 63 Brno - Ponava
SUMMARY:2-U20Z-II: KP Brno B-Slavia Praha
END:VEVENT
BEGIN:VEVENT
UID:63356234-3966-4736-b130-333466623764
DTSTAMP:20260421T224739Z
DESCRIPTION:4/11 Znojmo - Mikulova 1:3 (-23\,21\,-21\,-23)
DTSTART;TZID=Europe/Berlin:20250322T150000
DTEND;TZID=Europe/Berlin:20250322T170000
LOCATION:Gymnázium Dr. Karla Polesného\, náměstí Komenského 945 Znojmo
SUMMARY:2-U20Z-II: Znojmo-Mikulova
END:VEVENT
BEGIN:VEVENT
UID:31666464-3966-4236-a564-646232333931
DTSTAMP:20260421T224739Z
DESCRIPTION:4/12 Svitavy - Meteor 0:3 (-11\,-23\,-21)
DTSTART;TZID=Europe/Berlin:20250309T150000
DTEND;TZID=Europe/Berlin:20250309T170000
LOCATION:Sportovní hala Na Střelnici\, Pražská 2162 Svitavy - Předměstí
SUMMARY:2-U20Z-II: Svitavy-Meteor
END:VEVENT
BEGIN:VEVENT
UID:38373565-3439-4765-b830-613830333462
DTSTAMP:20260421T224739Z
DESCRIPTION:5/13 Slavia Praha - Znojmo 3:2 (10\,-16\,11\,-22\,11)
DTSTART;TZID=Europe/Berlin:20250302T110000
DTEND;TZID=Europe/Berlin:20250302T130000
LOCATION:Jana\, Vladivostocká 1460 Praha - Vršovice
SUMMARY:2-U20Z-II: Slavia Praha-Znojmo
END:VEVENT
BEGIN:VEVENT
UID:34633737-3330-4863-a436-663063346339
DTSTAMP:20260421T224739Z
DESCRIPTION:5/14 Mikulova - Svitavy 3:0 (15\,15\,18)
DTSTART;TZID=Europe/Berlin:20250301T110000
DTEND;TZID=Europe/Berlin:20250301T130000
LOCATION:Sportovní hala DDM Praha 12 - Monet\, Herrmannova 2016 Praha - Mod
 řany
SUMMARY:2-U20Z-II: Mikulova-Svitavy
END:VEVENT
BEGIN:VEVENT
UID:32386134-3864-4436-a639-643265623761
DTSTAMP:20260421T224739Z
DESCRIPTION:5/15 Meteor - KP Brno B 3:1 (-19\,21\,22\,19)
DTSTART;TZID=Europe/Berlin:20250302T110000
DTEND;TZID=Europe/Berlin:20250302T130000
LOCATION:ZŠ Žernosecká\, Žernosecká 1597 Praha - Kobylisy
SUMMARY:2-U20Z-II: Meteor-KP Brno B
END:VEVENT
BEGIN:VEVENT
UID:33646531-6136-4263-a438-623836333961
DTSTAMP:20260421T224739Z
DESCRIPTION:6/16 Slavia Praha - Znojmo 3:0 (22\,19\,15)
DTSTART;TZID=Europe/Berlin:20250302T140000
DTEND;TZID=Europe/Berlin:20250302T160000
LOCATION:Jana\, Vladivostocká 1460 Praha - Vršovice
SUMMARY:2-U20Z-II: Slavia Praha-Znojmo
END:VEVENT
BEGIN:VEVENT
UID:34303333-3833-4462-a336-383961313739
DTSTAMP:20260421T224739Z
DESCRIPTION:6/17 Mikulova - Svitavy 1:3 (-22\,-20\,18\,-12)
DTSTART;TZID=Europe/Berlin:20250301T150000
DTEND;TZID=Europe/Berlin:20250301T170000
LOCATION:Sportovní hala DDM Praha 12 - Monet\, Herrmannova 2016 Praha - Mod
 řany
SUMMARY:2-U20Z-II: Mikulova-Svitavy
END:VEVENT
BEGIN:VEVENT
UID:66373633-3131-4334-a265-666139633837
DTSTAMP:20260421T224739Z
DESCRIPTION:6/18 Meteor - KP Brno B 0:3 (-18\,-21\,-24)
DTSTART;TZID=Europe/Berlin:20250302T140000
DTEND;TZID=Europe/Berlin:20250302T160000
LOCATION:ZŠ Žernosecká\, Žernosecká 1597 Praha - Kobylisy
SUMMARY:2-U20Z-II: Meteor-KP Brno B
END:VEVENT
BEGIN:VEVENT
UID:37373763-3664-4936-a165-613532376139
DTSTAMP:20260421T224739Z
DESCRIPTION:7/19 Svitavy - Slavia Praha 0:3 (-17\,-13\,-22)
DTSTART;TZID=Europe/Berlin:20250316T110000
DTEND;TZID=Europe/Berlin:20250316T130000
LOCATION:Sportovní hala Na Střelnici\, Pražská 2162 Svitavy - Předměstí
SUMMARY:2-U20Z-II: Svitavy-Slavia Praha
END:VEVENT
BEGIN:VEVENT
UID:61616232-3665-4130-b036-346361356465
DTSTAMP:20260421T224739Z
DESCRIPTION:7/20 KP Brno B - Mikulova 0:3 (-17\,-21\,-20)
DTSTART;TZID=Europe/Berlin:20250405T110000
DTEND;TZID=Europe/Berlin:20250405T130000
LOCATION:Sportovní gymnázium Ludvíka Daňka\, Botanická 63 Brno - Ponava
SUMMARY:2-U20Z-II: KP Brno B-Mikulova
END:VEVENT
BEGIN:VEVENT
UID:32383036-3437-4336-b033-343733356166
DTSTAMP:20260421T224739Z
DESCRIPTION:7/21 Znojmo - Meteor 1:3 (20\,-21\,-29\,-20)
DTSTART;TZID=Europe/Berlin:20250316T110000
DTEND;TZID=Europe/Berlin:20250316T130000
LOCATION:Gymnázium Dr. Karla Polesného\, náměstí Komenského 945 Znojmo
SUMMARY:2-U20Z-II: Znojmo-Meteor
END:VEVENT
BEGIN:VEVENT
UID:34643330-6339-4366-a238-343064396361
DTSTAMP:20260421T224739Z
DESCRIPTION:8/22 Svitavy - Slavia Praha 1:3 (-21\,23\,-20\,-17)
DTSTART;TZID=Europe/Berlin:20250316T140000
DTEND;TZID=Europe/Berlin:20250316T160000
LOCATION:Sportovní hala Na Střelnici\, Pražská 2162 Svitavy - Předměstí
SUMMARY:2-U20Z-II: Svitavy-Slavia Praha
END:VEVENT
BEGIN:VEVENT
UID:63613461-3164-4538-b264-666432396332
DTSTAMP:20260421T224739Z
DESCRIPTION:8/23 KP Brno B - Mikulova 0:3 (-18\,-14\,-26)
DTSTART;TZID=Europe/Berlin:20250405T150000
DTEND;TZID=Europe/Berlin:20250405T170000
LOCATION:Sportovní gymnázium Ludvíka Daňka\, Botanická 63 Brno - Ponava
SUMMARY:2-U20Z-II: KP Brno B-Mikulova
END:VEVENT
BEGIN:VEVENT
UID:36373533-3962-4630-a530-396164656635
DTSTAMP:20260421T224739Z
DESCRIPTION:8/24 Znojmo - Meteor 2:3 (-26\,14\,20\,-18\,-17)
DTSTART;TZID=Europe/Berlin:20250316T150000
DTEND;TZID=Europe/Berlin:20250316T170000
LOCATION:Gymnázium Dr. Karla Polesného\, náměstí Komenského 945 Znojmo
SUMMARY:2-U20Z-II: Znojmo-Meteor
END:VEVENT
BEGIN:VEVENT
UID:32636166-6531-4162-b638-353239376238
DTSTAMP:20260421T224739Z
DESCRIPTION:9/25 Slavia Praha - KP Brno B 2:3 (15\,-19\,-19\,22\,-10)
DTSTART;TZID=Europe/Berlin:20250330T110000
DTEND;TZID=Europe/Berlin:20250330T130000
LOCATION:Jana\, Vladivostocká 1460 Praha - Vršovice
SUMMARY:2-U20Z-II: Slavia Praha-KP Brno B
END:VEVENT
BEGIN:VEVENT
UID:30316262-3363-4631-b962-316263313834
DTSTAMP:20260421T224739Z
DESCRIPTION:9/26 Mikulova - Znojmo 3:1 (-26\,20\,18\,22)
DTSTART;TZID=Europe/Berlin:20250330T100000
DTEND;TZID=Europe/Berlin:20250330T120000
LOCATION:Sportovní hala DDM Praha 12 - Monet\, Herrmannova 2016 Praha - Mod
 řany
SUMMARY:2-U20Z-II: Mikulova-Znojmo
END:VEVENT
BEGIN:VEVENT
UID:63383935-3832-4336-b131-383662636263
DTSTAMP:20260421T224739Z
DESCRIPTION:9/27 Meteor - Svitavy 3:0 (21\,15\,18)
DTSTART;TZID=Europe/Berlin:20250330T110000
DTEND;TZID=Europe/Berlin:20250330T130000
LOCATION:ZŠ Žernosecká\, Žernosecká 1597 Praha - Kobylisy
SUMMARY:2-U20Z-II: Meteor-Svitavy
END:VEVENT
BEGIN:VEVENT
UID:32306337-3164-4533-b730-346533643666
DTSTAMP:20260421T224739Z
DESCRIPTION:10/28 Slavia Praha - KP Brno B 3:0 (15\,21\,17)
DTSTART;TZID=Europe/Berlin:20250330T140000
DTEND;TZID=Europe/Berlin:20250330T160000
LOCATION:Jana\, Vladivostocká 1460 Praha - Vršovice
SUMMARY:2-U20Z-II: Slavia Praha-KP Brno B
END:VEVENT
BEGIN:VEVENT
UID:34636465-6231-4462-b337-323233376265
DTSTAMP:20260421T224739Z
DESCRIPTION:10/29 Mikulova - Znojmo 3:0 (18\,13\,17)
DTSTART;TZID=Europe/Berlin:20250330T140000
DTEND;TZID=Europe/Berlin:20250330T160000
LOCATION:Sportovní hala DDM Praha 12 - Monet\, Herrmannova 2016 Praha - Mod
 řany
SUMMARY:2-U20Z-II: Mikulova-Znojmo
END:VEVENT
BEGIN:VEVENT
UID:38663137-3737-4633-a333-333966346434
DTSTAMP:20260421T224739Z
DESCRIPTION:10/30 Meteor - Svitavy 3:0 (20\,21\,18)
DTSTART;TZID=Europe/Berlin:20250330T150000
DTEND;TZID=Europe/Berlin:20250330T170000
LOCATION:ZŠ Žernosecká\, Žernosecká 1597 Praha - Kobylisy
SUMMARY:2-U20Z-II: Meteor-Svitavy
END:VEVENT
BEGIN:VEVENT
UID:64306638-6562-4461-a133-636465363063
DTSTAMP:20260421T224739Z
DESCRIPTION:11/31 Znojmo - Slavia Praha 2:3 (25\,-18\,21\,-22\,-12)
DTSTART;TZID=Europe/Berlin:20250406T110000
DTEND;TZID=Europe/Berlin:20250406T130000
LOCATION:Gymnázium Dr. Karla Polesného\, náměstí Komenského 945 Znojmo
SUMMARY:2-U20Z-II: Znojmo-Slavia Praha
END:VEVENT
BEGIN:VEVENT
UID:34316430-3530-4035-b964-346436356362
DTSTAMP:20260421T224739Z
DESCRIPTION:11/32 Svitavy - Mikulova 0:3 (-19\,-21\,-15)
DTSTART;TZID=Europe/Berlin:20250406T100000
DTEND;TZID=Europe/Berlin:20250406T120000
LOCATION:Sportovní hala Na Střelnici\, Pražská 2162 Svitavy - Předměstí
SUMMARY:2-U20Z-II: Svitavy-Mikulova
END:VEVENT
BEGIN:VEVENT
UID:66383939-6133-4039-a136-316232396538
DTSTAMP:20260421T224739Z
DESCRIPTION:11/33 KP Brno B - Meteor 3:1 (23\,-17\,17\,21)
DTSTART;TZID=Europe/Berlin:20250406T110000
DTEND;TZID=Europe/Berlin:20250406T130000
LOCATION:ZŠ Milénova 14\, Milénova 808 Brno - Lesná
SUMMARY:2-U20Z-II: KP Brno B-Meteor
END:VEVENT
BEGIN:VEVENT
UID:30393634-6561-4535-b763-343234306664
DTSTAMP:20260421T224739Z
DESCRIPTION:12/34 Znojmo - Slavia Praha 0:3 (-18\,-17\,-21)
DTSTART;TZID=Europe/Berlin:20250406T140000
DTEND;TZID=Europe/Berlin:20250406T160000
LOCATION:Gymnázium Dr. Karla Polesného\, náměstí Komenského 945 Znojmo
SUMMARY:2-U20Z-II: Znojmo-Slavia Praha
END:VEVENT
BEGIN:VEVENT
UID:64613337-3232-4031-b734-643961393936
DTSTAMP:20260421T224739Z
DESCRIPTION:12/35 Svitavy - Mikulova 0:3 (-14\,-22\,-10)
DTSTART;TZID=Europe/Berlin:20250406T140000
DTEND;TZID=Europe/Berlin:20250406T160000
LOCATION:Sportovní hala Na Střelnici\, Pražská 2162 Svitavy - Předměstí
SUMMARY:2-U20Z-II: Svitavy-Mikulova
END:VEVENT
BEGIN:VEVENT
UID:65323636-6666-4039-b331-393832353361
DTSTAMP:20260421T224739Z
DESCRIPTION:12/36 KP Brno B - Meteor 3:1 (-22\,22\,10\,14)
DTSTART;TZID=Europe/Berlin:20250406T140000
DTEND;TZID=Europe/Berlin:20250406T160000
LOCATION:ZŠ Milénova 14\, Milénova 808 Brno - Lesná
SUMMARY:2-U20Z-II: KP Brno B-Meteor
END:VEVENT
END:VCALENDAR
