BEGIN:VCALENDAR
VERSION:2.0
PRODID:-//1-M-IV//NONSGML kigkonsult.se iCalcreator 2.41.80//
CALSCALE:GREGORIAN
UID:62393231-3862-4938-b964-396165663964
BEGIN:VEVENT
UID:36393133-6463-4436-b735-313131616538
DTSTAMP:20260425T035507Z
DESCRIPTION:1/12163 Velké Meziříčí - Lvi Praha B 2:3 (23\,-18\,-20\,16\,-11
 )
DTSTART;TZID=Europe/Berlin:20250131T193000
DTEND;TZID=Europe/Berlin:20250131T213000
LOCATION:ZŠ Komenského\, Komenského 1 Velké Meziříčí
SUMMARY:1-M-IV: Velké Meziříčí-Lvi Praha B
END:VEVENT
BEGIN:VEVENT
UID:37393639-3663-4266-a365-343235323737
DTSTAMP:20260425T035507Z
DESCRIPTION:1/12164 Kolín - Holubice 0:3 (-18\,-20\,-21)
DTSTART;TZID=Europe/Berlin:20250131T180000
DTEND;TZID=Europe/Berlin:20250131T200000
LOCATION:Sportovní hala Borky\, Brankovická 1216 Kolín - Kolín V
SUMMARY:1-M-IV: Kolín-Holubice
END:VEVENT
BEGIN:VEVENT
UID:39636136-3361-4639-b431-613564346332
DTSTAMP:20260425T035507Z
DESCRIPTION:1/12165 Liberec B - Kojetín 0:3 (-23\,-22\,-19)
DTSTART;TZID=Europe/Berlin:20250131T190000
DTEND;TZID=Europe/Berlin:20250131T210000
LOCATION:Dukla Liberec\, Jeronýmova 558 Liberec - Liberec VII-Horní Růžodol
SUMMARY:1-M-IV: Liberec B-Kojetín
END:VEVENT
BEGIN:VEVENT
UID:38613131-6162-4338-a236-363662373736
DTSTAMP:20260425T035507Z
DESCRIPTION:2/12166 Lvi Praha B - Kojetín 3:2 (25\,21\,-20\,-16\,14)
DTSTART;TZID=Europe/Berlin:20250201T180000
DTEND;TZID=Europe/Berlin:20250201T200000
LOCATION:Sportovní hala Lužiny\, Bellušova 1877 Praha - Stodůlky
SUMMARY:1-M-IV: Lvi Praha B-Kojetín
END:VEVENT
BEGIN:VEVENT
UID:31373537-3337-4231-a439-333838656565
DTSTAMP:20260425T035507Z
DESCRIPTION:2/12167 Holubice - Liberec B 3:0 (17\,19\,18)
DTSTART;TZID=Europe/Berlin:20250201T150000
DTEND;TZID=Europe/Berlin:20250201T170000
LOCATION:Sportovní hala Holubice\,  Holubice299
SUMMARY:1-M-IV: Holubice-Liberec B
END:VEVENT
BEGIN:VEVENT
UID:37343363-6433-4232-a561-323934623130
DTSTAMP:20260425T035507Z
DESCRIPTION:2/12168 Velké Meziříčí - Kolín 0:3 (-22\,-19\,-19)
DTSTART;TZID=Europe/Berlin:20250213T190000
DTEND;TZID=Europe/Berlin:20250213T210000
LOCATION:ZŠ Komenského\, Komenského 1 Velké Meziříčí
SUMMARY:1-M-IV: Velké Meziříčí-Kolín
END:VEVENT
BEGIN:VEVENT
UID:30343961-6261-4864-a234-333531636262
DTSTAMP:20260425T035507Z
DESCRIPTION:3/12169 Kolín - Lvi Praha B 1:3 (19\,-22\,-17\,-20)
DTSTART;TZID=Europe/Berlin:20250207T180000
DTEND;TZID=Europe/Berlin:20250207T200000
LOCATION:Sportovní hala Borky\, Brankovická 1216 Kolín - Kolín V
SUMMARY:1-M-IV: Kolín-Lvi Praha B
END:VEVENT
BEGIN:VEVENT
UID:63303938-3863-4634-a265-646138616463
DTSTAMP:20260425T035507Z
DESCRIPTION:3/12170 Liberec B - Velké Meziříčí 1:3 (19\,-10\,-26\,-17)
DTSTART;TZID=Europe/Berlin:20250207T193000
DTEND;TZID=Europe/Berlin:20250207T213000
LOCATION:Dukla Liberec\, Jeronýmova 558 Liberec - Liberec VII-Horní Růžodol
SUMMARY:1-M-IV: Liberec B-Velké Meziříčí
END:VEVENT
BEGIN:VEVENT
UID:65323338-6138-4634-a235-386438363463
DTSTAMP:20260425T035507Z
DESCRIPTION:3/12171 Kojetín - Holubice 3:2 (22\,-22\,20\,-32\,11)
DTSTART;TZID=Europe/Berlin:20250207T190000
DTEND;TZID=Europe/Berlin:20250207T210000
LOCATION:Městská sportovní hala\, Hanusíkova 1476 Kojetín - Kojetín I-Město
SUMMARY:1-M-IV: Kojetín-Holubice
END:VEVENT
BEGIN:VEVENT
UID:64663035-3531-4664-a565-343563303537
DTSTAMP:20260425T035507Z
DESCRIPTION:4/12172 Lvi Praha B - Holubice 3:0 (19\,21\,14)
DTSTART;TZID=Europe/Berlin:20250214T180000
DTEND;TZID=Europe/Berlin:20250214T200000
LOCATION:Sportovní hala Lužiny\, Bellušova 1877 Praha - Stodůlky
SUMMARY:1-M-IV: Lvi Praha B-Holubice
END:VEVENT
BEGIN:VEVENT
UID:32623762-3533-4031-a638-323233323035
DTSTAMP:20260425T035507Z
DESCRIPTION:4/12173 Kojetín - Velké Meziříčí 3:1 (17\,18\,-22\,18)
DTSTART;TZID=Europe/Berlin:20250214T190000
DTEND;TZID=Europe/Berlin:20250214T210000
LOCATION:Městská sportovní hala\, Hanusíkova 1476 Kojetín - Kojetín I-Město
SUMMARY:1-M-IV: Kojetín-Velké Meziříčí
END:VEVENT
BEGIN:VEVENT
UID:30633865-3463-4464-b834-303232343866
DTSTAMP:20260425T035507Z
DESCRIPTION:4/12174 Kolín - Liberec B 3:0 (17\,20\,17)
DTSTART;TZID=Europe/Berlin:20250214T180000
DTEND;TZID=Europe/Berlin:20250214T200000
LOCATION:Sportovní hala Borky\, Brankovická 1216 Kolín - Kolín V
SUMMARY:1-M-IV: Kolín-Liberec B
END:VEVENT
BEGIN:VEVENT
UID:38396261-3635-4330-a530-346335656364
DTSTAMP:20260425T035507Z
DESCRIPTION:5/12175 Liberec B - Lvi Praha B 0:3 (-20\,-22\,-21)
DTSTART;TZID=Europe/Berlin:20250228T190000
DTEND;TZID=Europe/Berlin:20250228T210000
LOCATION:Dukla Liberec\, Jeronýmova 558 Liberec - Liberec VII-Horní Růžodol
SUMMARY:1-M-IV: Liberec B-Lvi Praha B
END:VEVENT
BEGIN:VEVENT
UID:62653162-6233-4366-a566-353238313836
DTSTAMP:20260425T035507Z
DESCRIPTION:5/12176 Kojetín - Kolín 0:3 (-22\,-23\,-23)
DTSTART;TZID=Europe/Berlin:20250228T190000
DTEND;TZID=Europe/Berlin:20250228T210000
LOCATION:Městská sportovní hala\, Hanusíkova 1476 Kojetín - Kojetín I-Město
SUMMARY:1-M-IV: Kojetín-Kolín
END:VEVENT
BEGIN:VEVENT
UID:31653562-3636-4337-b032-643061613966
DTSTAMP:20260425T035507Z
DESCRIPTION:5/12177 Holubice - Velké Meziříčí 1:3 (-21\,17\,-25\,-25)
DTSTART;TZID=Europe/Berlin:20250228T180000
DTEND;TZID=Europe/Berlin:20250228T200000
LOCATION:Sportovní hala Holubice\,  Holubice299
SUMMARY:1-M-IV: Holubice-Velké Meziříčí
END:VEVENT
BEGIN:VEVENT
UID:34333935-3930-4335-b937-383364336361
DTSTAMP:20260425T035507Z
DESCRIPTION:6/12178 Lvi Praha B - Velké Meziříčí 2:3 (-23\,-22\,22\,15\,-12
 )
DTSTART;TZID=Europe/Berlin:20250301T160000
DTEND;TZID=Europe/Berlin:20250301T180000
LOCATION:Sportovní hala Lužiny\, Bellušova 1877 Praha - Stodůlky
SUMMARY:1-M-IV: Lvi Praha B-Velké Meziříčí
END:VEVENT
BEGIN:VEVENT
UID:65663833-3563-4632-a238-316339323361
DTSTAMP:20260425T035507Z
DESCRIPTION:6/12179 Holubice - Kolín 1:3 (-20\,-17\,24\,-23)
DTSTART;TZID=Europe/Berlin:20250301T150000
DTEND;TZID=Europe/Berlin:20250301T170000
LOCATION:Sportovní hala Holubice\,  Holubice299
SUMMARY:1-M-IV: Holubice-Kolín
END:VEVENT
BEGIN:VEVENT
UID:39646237-6132-4062-b630-616365646330
DTSTAMP:20260425T035507Z
DESCRIPTION:6/12180 Kojetín - Liberec B 3:0 (14\,19\,21)
DTSTART;TZID=Europe/Berlin:20250301T180000
DTEND;TZID=Europe/Berlin:20250301T200000
LOCATION:Městská sportovní hala\, Hanusíkova 1476 Kojetín - Kojetín I-Město
SUMMARY:1-M-IV: Kojetín-Liberec B
END:VEVENT
BEGIN:VEVENT
UID:61643763-3265-4931-b736-323036336562
DTSTAMP:20260425T035507Z
DESCRIPTION:7/12181 Kojetín - Lvi Praha B 3:0 (23\,23\,20)
DTSTART;TZID=Europe/Berlin:20250307T190000
DTEND;TZID=Europe/Berlin:20250307T210000
LOCATION:Městská sportovní hala\, Hanusíkova 1476 Kojetín - Kojetín I-Město
SUMMARY:1-M-IV: Kojetín-Lvi Praha B
END:VEVENT
BEGIN:VEVENT
UID:38636533-3531-4562-a265-613663343635
DTSTAMP:20260425T035507Z
DESCRIPTION:7/12182 Liberec B - Holubice 1:3 (-20\,-21\,18\,-15)
DTSTART;TZID=Europe/Berlin:20250307T190000
DTEND;TZID=Europe/Berlin:20250307T210000
LOCATION:Dukla Liberec\, Jeronýmova 558 Liberec - Liberec VII-Horní Růžodol
SUMMARY:1-M-IV: Liberec B-Holubice
END:VEVENT
BEGIN:VEVENT
UID:36353262-3365-4238-a636-643462303264
DTSTAMP:20260425T035507Z
DESCRIPTION:7/12183 Kolín - Velké Meziříčí 3:0 (12\,23\,22)
DTSTART;TZID=Europe/Berlin:20250307T180000
DTEND;TZID=Europe/Berlin:20250307T200000
LOCATION:Sportovní hala Borky\, Brankovická 1216 Kolín - Kolín V
SUMMARY:1-M-IV: Kolín-Velké Meziříčí
END:VEVENT
BEGIN:VEVENT
UID:62393461-3430-4330-b762-366565333134
DTSTAMP:20260425T035507Z
DESCRIPTION:8/12184 Lvi Praha B - Kolín 1:3 (-19\,19\,-25\,-24)
DTSTART;TZID=Europe/Berlin:20250314T180000
DTEND;TZID=Europe/Berlin:20250314T200000
LOCATION:Sportovní hala Lužiny\, Bellušova 1877 Praha - Stodůlky
SUMMARY:1-M-IV: Lvi Praha B-Kolín
END:VEVENT
BEGIN:VEVENT
UID:30356536-6635-4235-a662-643763323261
DTSTAMP:20260425T035507Z
DESCRIPTION:8/12185 Velké Meziříčí - Liberec B 2:3 (19\,-22\,24\,-23\,-15)
DTSTART;TZID=Europe/Berlin:20250314T193000
DTEND;TZID=Europe/Berlin:20250314T213000
LOCATION:ZŠ Komenského\, Komenského 1 Velké Meziříčí
SUMMARY:1-M-IV: Velké Meziříčí-Liberec B
END:VEVENT
BEGIN:VEVENT
UID:39333963-3333-4939-b538-333339653937
DTSTAMP:20260425T035507Z
DESCRIPTION:8/12186 Holubice - Kojetín 3:2 (-21\,16\,23\,-21\,13)
DTSTART;TZID=Europe/Berlin:20250314T180000
DTEND;TZID=Europe/Berlin:20250314T200000
LOCATION:Sportovní hala Holubice\,  Holubice299
SUMMARY:1-M-IV: Holubice-Kojetín
END:VEVENT
BEGIN:VEVENT
UID:32383838-3563-4539-a564-323163653962
DTSTAMP:20260425T035507Z
DESCRIPTION:9/12187 Holubice - Lvi Praha B 3:2 (-22\,19\,-21\,25\,12)
DTSTART;TZID=Europe/Berlin:20250321T180000
DTEND;TZID=Europe/Berlin:20250321T200000
LOCATION:Sportovní hala Holubice\,  Holubice299
SUMMARY:1-M-IV: Holubice-Lvi Praha B
END:VEVENT
BEGIN:VEVENT
UID:37306333-6265-4932-a434-346265636139
DTSTAMP:20260425T035507Z
DESCRIPTION:9/12188 Velké Meziříčí - Kojetín 2:3 (22\,-15\,18\,-13\,-11)
DTSTART;TZID=Europe/Berlin:20250321T193000
DTEND;TZID=Europe/Berlin:20250321T213000
LOCATION:ZŠ Komenského\, Komenského 1 Velké Meziříčí
SUMMARY:1-M-IV: Velké Meziříčí-Kojetín
END:VEVENT
BEGIN:VEVENT
UID:33393962-6365-4165-b238-333965323365
DTSTAMP:20260425T035507Z
DESCRIPTION:9/12189 Liberec B - Kolín 3:1 (18\,-18\,15\,23)
DTSTART;TZID=Europe/Berlin:20250321T190000
DTEND;TZID=Europe/Berlin:20250321T210000
LOCATION:Dukla Liberec\, Jeronýmova 558 Liberec - Liberec VII-Horní Růžodol
SUMMARY:1-M-IV: Liberec B-Kolín
END:VEVENT
BEGIN:VEVENT
UID:62613838-6363-4130-b664-376165623936
DTSTAMP:20260425T035507Z
DESCRIPTION:10/12190 Lvi Praha B - Liberec B 0:3 (-23\,-24\,-18)
DTSTART;TZID=Europe/Berlin:20250322T150000
DTEND;TZID=Europe/Berlin:20250322T170000
LOCATION:Sportovní hala Lužiny\, Bellušova 1877 Praha - Stodůlky
SUMMARY:1-M-IV: Lvi Praha B-Liberec B
END:VEVENT
BEGIN:VEVENT
UID:61373433-3036-4362-b265-386339353863
DTSTAMP:20260425T035507Z
DESCRIPTION:10/12191 Kolín - Kojetín 3:1 (-22\,16\,21\,18)
DTSTART;TZID=Europe/Berlin:20250322T183000
DTEND;TZID=Europe/Berlin:20250322T203000
LOCATION:Sportovní hala Borky\, Brankovická 1216 Kolín - Kolín V
SUMMARY:1-M-IV: Kolín-Kojetín
END:VEVENT
BEGIN:VEVENT
UID:30333733-3362-4630-a235-633262353661
DTSTAMP:20260425T035507Z
DESCRIPTION:10/12192 Velké Meziříčí - Holubice 0:3 (-25\,-17\,-17)
DTSTART;TZID=Europe/Berlin:20250322T180000
DTEND;TZID=Europe/Berlin:20250322T200000
LOCATION:ZŠ Komenského\, Komenského 1 Velké Meziříčí
SUMMARY:1-M-IV: Velké Meziříčí-Holubice
END:VEVENT
END:VCALENDAR
