BEGIN:VCALENDAR
VERSION:2.0
PRODID:-//CP-U16M-5A//NONSGML kigkonsult.se iCalcreator 2.41.80//
CALSCALE:GREGORIAN
UID:38383637-3064-4638-b461-653039346437
BEGIN:VEVENT
UID:32333661-6536-4431-b963-353565313863
DTSTAMP:20260424T233533Z
DESCRIPTION:1/1 Příbram A - VK České Budějovice A 0:2 (-23\,-16)
DTSTART;TZID=Europe/Berlin:20250208T093000
DTEND;TZID=Europe/Berlin:20250208T113000
LOCATION:Tělocvična ZŠ Balbínova\, Balbínova 328 Příbram - Příbram II
SUMMARY:CP-U16M-5A: Příbram A-VK České Budějovice A
END:VEVENT
BEGIN:VEVENT
UID:32323434-6665-4132-b333-633438653535
DTSTAMP:20260424T233533Z
DESCRIPTION:1/2 Lvi Praha A - Prosek A 0:2 (-13\,-19)
DTSTART;TZID=Europe/Berlin:20250208T093000
DTEND;TZID=Europe/Berlin:20250208T113000
LOCATION:ZŠ Balabenka\, náměstí Na Balabence 800 Praha - Libeň
SUMMARY:CP-U16M-5A: Lvi Praha A-Prosek A
END:VEVENT
BEGIN:VEVENT
UID:30336136-3061-4231-a534-336138633736
DTSTAMP:20260424T233533Z
DESCRIPTION:2/3 Volejbal Ostrava - VSC Zlín 2:0 (18\,20)
DTSTART;TZID=Europe/Berlin:20250208T104500
DTEND;TZID=Europe/Berlin:20250208T124500
LOCATION:Sportovní hala Brušperk\, Sportovní 584 Brušperk
SUMMARY:CP-U16M-5A: Volejbal Ostrava-VSC Zlín
END:VEVENT
BEGIN:VEVENT
UID:34336263-3335-4862-b533-373666396431
DTSTAMP:20260424T233533Z
DESCRIPTION:2/4 TJ Svitavy\, z.s. - Blue Ostrava 2:0 (17\,7)
DTSTART;TZID=Europe/Berlin:20250208T104500
DTEND;TZID=Europe/Berlin:20250208T124500
LOCATION:Sportovní hala Na Střelnici\, Pražská 2162 Svitavy - Předměstí
SUMMARY:CP-U16M-5A: TJ Svitavy\, z.s.-Blue Ostrava
END:VEVENT
BEGIN:VEVENT
UID:34363434-3837-4237-b763-616164333063
DTSTAMP:20260424T233533Z
DESCRIPTION:3/5 VK České Budějovice A - Lvi Praha A 2:1 (16\,-24\,10)
DTSTART;TZID=Europe/Berlin:20250208T120000
DTEND;TZID=Europe/Berlin:20250208T140000
LOCATION:ZŠ Oskara Nedbala České Budějovice\, O. Nedbala 882 České Budějovi
 ce - České Budějovice 2
SUMMARY:CP-U16M-5A: VK České Budějovice A-Lvi Praha A
END:VEVENT
BEGIN:VEVENT
UID:34386564-6134-4466-b062-393236303939
DTSTAMP:20260424T233533Z
DESCRIPTION:3/6 VSC Zlín - Příbram A 0:2 (-24\,-22)
DTSTART;TZID=Europe/Berlin:20250208T120000
DTEND;TZID=Europe/Berlin:20250208T140000
LOCATION:ZŠ Okružní Zlín\, Okružní 4685 Zlín
SUMMARY:CP-U16M-5A: VSC Zlín-Příbram A
END:VEVENT
BEGIN:VEVENT
UID:31353239-3333-4464-b465-343764643132
DTSTAMP:20260424T233533Z
DESCRIPTION:4/7 Prosek A - TJ Svitavy\, z.s. 2:1 (-21\,22\,13)
DTSTART;TZID=Europe/Berlin:20250208T131500
DTEND;TZID=Europe/Berlin:20250208T151500
LOCATION:SH SK Prosek\, Lovosická 559 Praha - Letňany
SUMMARY:CP-U16M-5A: Prosek A-TJ Svitavy\, z.s.
END:VEVENT
BEGIN:VEVENT
UID:33333938-3661-4535-a435-353837316632
DTSTAMP:20260424T233533Z
DESCRIPTION:4/8 Blue Ostrava - Volejbal Ostrava 0:2 (-17\,-21)
DTSTART;TZID=Europe/Berlin:20250208T131500
DTEND;TZID=Europe/Berlin:20250208T151500
LOCATION:Sportovní hala Ostrava -Třebovice\, 5. května 5649 Ostrava - Třebo
 vice
SUMMARY:CP-U16M-5A: Blue Ostrava-Volejbal Ostrava
END:VEVENT
BEGIN:VEVENT
UID:63613839-3336-4634-a230-396636646135
DTSTAMP:20260424T233533Z
DESCRIPTION:5/9 VSC Zlín - VK České Budějovice A 0:2 (-14\,-23)
DTSTART;TZID=Europe/Berlin:20250208T143000
DTEND;TZID=Europe/Berlin:20250208T163000
LOCATION:ZŠ Okružní Zlín\, Okružní 4685 Zlín
SUMMARY:CP-U16M-5A: VSC Zlín-VK České Budějovice A
END:VEVENT
BEGIN:VEVENT
UID:33336462-3339-4530-b132-613534346663
DTSTAMP:20260424T233533Z
DESCRIPTION:5/10 TJ Svitavy\, z.s. - Lvi Praha A 2:0 (22\,21)
DTSTART;TZID=Europe/Berlin:20250208T143000
DTEND;TZID=Europe/Berlin:20250208T163000
LOCATION:Sportovní hala Na Střelnici\, Pražská 2162 Svitavy - Předměstí
SUMMARY:CP-U16M-5A: TJ Svitavy\, z.s.-Lvi Praha A
END:VEVENT
BEGIN:VEVENT
UID:34656338-3332-4436-a265-613430653535
DTSTAMP:20260424T233533Z
DESCRIPTION:6/11 Příbram A - Blue Ostrava 2:0 (19\,15)
DTSTART;TZID=Europe/Berlin:20250208T154500
DTEND;TZID=Europe/Berlin:20250208T174500
LOCATION:Tělocvična ZŠ Balbínova\, Balbínova 328 Příbram - Příbram II
SUMMARY:CP-U16M-5A: Příbram A-Blue Ostrava
END:VEVENT
BEGIN:VEVENT
UID:63356432-3262-4032-b832-373564613834
DTSTAMP:20260424T233533Z
DESCRIPTION:6/12 Volejbal Ostrava - Prosek A 1:2 (-22\,16\,-5)
DTSTART;TZID=Europe/Berlin:20250208T154500
DTEND;TZID=Europe/Berlin:20250208T174500
LOCATION:Sportovní hala Brušperk\, Sportovní 584 Brušperk
SUMMARY:CP-U16M-5A: Volejbal Ostrava-Prosek A
END:VEVENT
BEGIN:VEVENT
UID:38333832-6130-4961-b036-653964613837
DTSTAMP:20260424T233533Z
DESCRIPTION:7/13 VK České Budějovice A - TJ Svitavy\, z.s. 2:0 (17\,20)
DTSTART;TZID=Europe/Berlin:20250208T170000
DTEND;TZID=Europe/Berlin:20250208T190000
LOCATION:ZŠ Oskara Nedbala České Budějovice\, O. Nedbala 882 České Budějovi
 ce - České Budějovice 2
SUMMARY:CP-U16M-5A: VK České Budějovice A-TJ Svitavy\, z.s.
END:VEVENT
BEGIN:VEVENT
UID:36366537-6438-4139-a562-386664636435
DTSTAMP:20260424T233533Z
DESCRIPTION:7/14 Blue Ostrava - VSC Zlín 0:2 (-18\,-11)
DTSTART;TZID=Europe/Berlin:20250208T170000
DTEND;TZID=Europe/Berlin:20250208T190000
LOCATION:Sportovní hala Ostrava -Třebovice\, 5. května 5649 Ostrava - Třebo
 vice
SUMMARY:CP-U16M-5A: Blue Ostrava-VSC Zlín
END:VEVENT
BEGIN:VEVENT
UID:30656238-6265-4338-b535-663965373739
DTSTAMP:20260424T233533Z
DESCRIPTION:8/15 Lvi Praha A - Volejbal Ostrava 0:2 (-18\,-18)
DTSTART;TZID=Europe/Berlin:20250208T181500
DTEND;TZID=Europe/Berlin:20250208T201500
LOCATION:ZŠ Balabenka\, náměstí Na Balabence 800 Praha - Libeň
SUMMARY:CP-U16M-5A: Lvi Praha A-Volejbal Ostrava
END:VEVENT
BEGIN:VEVENT
UID:31316563-6161-4331-a135-333034303131
DTSTAMP:20260424T233533Z
DESCRIPTION:8/16 Prosek A - Příbram A 2:0 (25\,15)
DTSTART;TZID=Europe/Berlin:20250208T181500
DTEND;TZID=Europe/Berlin:20250208T201500
LOCATION:SH SK Prosek\, Lovosická 559 Praha - Letňany
SUMMARY:CP-U16M-5A: Prosek A-Příbram A
END:VEVENT
BEGIN:VEVENT
UID:37366533-3665-4334-a664-306533633833
DTSTAMP:20260424T233533Z
DESCRIPTION:9/17 Blue Ostrava - VK České Budějovice A 0:2 (-15\,-12)
DTSTART;TZID=Europe/Berlin:20250209T090000
DTEND;TZID=Europe/Berlin:20250209T110000
LOCATION:Sportovní hala Ostrava -Třebovice\, 5. května 5649 Ostrava - Třebo
 vice
SUMMARY:CP-U16M-5A: Blue Ostrava-VK České Budějovice A
END:VEVENT
BEGIN:VEVENT
UID:33313535-6466-4131-b463-376365376662
DTSTAMP:20260424T233533Z
DESCRIPTION:9/18 Volejbal Ostrava - TJ Svitavy\, z.s. 2:0 (22\,19)
DTSTART;TZID=Europe/Berlin:20250209T090000
DTEND;TZID=Europe/Berlin:20250209T110000
LOCATION:Sportovní hala Brušperk\, Sportovní 584 Brušperk
SUMMARY:CP-U16M-5A: Volejbal Ostrava-TJ Svitavy\, z.s.
END:VEVENT
BEGIN:VEVENT
UID:34396362-3932-4437-b066-313736616561
DTSTAMP:20260424T233533Z
DESCRIPTION:10/19 VSC Zlín - Prosek A 1:2 (17\,-24\,-7)
DTSTART;TZID=Europe/Berlin:20250209T101500
DTEND;TZID=Europe/Berlin:20250209T121500
LOCATION:ZŠ Okružní Zlín\, Okružní 4685 Zlín
SUMMARY:CP-U16M-5A: VSC Zlín-Prosek A
END:VEVENT
BEGIN:VEVENT
UID:65326534-3036-4536-b830-653733326534
DTSTAMP:20260424T233533Z
DESCRIPTION:10/20 Příbram A - Lvi Praha A 2:0 (24\,21)
DTSTART;TZID=Europe/Berlin:20250209T101500
DTEND;TZID=Europe/Berlin:20250209T121500
LOCATION:Tělocvična ZŠ Balbínova\, Balbínova 328 Příbram - Příbram II
SUMMARY:CP-U16M-5A: Příbram A-Lvi Praha A
END:VEVENT
BEGIN:VEVENT
UID:39636336-6236-4134-a563-313264633330
DTSTAMP:20260424T233533Z
DESCRIPTION:11/21 VK České Budějovice A - Volejbal Ostrava 1:2 (19\,-24\,-9
 )
DTSTART;TZID=Europe/Berlin:20250209T113000
DTEND;TZID=Europe/Berlin:20250209T133000
LOCATION:ZŠ Oskara Nedbala České Budějovice\, O. Nedbala 882 České Budějovi
 ce - České Budějovice 2
SUMMARY:CP-U16M-5A: VK České Budějovice A-Volejbal Ostrava
END:VEVENT
BEGIN:VEVENT
UID:31323366-6332-4334-b261-633933323634
DTSTAMP:20260424T233533Z
DESCRIPTION:11/22 Prosek A - Blue Ostrava 2:0 (20\,13)
DTSTART;TZID=Europe/Berlin:20250209T113000
DTEND;TZID=Europe/Berlin:20250209T133000
LOCATION:SH SK Prosek\, Lovosická 559 Praha - Letňany
SUMMARY:CP-U16M-5A: Prosek A-Blue Ostrava
END:VEVENT
BEGIN:VEVENT
UID:36653934-3635-4237-b863-343032393062
DTSTAMP:20260424T233533Z
DESCRIPTION:12/23 TJ Svitavy\, z.s. - Příbram A 0:2 (-19\,-21)
DTSTART;TZID=Europe/Berlin:20250209T124500
DTEND;TZID=Europe/Berlin:20250209T144500
LOCATION:Sportovní hala Na Střelnici\, Pražská 2162 Svitavy - Předměstí
SUMMARY:CP-U16M-5A: TJ Svitavy\, z.s.-Příbram A
END:VEVENT
BEGIN:VEVENT
UID:30336636-3966-4464-a136-653535303031
DTSTAMP:20260424T233533Z
DESCRIPTION:12/24 Lvi Praha A - VSC Zlín 2:0 (19\,13)
DTSTART;TZID=Europe/Berlin:20250209T124500
DTEND;TZID=Europe/Berlin:20250209T144500
LOCATION:ZŠ Balabenka\, náměstí Na Balabence 800 Praha - Libeň
SUMMARY:CP-U16M-5A: Lvi Praha A-VSC Zlín
END:VEVENT
BEGIN:VEVENT
UID:32383833-6634-4437-a538-363332316637
DTSTAMP:20260424T233533Z
DESCRIPTION:13/25 Blue Ostrava - Lvi Praha A 0:2 (-8\,-15)
DTSTART;TZID=Europe/Berlin:20250209T140000
DTEND;TZID=Europe/Berlin:20250209T160000
LOCATION:Sportovní hala Ostrava -Třebovice\, 5. května 5649 Ostrava - Třebo
 vice
SUMMARY:CP-U16M-5A: Blue Ostrava-Lvi Praha A
END:VEVENT
BEGIN:VEVENT
UID:30366632-3331-4765-b536-393364383430
DTSTAMP:20260424T233533Z
DESCRIPTION:13/26 VSC Zlín - TJ Svitavy\, z.s. 0:2 (-18\,-22)
DTSTART;TZID=Europe/Berlin:20250209T140000
DTEND;TZID=Europe/Berlin:20250209T160000
LOCATION:ZŠ Okružní Zlín\, Okružní 4685 Zlín
SUMMARY:CP-U16M-5A: VSC Zlín-TJ Svitavy\, z.s.
END:VEVENT
BEGIN:VEVENT
UID:37366432-3736-4731-b030-363933643766
DTSTAMP:20260424T233533Z
DESCRIPTION:14/27 Prosek A - VK České Budějovice A 0:2 (-24\,-9)
DTSTART;TZID=Europe/Berlin:20250209T151500
DTEND;TZID=Europe/Berlin:20250209T171500
LOCATION:SH SK Prosek\, Lovosická 559 Praha - Letňany
SUMMARY:CP-U16M-5A: Prosek A-VK České Budějovice A
END:VEVENT
BEGIN:VEVENT
UID:30663732-6361-4532-b963-613637356238
DTSTAMP:20260424T233533Z
DESCRIPTION:14/28 Příbram A - Volejbal Ostrava 0:2 (-20\,-16)
DTSTART;TZID=Europe/Berlin:20250209T151500
DTEND;TZID=Europe/Berlin:20250209T171500
LOCATION:Tělocvična ZŠ Balbínova\, Balbínova 328 Příbram - Příbram II
SUMMARY:CP-U16M-5A: Příbram A-Volejbal Ostrava
END:VEVENT
END:VCALENDAR
