BEGIN:VCALENDAR
VERSION:2.0
PRODID:-//CP-U16M-5E//NONSGML kigkonsult.se iCalcreator 2.41.80//
CALSCALE:GREGORIAN
UID:63353563-3037-4863-b234-383431356637
BEGIN:VEVENT
UID:64333162-6236-4539-b832-623733316566
DTSTAMP:20260424T140411Z
DESCRIPTION:1/1 Red Frýdlant n/O\, z.s. - VSK Český Krumlov 2:0 (16\,13)
DTSTART;TZID=Europe/Berlin:20250208T093000
DTEND;TZID=Europe/Berlin:20250208T113000
LOCATION:Komenského\, Komenského 420 Frýdlant nad Ostravicí - Frýdlant
SUMMARY:CP-U16M-5E: Red Frýdlant n/O\, z.s.-VSK Český Krumlov
END:VEVENT
BEGIN:VEVENT
UID:62623065-3038-4534-b633-663233616337
DTSTAMP:20260424T140411Z
DESCRIPTION:1/2 Klatovy - SK Meteor Praha 2:0 (20\,24)
DTSTART;TZID=Europe/Berlin:20250208T093000
DTEND;TZID=Europe/Berlin:20250208T113000
LOCATION:Sportovní hala ZŠ Čapkova\, Čapkova 136 Klatovy - Klatovy V
SUMMARY:CP-U16M-5E: Klatovy-SK Meteor Praha
END:VEVENT
BEGIN:VEVENT
UID:65623733-3731-4362-b737-303566613238
DTSTAMP:20260424T140411Z
DESCRIPTION:2/3 VK Lvi Praha B - PODĚS 2:0 (16\,11)
DTSTART;TZID=Europe/Berlin:20250208T103000
DTEND;TZID=Europe/Berlin:20250208T123000
LOCATION:ZŠ Balabenka\, náměstí Na Balabence 800 Praha - Libeň
SUMMARY:CP-U16M-5E: VK Lvi Praha B-PODĚS
END:VEVENT
BEGIN:VEVENT
UID:38336331-3862-4539-b833-373639393638
DTSTAMP:20260424T140411Z
DESCRIPTION:2/4 Val.Meziříčí - Green F-M 2:1 (-22\,16\,10)
DTSTART;TZID=Europe/Berlin:20250208T103000
DTEND;TZID=Europe/Berlin:20250208T123000
LOCATION:ZŠ Šafaříkova\, Šafaříkova 726 Valašské Meziříčí
SUMMARY:CP-U16M-5E: Val.Meziříčí-Green F-M
END:VEVENT
BEGIN:VEVENT
UID:38346331-3135-4236-a138-353265663666
DTSTAMP:20260424T140411Z
DESCRIPTION:3/5 VSK Český Krumlov - SK Meteor Praha 0:2 (-21\,-19)
DTSTART;TZID=Europe/Berlin:20250208T113000
DTEND;TZID=Europe/Berlin:20250208T133000
LOCATION:ZŠ Za Nádražím Český Krumlov\, Za Nádražím 222 Český Krumlov - Nád
 ražní Předměstí
SUMMARY:CP-U16M-5E: VSK Český Krumlov-SK Meteor Praha
END:VEVENT
BEGIN:VEVENT
UID:31323132-6633-4465-b631-313039616532
DTSTAMP:20260424T140411Z
DESCRIPTION:3/6 PODĚS - Red Frýdlant n/O\, z.s. 0:2 (-14\,-14)
DTSTART;TZID=Europe/Berlin:20250208T113000
DTEND;TZID=Europe/Berlin:20250208T133000
LOCATION:Tělocvična ZŠ J. Matiegky\, Pražská 2817 Mělník
SUMMARY:CP-U16M-5E: PODĚS-Red Frýdlant n/O\, z.s.
END:VEVENT
BEGIN:VEVENT
UID:33346135-3861-4035-a236-386237626631
DTSTAMP:20260424T140411Z
DESCRIPTION:4/7 Klatovy - Val.Meziříčí 1:2 (21\,-23\,-12)
DTSTART;TZID=Europe/Berlin:20250208T123000
DTEND;TZID=Europe/Berlin:20250208T143000
LOCATION:Sportovní hala ZŠ Čapkova\, Čapkova 136 Klatovy - Klatovy V
SUMMARY:CP-U16M-5E: Klatovy-Val.Meziříčí
END:VEVENT
BEGIN:VEVENT
UID:64323933-6661-4166-a130-323034653837
DTSTAMP:20260424T140411Z
DESCRIPTION:4/8 Green F-M - VK Lvi Praha B 0:2 (-16\,-21)
DTSTART;TZID=Europe/Berlin:20250208T123000
DTEND;TZID=Europe/Berlin:20250208T143000
LOCATION:Hala SPŠ\, 28. října 1639 Frýdek-Místek - Místek
SUMMARY:CP-U16M-5E: Green F-M-VK Lvi Praha B
END:VEVENT
BEGIN:VEVENT
UID:31653837-3532-4562-b162-636339353338
DTSTAMP:20260424T140411Z
DESCRIPTION:5/9 PODĚS - VSK Český Krumlov 0:2 (-13\,-13)
DTSTART;TZID=Europe/Berlin:20250208T133000
DTEND;TZID=Europe/Berlin:20250208T153000
LOCATION:Tělocvična ZŠ J. Matiegky\, Pražská 2817 Mělník
SUMMARY:CP-U16M-5E: PODĚS-VSK Český Krumlov
END:VEVENT
BEGIN:VEVENT
UID:63313862-3531-4466-b436-313934643862
DTSTAMP:20260424T140411Z
DESCRIPTION:5/10 Val.Meziříčí - SK Meteor Praha 0:2 (-21\,-17)
DTSTART;TZID=Europe/Berlin:20250208T133000
DTEND;TZID=Europe/Berlin:20250208T153000
LOCATION:ZŠ Šafaříkova\, Šafaříkova 726 Valašské Meziříčí
SUMMARY:CP-U16M-5E: Val.Meziříčí-SK Meteor Praha
END:VEVENT
BEGIN:VEVENT
UID:39303231-6161-4235-a330-336361636238
DTSTAMP:20260424T140411Z
DESCRIPTION:6/11 Red Frýdlant n/O\, z.s. - Green F-M 2:0 (13\,20)
DTSTART;TZID=Europe/Berlin:20250208T143000
DTEND;TZID=Europe/Berlin:20250208T163000
LOCATION:Komenského\, Komenského 420 Frýdlant nad Ostravicí - Frýdlant
SUMMARY:CP-U16M-5E: Red Frýdlant n/O\, z.s.-Green F-M
END:VEVENT
BEGIN:VEVENT
UID:36633865-3137-4538-b239-393464626562
DTSTAMP:20260424T140411Z
DESCRIPTION:6/12 Klatovy - VK Lvi Praha B 2:0 (22\,21)
DTSTART;TZID=Europe/Berlin:20250208T143000
DTEND;TZID=Europe/Berlin:20250208T163000
LOCATION:Sportovní hala ZŠ Čapkova\, Čapkova 136 Klatovy - Klatovy V
SUMMARY:CP-U16M-5E: Klatovy-VK Lvi Praha B
END:VEVENT
BEGIN:VEVENT
UID:66323239-3231-4035-b535-653933393737
DTSTAMP:20260424T140411Z
DESCRIPTION:7/13 VSK Český Krumlov - Val.Meziříčí 2:0 (20\,23)
DTSTART;TZID=Europe/Berlin:20250208T153000
DTEND;TZID=Europe/Berlin:20250208T173000
LOCATION:ZŠ Za Nádražím Český Krumlov\, Za Nádražím 222 Český Krumlov - Nád
 ražní Předměstí
SUMMARY:CP-U16M-5E: VSK Český Krumlov-Val.Meziříčí
END:VEVENT
BEGIN:VEVENT
UID:64633039-6530-4861-b838-656661303861
DTSTAMP:20260424T140411Z
DESCRIPTION:7/14 Green F-M - PODĚS 0:2 (-23\,-26)
DTSTART;TZID=Europe/Berlin:20250208T153000
DTEND;TZID=Europe/Berlin:20250208T173000
LOCATION:Hala SPŠ\, 28. října 1639 Frýdek-Místek - Místek
SUMMARY:CP-U16M-5E: Green F-M-PODĚS
END:VEVENT
BEGIN:VEVENT
UID:65336564-3561-4464-b836-333930393131
DTSTAMP:20260424T140411Z
DESCRIPTION:8/15 SK Meteor Praha - VK Lvi Praha B 2:1 (-11\,11\,11)
DTSTART;TZID=Europe/Berlin:20250208T163000
DTEND;TZID=Europe/Berlin:20250208T183000
LOCATION:Sokol Bubeneč\, Korunovační 630 Praha - Bubeneč
SUMMARY:CP-U16M-5E: SK Meteor Praha-VK Lvi Praha B
END:VEVENT
BEGIN:VEVENT
UID:34623065-3766-4131-a661-336337373638
DTSTAMP:20260424T140411Z
DESCRIPTION:8/16 Klatovy - Red Frýdlant n/O\, z.s. 0:2 (-19\,-11)
DTSTART;TZID=Europe/Berlin:20250208T163000
DTEND;TZID=Europe/Berlin:20250208T183000
LOCATION:Sportovní hala ZŠ Čapkova\, Čapkova 136 Klatovy - Klatovy V
SUMMARY:CP-U16M-5E: Klatovy-Red Frýdlant n/O\, z.s.
END:VEVENT
BEGIN:VEVENT
UID:66343665-3833-4563-a139-653030633137
DTSTAMP:20260424T140411Z
DESCRIPTION:9/17 Red Frýdlant n/O\, z.s. - SK Meteor Praha 2:1 (-32\,8\,11)
DTSTART;TZID=Europe/Berlin:20250209T090000
DTEND;TZID=Europe/Berlin:20250209T110000
LOCATION:Komenského\, Komenského 420 Frýdlant nad Ostravicí - Frýdlant
SUMMARY:CP-U16M-5E: Red Frýdlant n/O\, z.s.-SK Meteor Praha
END:VEVENT
BEGIN:VEVENT
UID:62326662-3366-4765-b866-333766623961
DTSTAMP:20260424T140411Z
DESCRIPTION:9/18 VK Lvi Praha B - Val.Meziříčí 0:2 (-15\,-20)
DTSTART;TZID=Europe/Berlin:20250209T090000
DTEND;TZID=Europe/Berlin:20250209T110000
LOCATION:ZŠ Balabenka\, náměstí Na Balabence 800 Praha - Libeň
SUMMARY:CP-U16M-5E: VK Lvi Praha B-Val.Meziříčí
END:VEVENT
BEGIN:VEVENT
UID:63306430-3639-4333-b336-626536353163
DTSTAMP:20260424T140411Z
DESCRIPTION:9/19 Klatovy - PODĚS 2:0 (13\,16)
DTSTART;TZID=Europe/Berlin:20250209T090000
DTEND;TZID=Europe/Berlin:20250209T110000
LOCATION:Sportovní hala ZŠ Čapkova\, Čapkova 136 Klatovy - Klatovy V
SUMMARY:CP-U16M-5E: Klatovy-PODĚS
END:VEVENT
BEGIN:VEVENT
UID:39386633-3065-4632-a433-373537306365
DTSTAMP:20260424T140411Z
DESCRIPTION:10/20 PODĚS - Val.Meziříčí 0:2 (-17\,-19)
DTSTART;TZID=Europe/Berlin:20250209T100000
DTEND;TZID=Europe/Berlin:20250209T120000
LOCATION:Tělocvična ZŠ J. Matiegky\, Pražská 2817 Mělník
SUMMARY:CP-U16M-5E: PODĚS-Val.Meziříčí
END:VEVENT
BEGIN:VEVENT
UID:63353137-6532-4339-a438-643733393061
DTSTAMP:20260424T140411Z
DESCRIPTION:10/21 VSK Český Krumlov - VK Lvi Praha B 2:0 (16\,17)
DTSTART;TZID=Europe/Berlin:20250209T100000
DTEND;TZID=Europe/Berlin:20250209T120000
LOCATION:ZŠ Za Nádražím Český Krumlov\, Za Nádražím 222 Český Krumlov - Nád
 ražní Předměstí
SUMMARY:CP-U16M-5E: VSK Český Krumlov-VK Lvi Praha B
END:VEVENT
BEGIN:VEVENT
UID:37663662-3064-4463-a661-376638636633
DTSTAMP:20260424T140411Z
DESCRIPTION:10/22 Klatovy - Green F-M 2:0 (9\,13)
DTSTART;TZID=Europe/Berlin:20250209T100000
DTEND;TZID=Europe/Berlin:20250209T120000
LOCATION:Sportovní hala ZŠ Čapkova\, Čapkova 136 Klatovy - Klatovy V
SUMMARY:CP-U16M-5E: Klatovy-Green F-M
END:VEVENT
BEGIN:VEVENT
UID:32373666-6335-4365-b265-303733353462
DTSTAMP:20260424T140411Z
DESCRIPTION:11/23 Val.Meziříčí - Red Frýdlant n/O\, z.s. 0:2 (-19\,-24)
DTSTART;TZID=Europe/Berlin:20250209T110000
DTEND;TZID=Europe/Berlin:20250209T130000
LOCATION:ZŠ Šafaříkova\, Šafaříkova 726 Valašské Meziříčí
SUMMARY:CP-U16M-5E: Val.Meziříčí-Red Frýdlant n/O\, z.s.
END:VEVENT
BEGIN:VEVENT
UID:39623462-6435-4537-b036-316263633962
DTSTAMP:20260424T140411Z
DESCRIPTION:11/24 SK Meteor Praha - PODĚS 2:1 (15\,-23\,10)
DTSTART;TZID=Europe/Berlin:20250209T110000
DTEND;TZID=Europe/Berlin:20250209T130000
LOCATION:Sokol Bubeneč\, Korunovační 630 Praha - Bubeneč
SUMMARY:CP-U16M-5E: SK Meteor Praha-PODĚS
END:VEVENT
BEGIN:VEVENT
UID:34656164-3864-4139-b939-313737306533
DTSTAMP:20260424T140411Z
DESCRIPTION:11/25 Green F-M - VSK Český Krumlov 0:2 (-23\,-19)
DTSTART;TZID=Europe/Berlin:20250209T110000
DTEND;TZID=Europe/Berlin:20250209T130000
LOCATION:Hala SPŠ\, 28. října 1639 Frýdek-Místek - Místek
SUMMARY:CP-U16M-5E: Green F-M-VSK Český Krumlov
END:VEVENT
BEGIN:VEVENT
UID:31363033-6233-4366-b632-656635623961
DTSTAMP:20260424T140411Z
DESCRIPTION:12/26 Klatovy - VSK Český Krumlov 1:2 (-23\,17\,-9)
DTSTART;TZID=Europe/Berlin:20250209T120000
DTEND;TZID=Europe/Berlin:20250209T140000
LOCATION:Sportovní hala ZŠ Čapkova\, Čapkova 136 Klatovy - Klatovy V
SUMMARY:CP-U16M-5E: Klatovy-VSK Český Krumlov
END:VEVENT
BEGIN:VEVENT
UID:65666565-3536-4434-b165-306335353662
DTSTAMP:20260424T140411Z
DESCRIPTION:12/27 Green F-M - SK Meteor Praha 2:0 (16\,21)
DTSTART;TZID=Europe/Berlin:20250209T120000
DTEND;TZID=Europe/Berlin:20250209T140000
LOCATION:Hala SPŠ\, 28. října 1639 Frýdek-Místek - Místek
SUMMARY:CP-U16M-5E: Green F-M-SK Meteor Praha
END:VEVENT
BEGIN:VEVENT
UID:33646333-6235-4531-b536-353338363736
DTSTAMP:20260424T140411Z
DESCRIPTION:12/28 Red Frýdlant n/O\, z.s. - VK Lvi Praha B 2:0 (20\,14)
DTSTART;TZID=Europe/Berlin:20250209T120000
DTEND;TZID=Europe/Berlin:20250209T140000
LOCATION:Komenského\, Komenského 420 Frýdlant nad Ostravicí - Frýdlant
SUMMARY:CP-U16M-5E: Red Frýdlant n/O\, z.s.-VK Lvi Praha B
END:VEVENT
END:VCALENDAR
