BEGIN:VCALENDAR
VERSION:2.0
PRODID:-//CP-U16Z-F2A//NONSGML kigkonsult.se iCalcreator 2.41.80//
CALSCALE:GREGORIAN
UID:65646437-6464-4163-a462-373161316631
BEGIN:VEVENT
UID:62376134-6536-4932-b161-656434363766
DTSTAMP:20260421T144754Z
DESCRIPTION:1/1 Orion Praha - ABC Braník 2:1 (13\,-22\,7)
DTSTART;TZID=Europe/Berlin:20250215T084500
DTEND;TZID=Europe/Berlin:20250215T104500
LOCATION:ZŠ Dolní Břežany\, Na Vršku 290 Dolní Břežany
SUMMARY:CP-U16Z-F2A: Orion Praha-ABC Braník
END:VEVENT
BEGIN:VEVENT
UID:30376662-3365-4164-b961-636136313265
DTSTAMP:20260421T144754Z
DESCRIPTION:1/2 PVK Olymp - Slavia H.Králové 2:0 (8\,18)
DTSTART;TZID=Europe/Berlin:20250215T084500
DTEND;TZID=Europe/Berlin:20250215T104500
LOCATION:VCM OLYMP PRAHA \, Radlická 115 Praha - Radlice
SUMMARY:CP-U16Z-F2A: PVK Olymp-Slavia H.Králové
END:VEVENT
BEGIN:VEVENT
UID:63633730-3937-4561-b234-316232396366
DTSTAMP:20260421T144754Z
DESCRIPTION:1/3 Nymburské BOMBY - Demlova 2:0 (11\,15)
DTSTART;TZID=Europe/Berlin:20250215T084500
DTEND;TZID=Europe/Berlin:20250215T104500
LOCATION:Bios\, V Kolonii 1804 Nymburk
SUMMARY:CP-U16Z-F2A: Nymburské BOMBY-Demlova
END:VEVENT
BEGIN:VEVENT
UID:37303034-3964-4465-b564-613832623133
DTSTAMP:20260421T144754Z
DESCRIPTION:2/4 Orion Praha - Demlova 2:0 (17\,15)
DTSTART;TZID=Europe/Berlin:20250215T100000
DTEND;TZID=Europe/Berlin:20250215T120000
LOCATION:ZŠ Dolní Břežany\, Na Vršku 290 Dolní Břežany
SUMMARY:CP-U16Z-F2A: Orion Praha-Demlova
END:VEVENT
BEGIN:VEVENT
UID:39383036-6536-4064-b864-663062356437
DTSTAMP:20260421T144754Z
DESCRIPTION:2/5 ABC Braník - PVK Olymp 0:2 (-13\,-12)
DTSTART;TZID=Europe/Berlin:20250215T100000
DTEND;TZID=Europe/Berlin:20250215T120000
LOCATION:Sokolovna Braník\, Branická 275 Praha - Braník
SUMMARY:CP-U16Z-F2A: ABC Braník-PVK Olymp
END:VEVENT
BEGIN:VEVENT
UID:64666461-6535-4633-a464-646536306333
DTSTAMP:20260421T144754Z
DESCRIPTION:2/6 VK Dukla Liberec - KP Brno A 0:2 (-17\,-15)
DTSTART;TZID=Europe/Berlin:20250215T100000
DTEND;TZID=Europe/Berlin:20250215T120000
LOCATION:Dukla Liberec\, Jeronýmova 558 Liberec - Liberec VII-Horní Růžodol
SUMMARY:CP-U16Z-F2A: VK Dukla Liberec-KP Brno A
END:VEVENT
BEGIN:VEVENT
UID:35366338-3336-4834-b533-376262643765
DTSTAMP:20260421T144754Z
DESCRIPTION:3/7 Nymburské BOMBY - VK Dukla Liberec 2:0 (8\,10)
DTSTART;TZID=Europe/Berlin:20250215T111500
DTEND;TZID=Europe/Berlin:20250215T131500
LOCATION:Bios\, V Kolonii 1804 Nymburk
SUMMARY:CP-U16Z-F2A: Nymburské BOMBY-VK Dukla Liberec
END:VEVENT
BEGIN:VEVENT
UID:35336336-3330-4737-b631-623066393361
DTSTAMP:20260421T144754Z
DESCRIPTION:3/8 KP Brno A - Slavia H.Králové 0:2 (-18\,-23)
DTSTART;TZID=Europe/Berlin:20250215T111500
DTEND;TZID=Europe/Berlin:20250215T131500
LOCATION:Sportovní gymnázium Ludvíka Daňka\, Botanická 63 Brno - Ponava
SUMMARY:CP-U16Z-F2A: KP Brno A-Slavia H.Králové
END:VEVENT
BEGIN:VEVENT
UID:32326234-3766-4233-b563-656231636362
DTSTAMP:20260421T144754Z
DESCRIPTION:4/9 PVK Olymp - Nymburské BOMBY 2:0 (21\,18)
DTSTART;TZID=Europe/Berlin:20250215T123000
DTEND;TZID=Europe/Berlin:20250215T143000
LOCATION:VCM OLYMP PRAHA \, Radlická 115 Praha - Radlice
SUMMARY:CP-U16Z-F2A: PVK Olymp-Nymburské BOMBY
END:VEVENT
BEGIN:VEVENT
UID:39643962-3433-4361-b163-376163383437
DTSTAMP:20260421T144754Z
DESCRIPTION:4/10 ABC Braník - Slavia H.Králové 2:0 (22\,22)
DTSTART;TZID=Europe/Berlin:20250215T123000
DTEND;TZID=Europe/Berlin:20250215T143000
LOCATION:Sokolovna Braník\, Branická 275 Praha - Braník
SUMMARY:CP-U16Z-F2A: ABC Braník-Slavia H.Králové
END:VEVENT
BEGIN:VEVENT
UID:63396638-3566-4662-b739-393139666532
DTSTAMP:20260421T144754Z
DESCRIPTION:5/11 Slavia H.Králové - Orion Praha 0:2 (-16\,-16)
DTSTART;TZID=Europe/Berlin:20250215T134500
DTEND;TZID=Europe/Berlin:20250215T154500
LOCATION:TJ Slavia Hradec Králové\, Víta Nejedlého 1216 Hradec Králové
SUMMARY:CP-U16Z-F2A: Slavia H.Králové-Orion Praha
END:VEVENT
BEGIN:VEVENT
UID:38323534-3136-4536-b431-383732636137
DTSTAMP:20260421T144754Z
DESCRIPTION:5/12 KP Brno A - Demlova 2:0 (24\,16)
DTSTART;TZID=Europe/Berlin:20250215T134500
DTEND;TZID=Europe/Berlin:20250215T154500
LOCATION:Sportovní gymnázium Ludvíka Daňka\, Botanická 63 Brno - Ponava
SUMMARY:CP-U16Z-F2A: KP Brno A-Demlova
END:VEVENT
BEGIN:VEVENT
UID:34626130-6331-4030-a666-643535316163
DTSTAMP:20260421T144754Z
DESCRIPTION:6/13 PVK Olymp - VK Dukla Liberec 2:0 (15\,14)
DTSTART;TZID=Europe/Berlin:20250215T150000
DTEND;TZID=Europe/Berlin:20250215T170000
LOCATION:VCM OLYMP PRAHA \, Radlická 115 Praha - Radlice
SUMMARY:CP-U16Z-F2A: PVK Olymp-VK Dukla Liberec
END:VEVENT
BEGIN:VEVENT
UID:36646463-6336-4164-a538-623033663265
DTSTAMP:20260421T144754Z
DESCRIPTION:6/14 Nymburské BOMBY - KP Brno A 2:0 (21\,11)
DTSTART;TZID=Europe/Berlin:20250215T150000
DTEND;TZID=Europe/Berlin:20250215T170000
LOCATION:Bios\, V Kolonii 1804 Nymburk
SUMMARY:CP-U16Z-F2A: Nymburské BOMBY-KP Brno A
END:VEVENT
BEGIN:VEVENT
UID:34356661-3261-4933-a336-663861343161
DTSTAMP:20260421T144754Z
DESCRIPTION:7/15 Orion Praha - PVK Olymp 2:1 (-20\,24\,13)
DTSTART;TZID=Europe/Berlin:20250216T090000
DTEND;TZID=Europe/Berlin:20250216T110000
LOCATION:ZŠ Dolní Břežany\, Na Vršku 290 Dolní Břežany
SUMMARY:CP-U16Z-F2A: Orion Praha-PVK Olymp
END:VEVENT
BEGIN:VEVENT
UID:62323538-3864-4166-a263-653632343738
DTSTAMP:20260421T144754Z
DESCRIPTION:7/16 ABC Braník - VK Dukla Liberec 2:0 (26\,18)
DTSTART;TZID=Europe/Berlin:20250216T090000
DTEND;TZID=Europe/Berlin:20250216T110000
LOCATION:Sokolovna Braník\, Branická 275 Praha - Braník
SUMMARY:CP-U16Z-F2A: ABC Braník-VK Dukla Liberec
END:VEVENT
BEGIN:VEVENT
UID:35376431-3466-4664-b861-306234393638
DTSTAMP:20260421T144754Z
DESCRIPTION:7/17 Nymburské BOMBY - Slavia H.Králové 2:0 (15\,15)
DTSTART;TZID=Europe/Berlin:20250216T090000
DTEND;TZID=Europe/Berlin:20250216T110000
LOCATION:Bios\, V Kolonii 1804 Nymburk
SUMMARY:CP-U16Z-F2A: Nymburské BOMBY-Slavia H.Králové
END:VEVENT
BEGIN:VEVENT
UID:30333539-3237-4464-b266-363131613336
DTSTAMP:20260421T144754Z
DESCRIPTION:8/18 Nymburské BOMBY - ABC Braník 2:0 (19\,17)
DTSTART;TZID=Europe/Berlin:20250216T101500
DTEND;TZID=Europe/Berlin:20250216T121500
LOCATION:Bios\, V Kolonii 1804 Nymburk
SUMMARY:CP-U16Z-F2A: Nymburské BOMBY-ABC Braník
END:VEVENT
BEGIN:VEVENT
UID:31303361-3463-4131-b861-653862633338
DTSTAMP:20260421T144754Z
DESCRIPTION:8/19 VK Dukla Liberec - Demlova 1:2 (23\,-24\,-5)
DTSTART;TZID=Europe/Berlin:20250216T101500
DTEND;TZID=Europe/Berlin:20250216T121500
LOCATION:Dukla Liberec\, Jeronýmova 558 Liberec - Liberec VII-Horní Růžodol
SUMMARY:CP-U16Z-F2A: VK Dukla Liberec-Demlova
END:VEVENT
BEGIN:VEVENT
UID:62623965-3239-4035-a638-313031303734
DTSTAMP:20260421T144754Z
DESCRIPTION:8/20 KP Brno A - PVK Olymp 1:2 (-13\,20\,-11)
DTSTART;TZID=Europe/Berlin:20250216T101500
DTEND;TZID=Europe/Berlin:20250216T121500
LOCATION:Sportovní gymnázium Ludvíka Daňka\, Botanická 63 Brno - Ponava
SUMMARY:CP-U16Z-F2A: KP Brno A-PVK Olymp
END:VEVENT
BEGIN:VEVENT
UID:39653434-6130-4130-b331-343264386433
DTSTAMP:20260421T144754Z
DESCRIPTION:9/21 Orion Praha - KP Brno A 2:0 (21\,16)
DTSTART;TZID=Europe/Berlin:20250216T113000
DTEND;TZID=Europe/Berlin:20250216T133000
LOCATION:ZŠ Dolní Břežany\, Na Vršku 290 Dolní Břežany
SUMMARY:CP-U16Z-F2A: Orion Praha-KP Brno A
END:VEVENT
BEGIN:VEVENT
UID:31393139-3639-4434-b432-336234333164
DTSTAMP:20260421T144754Z
DESCRIPTION:9/22 Demlova - PVK Olymp 0:2 (-23\,-19)
DTSTART;TZID=Europe/Berlin:20250216T113000
DTEND;TZID=Europe/Berlin:20250216T133000
LOCATION:ZŠ Jihlava Demlova\, Demlova 4178 Jihlava
SUMMARY:CP-U16Z-F2A: Demlova-PVK Olymp
END:VEVENT
BEGIN:VEVENT
UID:66393837-3565-4136-a430-633232303833
DTSTAMP:20260421T144754Z
DESCRIPTION:9/23 Slavia H.Králové - VK Dukla Liberec 2:0 (8\,17)
DTSTART;TZID=Europe/Berlin:20250216T113000
DTEND;TZID=Europe/Berlin:20250216T133000
LOCATION:TJ Slavia Hradec Králové\, Víta Nejedlého 1216 Hradec Králové
SUMMARY:CP-U16Z-F2A: Slavia H.Králové-VK Dukla Liberec
END:VEVENT
BEGIN:VEVENT
UID:38653131-3030-4430-b438-363739383162
DTSTAMP:20260421T144754Z
DESCRIPTION:10/24 Orion Praha - VK Dukla Liberec 2:0 (12\,9)
DTSTART;TZID=Europe/Berlin:20250216T124500
DTEND;TZID=Europe/Berlin:20250216T144500
LOCATION:ZŠ Dolní Břežany\, Na Vršku 290 Dolní Břežany
SUMMARY:CP-U16Z-F2A: Orion Praha-VK Dukla Liberec
END:VEVENT
BEGIN:VEVENT
UID:34653733-3935-4966-b863-346162313761
DTSTAMP:20260421T144754Z
DESCRIPTION:10/25 Slavia H.Králové - Demlova 2:1 (12\,-22\,10)
DTSTART;TZID=Europe/Berlin:20250216T124500
DTEND;TZID=Europe/Berlin:20250216T144500
LOCATION:TJ Slavia Hradec Králové\, Víta Nejedlého 1216 Hradec Králové
SUMMARY:CP-U16Z-F2A: Slavia H.Králové-Demlova
END:VEVENT
BEGIN:VEVENT
UID:37373135-3832-4232-b939-353963616434
DTSTAMP:20260421T144754Z
DESCRIPTION:10/26 ABC Braník - KP Brno A 1:2 (-17\,19\,-8)
DTSTART;TZID=Europe/Berlin:20250216T124500
DTEND;TZID=Europe/Berlin:20250216T144500
LOCATION:Sokolovna Braník\, Branická 275 Praha - Braník
SUMMARY:CP-U16Z-F2A: ABC Braník-KP Brno A
END:VEVENT
BEGIN:VEVENT
UID:31643139-3064-4334-b937-633463623138
DTSTAMP:20260421T144754Z
DESCRIPTION:11/27 Nymburské BOMBY - Orion Praha 0:2 (-18\,-15)
DTSTART;TZID=Europe/Berlin:20250216T140000
DTEND;TZID=Europe/Berlin:20250216T160000
LOCATION:Bios\, V Kolonii 1804 Nymburk
SUMMARY:CP-U16Z-F2A: Nymburské BOMBY-Orion Praha
END:VEVENT
BEGIN:VEVENT
UID:66343339-3861-4036-b232-336330626637
DTSTAMP:20260421T144754Z
DESCRIPTION:11/28 Demlova - ABC Braník 0:2 (-18\,-21)
DTSTART;TZID=Europe/Berlin:20250216T140000
DTEND;TZID=Europe/Berlin:20250216T160000
LOCATION:ZŠ Jihlava Demlova\, Demlova 4178 Jihlava
SUMMARY:CP-U16Z-F2A: Demlova-ABC Braník
END:VEVENT
END:VCALENDAR
