BEGIN:VCALENDAR
VERSION:2.0
PRODID:-//CP-U16Z-F2E//NONSGML kigkonsult.se iCalcreator 2.41.80//
CALSCALE:GREGORIAN
UID:37336363-6539-4363-b630-343132663166
BEGIN:VEVENT
UID:39376533-3534-4365-a532-623937326263
DTSTAMP:20260421T144755Z
DESCRIPTION:1/1 VO TJ Lanškroun - Volejbal Ústí n L. 2:1 (-22\,10\,12)
DTSTART;TZID=Europe/Berlin:20250215T100000
DTEND;TZID=Europe/Berlin:20250215T120000
LOCATION:Městská sportovní hala Chodov\, Tyršova 1201 Chodov
SUMMARY:CP-U16Z-F2E: VO TJ Lanškroun-Volejbal Ústí n L.
END:VEVENT
BEGIN:VEVENT
UID:38306431-3533-4431-a162-356139633433
DTSTAMP:20260421T144755Z
DESCRIPTION:1/2 BVC CHODOV - VoCe 0:2 (-10\,-16)
DTSTART;TZID=Europe/Berlin:20250215T100000
DTEND;TZID=Europe/Berlin:20250215T120000
LOCATION:Městská sportovní hala Chodov\, Tyršova 1201 Chodov
SUMMARY:CP-U16Z-F2E: BVC CHODOV-VoCe
END:VEVENT
BEGIN:VEVENT
UID:63383830-6133-4464-b838-376431393761
DTSTAMP:20260421T144755Z
DESCRIPTION:1/3 SVK N. Jičín - Sokol F.- Místek 0:2 (-12\,-15)
DTSTART;TZID=Europe/Berlin:20250215T100000
DTEND;TZID=Europe/Berlin:20250215T120000
LOCATION:Městská sportovní hala Chodov\, Tyršova 1201 Chodov
SUMMARY:CP-U16Z-F2E: SVK N. Jičín-Sokol F.- Místek
END:VEVENT
BEGIN:VEVENT
UID:31616534-3935-4664-b636-323037623261
DTSTAMP:20260421T144755Z
DESCRIPTION:2/4 Sokol F.- Místek - VO TJ Lanškroun 2:1 (-12\,18\,9)
DTSTART;TZID=Europe/Berlin:20250215T113000
DTEND;TZID=Europe/Berlin:20250215T133000
LOCATION:Městská sportovní hala Chodov\, Tyršova 1201 Chodov
SUMMARY:CP-U16Z-F2E: Sokol F.- Místek-VO TJ Lanškroun
END:VEVENT
BEGIN:VEVENT
UID:33633938-6437-4931-b339-653034633930
DTSTAMP:20260421T144755Z
DESCRIPTION:2/5 BVC CHODOV - VK Madeta 0:2 (-3\,-22)
DTSTART;TZID=Europe/Berlin:20250215T113000
DTEND;TZID=Europe/Berlin:20250215T133000
LOCATION:Městská sportovní hala Chodov\, Tyršova 1201 Chodov
SUMMARY:CP-U16Z-F2E: BVC CHODOV-VK Madeta
END:VEVENT
BEGIN:VEVENT
UID:38313265-3531-4932-b163-623362393235
DTSTAMP:20260421T144755Z
DESCRIPTION:2/6 VoCe - SVK N. Jičín 2:0 (26\,11)
DTSTART;TZID=Europe/Berlin:20250215T113000
DTEND;TZID=Europe/Berlin:20250215T133000
LOCATION:Městská sportovní hala Chodov\, Tyršova 1201 Chodov
SUMMARY:CP-U16Z-F2E: VoCe-SVK N. Jičín
END:VEVENT
BEGIN:VEVENT
UID:61316632-6339-4863-b463-666435343235
DTSTAMP:20260421T144755Z
DESCRIPTION:3/7 Volejbal Ústí n L. - Sokol F.- Místek 0:2 (-12\,-16)
DTSTART;TZID=Europe/Berlin:20250215T130000
DTEND;TZID=Europe/Berlin:20250215T150000
LOCATION:Městská sportovní hala Chodov\, Tyršova 1201 Chodov
SUMMARY:CP-U16Z-F2E: Volejbal Ústí n L.-Sokol F.- Místek
END:VEVENT
BEGIN:VEVENT
UID:65326237-3662-4539-a532-643339356230
DTSTAMP:20260421T144755Z
DESCRIPTION:3/8 SVK N. Jičín - VK Madeta 0:2 (-16\,-17)
DTSTART;TZID=Europe/Berlin:20250215T130000
DTEND;TZID=Europe/Berlin:20250215T150000
LOCATION:Městská sportovní hala Chodov\, Tyršova 1201 Chodov
SUMMARY:CP-U16Z-F2E: SVK N. Jičín-VK Madeta
END:VEVENT
BEGIN:VEVENT
UID:36376637-6265-4938-b466-303866656566
DTSTAMP:20260421T144755Z
DESCRIPTION:4/9 VoCe - Volejbal Ústí n L. 2:0 (10\,16)
DTSTART;TZID=Europe/Berlin:20250215T143000
DTEND;TZID=Europe/Berlin:20250215T163000
LOCATION:Městská sportovní hala Chodov\, Tyršova 1201 Chodov
SUMMARY:CP-U16Z-F2E: VoCe-Volejbal Ústí n L.
END:VEVENT
BEGIN:VEVENT
UID:39633439-3938-4163-a436-623436333662
DTSTAMP:20260421T144755Z
DESCRIPTION:4/10 BVC CHODOV - SVK N. Jičín 2:1 (-20\,22\,13)
DTSTART;TZID=Europe/Berlin:20250215T143000
DTEND;TZID=Europe/Berlin:20250215T163000
LOCATION:Městská sportovní hala Chodov\, Tyršova 1201 Chodov
SUMMARY:CP-U16Z-F2E: BVC CHODOV-SVK N. Jičín
END:VEVENT
BEGIN:VEVENT
UID:37636138-3834-4631-b762-373734316332
DTSTAMP:20260421T144755Z
DESCRIPTION:4/11 VK Madeta - VO TJ Lanškroun 2:0 (13\,23)
DTSTART;TZID=Europe/Berlin:20250215T143000
DTEND;TZID=Europe/Berlin:20250215T163000
LOCATION:Městská sportovní hala Chodov\, Tyršova 1201 Chodov
SUMMARY:CP-U16Z-F2E: VK Madeta-VO TJ Lanškroun
END:VEVENT
BEGIN:VEVENT
UID:66376538-3665-4530-b663-323734366237
DTSTAMP:20260421T144755Z
DESCRIPTION:5/12 Sokol F.- Místek - VoCe 1:2 (19\,-20\,-8)
DTSTART;TZID=Europe/Berlin:20250215T160000
DTEND;TZID=Europe/Berlin:20250215T180000
LOCATION:Městská sportovní hala Chodov\, Tyršova 1201 Chodov
SUMMARY:CP-U16Z-F2E: Sokol F.- Místek-VoCe
END:VEVENT
BEGIN:VEVENT
UID:31373163-6634-4136-a235-353361366366
DTSTAMP:20260421T144755Z
DESCRIPTION:5/13 BVC CHODOV - VO TJ Lanškroun 2:0 (15\,23)
DTSTART;TZID=Europe/Berlin:20250215T160000
DTEND;TZID=Europe/Berlin:20250215T180000
LOCATION:Městská sportovní hala Chodov\, Tyršova 1201 Chodov
SUMMARY:CP-U16Z-F2E: BVC CHODOV-VO TJ Lanškroun
END:VEVENT
BEGIN:VEVENT
UID:35396166-3230-4831-b931-366330626330
DTSTAMP:20260421T144755Z
DESCRIPTION:5/14 Volejbal Ústí n L. - VK Madeta 0:2 (-18\,-18)
DTSTART;TZID=Europe/Berlin:20250215T160000
DTEND;TZID=Europe/Berlin:20250215T180000
LOCATION:Městská sportovní hala Chodov\, Tyršova 1201 Chodov
SUMMARY:CP-U16Z-F2E: Volejbal Ústí n L.-VK Madeta
END:VEVENT
BEGIN:VEVENT
UID:62353164-6138-4462-b666-623634623134
DTSTAMP:20260421T144755Z
DESCRIPTION:6/15 SVK N. Jičín - VO TJ Lanškroun 1:2 (-21\,13\,-10)
DTSTART;TZID=Europe/Berlin:20250216T090000
DTEND;TZID=Europe/Berlin:20250216T110000
LOCATION:Městská sportovní hala Chodov\, Tyršova 1201 Chodov
SUMMARY:CP-U16Z-F2E: SVK N. Jičín-VO TJ Lanškroun
END:VEVENT
BEGIN:VEVENT
UID:61656431-3138-4562-a335-613162333431
DTSTAMP:20260421T144755Z
DESCRIPTION:6/16 BVC CHODOV - Volejbal Ústí n L. 1:2 (-24\,16\,-6)
DTSTART;TZID=Europe/Berlin:20250216T090000
DTEND;TZID=Europe/Berlin:20250216T110000
LOCATION:Městská sportovní hala Chodov\, Tyršova 1201 Chodov
SUMMARY:CP-U16Z-F2E: BVC CHODOV-Volejbal Ústí n L.
END:VEVENT
BEGIN:VEVENT
UID:39633564-6538-4935-a466-303734363635
DTSTAMP:20260421T144755Z
DESCRIPTION:6/17 VK Madeta - Sokol F.- Místek 2:1 (15\,-12\,11)
DTSTART;TZID=Europe/Berlin:20250216T090000
DTEND;TZID=Europe/Berlin:20250216T110000
LOCATION:Městská sportovní hala Chodov\, Tyršova 1201 Chodov
SUMMARY:CP-U16Z-F2E: VK Madeta-Sokol F.- Místek
END:VEVENT
BEGIN:VEVENT
UID:36303330-3233-4038-a536-383333363737
DTSTAMP:20260421T144755Z
DESCRIPTION:7/18 VoCe - VK Madeta 1:2 (-21\,24\,-14)
DTSTART;TZID=Europe/Berlin:20250216T103000
DTEND;TZID=Europe/Berlin:20250216T123000
LOCATION:Městská sportovní hala Chodov\, Tyršova 1201 Chodov
SUMMARY:CP-U16Z-F2E: VoCe-VK Madeta
END:VEVENT
BEGIN:VEVENT
UID:32616661-3133-4165-b334-366439323037
DTSTAMP:20260421T144755Z
DESCRIPTION:7/19 BVC CHODOV - Sokol F.- Místek 0:2 (-18\,-20)
DTSTART;TZID=Europe/Berlin:20250216T103000
DTEND;TZID=Europe/Berlin:20250216T123000
LOCATION:Městská sportovní hala Chodov\, Tyršova 1201 Chodov
SUMMARY:CP-U16Z-F2E: BVC CHODOV-Sokol F.- Místek
END:VEVENT
BEGIN:VEVENT
UID:30323431-6339-4362-b132-613034313861
DTSTAMP:20260421T144755Z
DESCRIPTION:7/20 Volejbal Ústí n L. - SVK N. Jičín 0:2 (-19\,-15)
DTSTART;TZID=Europe/Berlin:20250216T103000
DTEND;TZID=Europe/Berlin:20250216T123000
LOCATION:Městská sportovní hala Chodov\, Tyršova 1201 Chodov
SUMMARY:CP-U16Z-F2E: Volejbal Ústí n L.-SVK N. Jičín
END:VEVENT
BEGIN:VEVENT
UID:37346335-3166-4330-b334-386632376436
DTSTAMP:20260421T144755Z
DESCRIPTION:8/21 VO TJ Lanškroun - VoCe 0:2 (-12\,-21)
DTSTART;TZID=Europe/Berlin:20250216T120000
DTEND;TZID=Europe/Berlin:20250216T140000
LOCATION:Městská sportovní hala Chodov\, Tyršova 1201 Chodov
SUMMARY:CP-U16Z-F2E: VO TJ Lanškroun-VoCe
END:VEVENT
BEGIN:VEVENT
UID:33666638-3965-4039-b938-336532613866
DTSTAMP:20260421T144755Z
DESCRIPTION:9/22 VO TJ Lanškroun - Bedřichov Jihlava 2:0 (0\,0)
DTSTART;TZID=Europe/Berlin:20250216T123000
DTEND;TZID=Europe/Berlin:20250216T143000
LOCATION:Městská sportovní hala Chodov\, Tyršova 1201 Chodov
SUMMARY:CP-U16Z-F2E: VO TJ Lanškroun-Bedřichov Jihlava
END:VEVENT
BEGIN:VEVENT
UID:30643533-3336-4231-b565-613765353138
DTSTAMP:20260421T144755Z
DESCRIPTION:9/23 Volejbal Ústí n L. - Bedřichov Jihlava 2:0 (0\,0)
DTSTART;TZID=Europe/Berlin:20250216T123000
DTEND;TZID=Europe/Berlin:20250216T143000
LOCATION:Městská sportovní hala Chodov\, Tyršova 1201 Chodov
SUMMARY:CP-U16Z-F2E: Volejbal Ústí n L.-Bedřichov Jihlava
END:VEVENT
BEGIN:VEVENT
UID:37323933-3738-4266-b936-393630653364
DTSTAMP:20260421T144755Z
DESCRIPTION:9/24 VoCe - Bedřichov Jihlava 2:0 (0\,0)
DTSTART;TZID=Europe/Berlin:20250216T123000
DTEND;TZID=Europe/Berlin:20250216T143000
LOCATION:Městská sportovní hala Chodov\, Tyršova 1201 Chodov
SUMMARY:CP-U16Z-F2E: VoCe-Bedřichov Jihlava
END:VEVENT
BEGIN:VEVENT
UID:32346564-6466-4336-a464-383638613635
DTSTAMP:20260421T144755Z
DESCRIPTION:9/25 BVC CHODOV - Bedřichov Jihlava 2:0 (0\,0)
DTSTART;TZID=Europe/Berlin:20250216T123000
DTEND;TZID=Europe/Berlin:20250216T143000
LOCATION:Městská sportovní hala Chodov\, Tyršova 1201 Chodov
SUMMARY:CP-U16Z-F2E: BVC CHODOV-Bedřichov Jihlava
END:VEVENT
BEGIN:VEVENT
UID:65333065-3861-4463-b033-303034366438
DTSTAMP:20260421T144755Z
DESCRIPTION:9/26 Sokol F.- Místek - Bedřichov Jihlava 2:0 (0\,0)
DTSTART;TZID=Europe/Berlin:20250216T123000
DTEND;TZID=Europe/Berlin:20250216T143000
LOCATION:Městská sportovní hala Chodov\, Tyršova 1201 Chodov
SUMMARY:CP-U16Z-F2E: Sokol F.- Místek-Bedřichov Jihlava
END:VEVENT
BEGIN:VEVENT
UID:35663235-3765-4535-b066-663666623138
DTSTAMP:20260421T144755Z
DESCRIPTION:9/27 VK Madeta - Bedřichov Jihlava 2:0 (0\,0)
DTSTART;TZID=Europe/Berlin:20250216T123000
DTEND;TZID=Europe/Berlin:20250216T143000
LOCATION:Městská sportovní hala Chodov\, Tyršova 1201 Chodov
SUMMARY:CP-U16Z-F2E: VK Madeta-Bedřichov Jihlava
END:VEVENT
BEGIN:VEVENT
UID:33346232-3935-4163-b736-643863306166
DTSTAMP:20260421T144755Z
DESCRIPTION:9/28 SVK N. Jičín - Bedřichov Jihlava 2:0 (0\,0)
DTSTART;TZID=Europe/Berlin:20250216T123000
DTEND;TZID=Europe/Berlin:20250216T143000
LOCATION:Městská sportovní hala Chodov\, Tyršova 1201 Chodov
SUMMARY:CP-U16Z-F2E: SVK N. Jičín-Bedřichov Jihlava
END:VEVENT
END:VCALENDAR
