BEGIN:VCALENDAR
VERSION:2.0
PRODID:-//CP-U16Z-F2G//NONSGML kigkonsult.se iCalcreator 2.41.80//
CALSCALE:GREGORIAN
UID:32393430-3530-4132-a564-313934376166
BEGIN:VEVENT
UID:63373131-3866-4530-a336-363837653063
DTSTAMP:20260421T144756Z
DESCRIPTION:1/1 Komárov - Nová Paka 2:1 (15\,-18\,5)
DTSTART;TZID=Europe/Berlin:20250215T090000
DTEND;TZID=Europe/Berlin:20250215T110000
LOCATION:Sokolovna Komárov\, Sokolská 230 Komárov
SUMMARY:CP-U16Z-F2G: Komárov-Nová Paka
END:VEVENT
BEGIN:VEVENT
UID:31363031-3133-4066-a464-613666396234
DTSTAMP:20260421T144756Z
DESCRIPTION:1/2 Sokolov A - Volejbal Vršovice 2:0 (19\,19)
DTSTART;TZID=Europe/Berlin:20250215T090000
DTEND;TZID=Europe/Berlin:20250215T110000
LOCATION:Jiskra\, Maxima Gorkého 280 Sokolov
SUMMARY:CP-U16Z-F2G: Sokolov A-Volejbal Vršovice
END:VEVENT
BEGIN:VEVENT
UID:33623063-3434-4463-b939-343039393966
DTSTAMP:20260421T144756Z
DESCRIPTION:1/3 Šanov Teplice - Španielka Řepy 0:2 (-13\,-19)
DTSTART;TZID=Europe/Berlin:20250215T090000
DTEND;TZID=Europe/Berlin:20250215T110000
LOCATION:Hotelová škola\, Smetanovo náměstí 786 Teplice - Trnovany
SUMMARY:CP-U16Z-F2G: Šanov Teplice-Španielka Řepy
END:VEVENT
BEGIN:VEVENT
UID:34636262-3737-4331-b634-666135363534
DTSTAMP:20260421T144756Z
DESCRIPTION:2/4 TJ Sokol Předklášteří - VSC Zlín 0:2 (-13\,-10)
DTSTART;TZID=Europe/Berlin:20250215T102000
DTEND;TZID=Europe/Berlin:20250215T122000
LOCATION:ZŠ Předklášteří\, Komenského 1097 Předklášteří
SUMMARY:CP-U16Z-F2G: TJ Sokol Předklášteří-VSC Zlín
END:VEVENT
BEGIN:VEVENT
UID:36363437-3233-4137-b531-303338366138
DTSTAMP:20260421T144756Z
DESCRIPTION:2/5 Španielka Řepy - Sokolov A 2:0 (21\,21)
DTSTART;TZID=Europe/Berlin:20250215T102000
DTEND;TZID=Europe/Berlin:20250215T122000
SUMMARY:CP-U16Z-F2G: Španielka Řepy-Sokolov A
END:VEVENT
BEGIN:VEVENT
UID:34643133-6231-4466-b234-616166313762
DTSTAMP:20260421T144756Z
DESCRIPTION:2/6 Nová Paka - Šanov Teplice 1:2 (15\,-10\,-11)
DTSTART;TZID=Europe/Berlin:20250215T102000
DTEND;TZID=Europe/Berlin:20250215T122000
LOCATION:ZŠ Husitská\, O. Číly 1933 Nová Paka
SUMMARY:CP-U16Z-F2G: Nová Paka-Šanov Teplice
END:VEVENT
BEGIN:VEVENT
UID:37333231-6330-4533-b230-336439613962
DTSTAMP:20260421T144756Z
DESCRIPTION:3/7 Nová Paka - Španielka Řepy 0:2 (-22\,-12)
DTSTART;TZID=Europe/Berlin:20250215T114000
DTEND;TZID=Europe/Berlin:20250215T134000
LOCATION:ZŠ Husitská\, O. Číly 1933 Nová Paka
SUMMARY:CP-U16Z-F2G: Nová Paka-Španielka Řepy
END:VEVENT
BEGIN:VEVENT
UID:37303039-3562-4139-b266-646635653763
DTSTAMP:20260421T144756Z
DESCRIPTION:3/8 VSC Zlín - Komárov 2:0 (8\,24)
DTSTART;TZID=Europe/Berlin:20250215T114000
DTEND;TZID=Europe/Berlin:20250215T134000
LOCATION:ZŠ Okružní Zlín\, Okružní 4685 Zlín
SUMMARY:CP-U16Z-F2G: VSC Zlín-Komárov
END:VEVENT
BEGIN:VEVENT
UID:61333637-3966-4166-a131-386637376264
DTSTAMP:20260421T144756Z
DESCRIPTION:3/9 Volejbal Vršovice - TJ Sokol Předklášteří 2:1 (-25\,20\,11)
DTSTART;TZID=Europe/Berlin:20250215T114000
DTEND;TZID=Europe/Berlin:20250215T134000
LOCATION:Sokolovna Vršovice\, Sportovní 111 Praha - Vršovice
SUMMARY:CP-U16Z-F2G: Volejbal Vršovice-TJ Sokol Předklášteří
END:VEVENT
BEGIN:VEVENT
UID:61613265-3933-4231-b838-613534613937
DTSTAMP:20260421T144756Z
DESCRIPTION:4/10 TJ Sokol Předklášteří - Sokolov A 0:2 (-15\,-8)
DTSTART;TZID=Europe/Berlin:20250215T140000
DTEND;TZID=Europe/Berlin:20250215T160000
LOCATION:ZŠ Předklášteří\, Komenského 1097 Předklášteří
SUMMARY:CP-U16Z-F2G: TJ Sokol Předklášteří-Sokolov A
END:VEVENT
BEGIN:VEVENT
UID:63643336-3266-4365-b939-643665646535
DTSTAMP:20260421T144756Z
DESCRIPTION:4/11 Šanov Teplice - VSC Zlín 0:2 (-20\,-11)
DTSTART;TZID=Europe/Berlin:20250215T140000
DTEND;TZID=Europe/Berlin:20250215T160000
LOCATION:Hotelová škola\, Smetanovo náměstí 786 Teplice - Trnovany
SUMMARY:CP-U16Z-F2G: Šanov Teplice-VSC Zlín
END:VEVENT
BEGIN:VEVENT
UID:65353831-3365-4430-a339-316336626337
DTSTAMP:20260421T144756Z
DESCRIPTION:4/12 Komárov - Volejbal Vršovice 1:2 (-12\,19\,-10)
DTSTART;TZID=Europe/Berlin:20250215T140000
DTEND;TZID=Europe/Berlin:20250215T160000
LOCATION:Sokolovna Komárov\, Sokolská 230 Komárov
SUMMARY:CP-U16Z-F2G: Komárov-Volejbal Vršovice
END:VEVENT
BEGIN:VEVENT
UID:30346565-3066-4630-b338-323831353334
DTSTAMP:20260421T144756Z
DESCRIPTION:5/13 Španielka Řepy - TJ Sokol Předklášteří 2:0 (15\,22)
DTSTART;TZID=Europe/Berlin:20250215T152000
DTEND;TZID=Europe/Berlin:20250215T172000
SUMMARY:CP-U16Z-F2G: Španielka Řepy-TJ Sokol Předklášteří
END:VEVENT
BEGIN:VEVENT
UID:62376638-3263-4331-a336-336531383537
DTSTAMP:20260421T144756Z
DESCRIPTION:5/14 VSC Zlín - Nová Paka 2:1 (-17\,10\,11)
DTSTART;TZID=Europe/Berlin:20250215T152000
DTEND;TZID=Europe/Berlin:20250215T172000
LOCATION:ZŠ Okružní Zlín\, Okružní 4685 Zlín
SUMMARY:CP-U16Z-F2G: VSC Zlín-Nová Paka
END:VEVENT
BEGIN:VEVENT
UID:37613730-3037-4435-b761-656662316234
DTSTAMP:20260421T144756Z
DESCRIPTION:5/15 Sokolov A - Komárov 2:0 (18\,15)
DTSTART;TZID=Europe/Berlin:20250215T152000
DTEND;TZID=Europe/Berlin:20250215T172000
LOCATION:Jiskra\, Maxima Gorkého 280 Sokolov
SUMMARY:CP-U16Z-F2G: Sokolov A-Komárov
END:VEVENT
BEGIN:VEVENT
UID:34663437-3633-4534-b566-383663303664
DTSTAMP:20260421T144756Z
DESCRIPTION:6/16 Komárov - TJ Sokol Předklášteří 1:2 (25\,-26\,-11)
DTSTART;TZID=Europe/Berlin:20250215T164000
DTEND;TZID=Europe/Berlin:20250215T184000
LOCATION:Sokolovna Komárov\, Sokolská 230 Komárov
SUMMARY:CP-U16Z-F2G: Komárov-TJ Sokol Předklášteří
END:VEVENT
BEGIN:VEVENT
UID:32613663-6432-4863-b735-643966386461
DTSTAMP:20260421T144756Z
DESCRIPTION:6/17 VSC Zlín - Španielka Řepy 1:2 (25\,-24\,-9)
DTSTART;TZID=Europe/Berlin:20250215T164000
DTEND;TZID=Europe/Berlin:20250215T184000
LOCATION:ZŠ Okružní Zlín\, Okružní 4685 Zlín
SUMMARY:CP-U16Z-F2G: VSC Zlín-Španielka Řepy
END:VEVENT
BEGIN:VEVENT
UID:32356438-3031-4465-b163-366131643462
DTSTAMP:20260421T144756Z
DESCRIPTION:6/18 Volejbal Vršovice - Šanov Teplice 1:2 (21\,-22\,-6)
DTSTART;TZID=Europe/Berlin:20250215T164000
DTEND;TZID=Europe/Berlin:20250215T184000
LOCATION:Sokolovna Vršovice\, Sportovní 111 Praha - Vršovice
SUMMARY:CP-U16Z-F2G: Volejbal Vršovice-Šanov Teplice
END:VEVENT
BEGIN:VEVENT
UID:37616561-3532-4263-b638-626631366634
DTSTAMP:20260421T144756Z
DESCRIPTION:7/19 Nová Paka - Volejbal Vršovice 0:2 (-8\,-13)
DTSTART;TZID=Europe/Berlin:20250216T083000
DTEND;TZID=Europe/Berlin:20250216T103000
LOCATION:ZŠ Husitská\, O. Číly 1933 Nová Paka
SUMMARY:CP-U16Z-F2G: Nová Paka-Volejbal Vršovice
END:VEVENT
BEGIN:VEVENT
UID:30316532-6534-4365-b165-613266396339
DTSTAMP:20260421T144756Z
DESCRIPTION:7/20 Šanov Teplice - Sokolov A 0:2 (-15\,-16)
DTSTART;TZID=Europe/Berlin:20250216T083000
DTEND;TZID=Europe/Berlin:20250216T103000
LOCATION:Hotelová škola\, Smetanovo náměstí 786 Teplice - Trnovany
SUMMARY:CP-U16Z-F2G: Šanov Teplice-Sokolov A
END:VEVENT
BEGIN:VEVENT
UID:30383932-6439-4937-b437-336432666365
DTSTAMP:20260421T144756Z
DESCRIPTION:7/21 Španielka Řepy - Komárov 2:1 (-20\,9\,10)
DTSTART;TZID=Europe/Berlin:20250216T083000
DTEND;TZID=Europe/Berlin:20250216T103000
SUMMARY:CP-U16Z-F2G: Španielka Řepy-Komárov
END:VEVENT
BEGIN:VEVENT
UID:63343339-3832-4964-b236-386563346263
DTSTAMP:20260421T144756Z
DESCRIPTION:8/22 Volejbal Vršovice - VSC Zlín 2:0 (13\,19)
DTSTART;TZID=Europe/Berlin:20250216T095000
DTEND;TZID=Europe/Berlin:20250216T115000
LOCATION:Sokolovna Vršovice\, Sportovní 111 Praha - Vršovice
SUMMARY:CP-U16Z-F2G: Volejbal Vršovice-VSC Zlín
END:VEVENT
BEGIN:VEVENT
UID:35316439-6663-4231-a663-333965373061
DTSTAMP:20260421T144756Z
DESCRIPTION:8/23 TJ Sokol Předklášteří - Šanov Teplice 1:2 (-18\,24\,-11)
DTSTART;TZID=Europe/Berlin:20250216T095000
DTEND;TZID=Europe/Berlin:20250216T115000
LOCATION:ZŠ Předklášteří\, Komenského 1097 Předklášteří
SUMMARY:CP-U16Z-F2G: TJ Sokol Předklášteří-Šanov Teplice
END:VEVENT
BEGIN:VEVENT
UID:63666361-3035-4634-a535-363261646439
DTSTAMP:20260421T144756Z
DESCRIPTION:8/24 Sokolov A - Nová Paka 2:0 (22\,14)
DTSTART;TZID=Europe/Berlin:20250216T095000
DTEND;TZID=Europe/Berlin:20250216T115000
LOCATION:Jiskra\, Maxima Gorkého 280 Sokolov
SUMMARY:CP-U16Z-F2G: Sokolov A-Nová Paka
END:VEVENT
BEGIN:VEVENT
UID:32393034-3031-4666-b932-303331613861
DTSTAMP:20260421T144756Z
DESCRIPTION:9/25 Nová Paka - TJ Sokol Předklášteří 2:0 (18\,20)
DTSTART;TZID=Europe/Berlin:20250216T111000
DTEND;TZID=Europe/Berlin:20250216T131000
LOCATION:ZŠ Husitská\, O. Číly 1933 Nová Paka
SUMMARY:CP-U16Z-F2G: Nová Paka-TJ Sokol Předklášteří
END:VEVENT
BEGIN:VEVENT
UID:33353439-6230-4230-a261-393961666531
DTSTAMP:20260421T144756Z
DESCRIPTION:9/26 Šanov Teplice - Komárov 0:2 (-12\,-21)
DTSTART;TZID=Europe/Berlin:20250216T111000
DTEND;TZID=Europe/Berlin:20250216T131000
LOCATION:Hotelová škola\, Smetanovo náměstí 786 Teplice - Trnovany
SUMMARY:CP-U16Z-F2G: Šanov Teplice-Komárov
END:VEVENT
BEGIN:VEVENT
UID:62313739-6135-4033-b566-373361636130
DTSTAMP:20260421T144756Z
DESCRIPTION:9/27 VSC Zlín - Sokolov A 1:2 (31\,-22\,-13)
DTSTART;TZID=Europe/Berlin:20250216T111000
DTEND;TZID=Europe/Berlin:20250216T131000
LOCATION:ZŠ Okružní Zlín\, Okružní 4685 Zlín
SUMMARY:CP-U16Z-F2G: VSC Zlín-Sokolov A
END:VEVENT
BEGIN:VEVENT
UID:30313663-3730-4539-a639-343339653865
DTSTAMP:20260421T144756Z
DESCRIPTION:10/28 Volejbal Vršovice - Španielka Řepy 2:1 (23\,-18\,8)
DTSTART;TZID=Europe/Berlin:20250216T123000
DTEND;TZID=Europe/Berlin:20250216T143000
LOCATION:Sokolovna Vršovice\, Sportovní 111 Praha - Vršovice
SUMMARY:CP-U16Z-F2G: Volejbal Vršovice-Španielka Řepy
END:VEVENT
END:VCALENDAR
