BEGIN:VCALENDAR
VERSION:2.0
PRODID:-//CP-U16Z-F2K//NONSGML kigkonsult.se iCalcreator 2.41.80//
CALSCALE:GREGORIAN
UID:39323730-3463-4634-b434-396565313536
BEGIN:VEVENT
UID:64346663-6335-4635-b232-663062336332
DTSTAMP:20260421T144755Z
DESCRIPTION:1/1 TJ Sokol Mnichovo Hradiště - Junior Brno 2:1 (22\,-18\,10)
DTSTART;TZID=Europe/Berlin:20250215T090000
DTEND;TZID=Europe/Berlin:20250215T110000
LOCATION:Sportovní hala BIOS\, Sokolovská 254 Mnichovo Hradiště
SUMMARY:CP-U16Z-F2K: TJ Sokol Mnichovo Hradiště-Junior Brno
END:VEVENT
BEGIN:VEVENT
UID:37623137-6537-4235-b734-306465363934
DTSTAMP:20260421T144755Z
DESCRIPTION:1/2 TJ SLAVIA Liberec - Napajedla 2:0 (26\,18)
DTSTART;TZID=Europe/Berlin:20250215T090000
DTEND;TZID=Europe/Berlin:20250215T110000
LOCATION:Základní škola\, Liberec\, Sokolovská \, Sokolovská 328 Liberec - 
 Liberec XIII-Nové Pavlovice
SUMMARY:CP-U16Z-F2K: TJ SLAVIA Liberec-Napajedla
END:VEVENT
BEGIN:VEVENT
UID:33666134-3036-4461-a462-353437666566
DTSTAMP:20260421T144755Z
DESCRIPTION:2/3 TJ Sokol Mnichovo Hradiště - Kunice 2:0 (20\,18)
DTSTART;TZID=Europe/Berlin:20250215T101500
DTEND;TZID=Europe/Berlin:20250215T121500
LOCATION:Sportovní hala BIOS\, Sokolovská 254 Mnichovo Hradiště
SUMMARY:CP-U16Z-F2K: TJ Sokol Mnichovo Hradiště-Kunice
END:VEVENT
BEGIN:VEVENT
UID:64616633-3636-4562-b438-306132633639
DTSTAMP:20260421T144755Z
DESCRIPTION:2/4 Sokol Pardubice I. B - TJ SLAVIA Liberec 2:1 (-14\,14\,12)
DTSTART;TZID=Europe/Berlin:20250215T101500
DTEND;TZID=Europe/Berlin:20250215T121500
LOCATION:Sportovní hala\, Masarykovo nám. 108 Lázně Bohdaneč
SUMMARY:CP-U16Z-F2K: Sokol Pardubice I. B-TJ SLAVIA Liberec
END:VEVENT
BEGIN:VEVENT
UID:66313731-6231-4436-b337-653737663238
DTSTAMP:20260421T144755Z
DESCRIPTION:3/5 Junior Brno - Sokol Pardubice I. B 1:2 (18\,-23\,-15)
DTSTART;TZID=Europe/Berlin:20250215T113000
DTEND;TZID=Europe/Berlin:20250215T133000
LOCATION:tělocvičny ZŠ Novolíšeňská\, Brno\, Novolíšeňská 2411 Brno - Líšeň
SUMMARY:CP-U16Z-F2K: Junior Brno-Sokol Pardubice I. B
END:VEVENT
BEGIN:VEVENT
UID:37373035-6539-4039-b066-656338666637
DTSTAMP:20260421T144755Z
DESCRIPTION:3/6 Kunice - Napajedla 2:0 (15\,19)
DTSTART;TZID=Europe/Berlin:20250215T113000
DTEND;TZID=Europe/Berlin:20250215T133000
LOCATION:ZŠ Kunice\, Na Návsi 60 Kunice
SUMMARY:CP-U16Z-F2K: Kunice-Napajedla
END:VEVENT
BEGIN:VEVENT
UID:33353365-3261-4264-b035-623861646436
DTSTAMP:20260421T144755Z
DESCRIPTION:4/7 TJ SLAVIA Liberec - Junior Brno 1:2 (-24\,23\,-9)
DTSTART;TZID=Europe/Berlin:20250215T124500
DTEND;TZID=Europe/Berlin:20250215T144500
LOCATION:Základní škola\, Liberec\, Sokolovská \, Sokolovská 328 Liberec - 
 Liberec XIII-Nové Pavlovice
SUMMARY:CP-U16Z-F2K: TJ SLAVIA Liberec-Junior Brno
END:VEVENT
BEGIN:VEVENT
UID:38663037-3936-4632-a361-393735646466
DTSTAMP:20260421T144755Z
DESCRIPTION:4/8 Napajedla - TJ Sokol Mnichovo Hradiště 2:1 (18\,-18\,8)
DTSTART;TZID=Europe/Berlin:20250215T124500
DTEND;TZID=Europe/Berlin:20250215T144500
LOCATION:2.ZŠ Napajedla\, Komenského 298 Napajedla
SUMMARY:CP-U16Z-F2K: Napajedla-TJ Sokol Mnichovo Hradiště
END:VEVENT
BEGIN:VEVENT
UID:34613833-3239-4261-a332-363936663865
DTSTAMP:20260421T144755Z
DESCRIPTION:5/9 TJ Sokol Mnichovo Hradiště - Sokol Pardubice I. B 2:1 (11\,
 -18\,12)
DTSTART;TZID=Europe/Berlin:20250215T140000
DTEND;TZID=Europe/Berlin:20250215T160000
LOCATION:Sportovní hala BIOS\, Sokolovská 254 Mnichovo Hradiště
SUMMARY:CP-U16Z-F2K: TJ Sokol Mnichovo Hradiště-Sokol Pardubice I. B
END:VEVENT
BEGIN:VEVENT
UID:34633864-3236-4736-b066-363033313866
DTSTAMP:20260421T144755Z
DESCRIPTION:5/10 Kunice - TJ SLAVIA Liberec 0:2 (-22\,-20)
DTSTART;TZID=Europe/Berlin:20250215T140000
DTEND;TZID=Europe/Berlin:20250215T160000
LOCATION:ZŠ Kunice\, Na Návsi 60 Kunice
SUMMARY:CP-U16Z-F2K: Kunice-TJ SLAVIA Liberec
END:VEVENT
BEGIN:VEVENT
UID:33333662-6235-4938-b536-383364313462
DTSTAMP:20260421T144755Z
DESCRIPTION:6/11 Kunice - Junior Brno 2:1 (-23\,16\,14)
DTSTART;TZID=Europe/Berlin:20250215T151500
DTEND;TZID=Europe/Berlin:20250215T171500
LOCATION:ZŠ Kunice\, Na Návsi 60 Kunice
SUMMARY:CP-U16Z-F2K: Kunice-Junior Brno
END:VEVENT
BEGIN:VEVENT
UID:34613338-3766-4635-a537-653964326666
DTSTAMP:20260421T144755Z
DESCRIPTION:6/12 Sokol Pardubice I. B - Napajedla 1:2 (-19\,9\,-7)
DTSTART;TZID=Europe/Berlin:20250215T151500
DTEND;TZID=Europe/Berlin:20250215T171500
LOCATION:Sportovní hala\, Masarykovo nám. 108 Lázně Bohdaneč
SUMMARY:CP-U16Z-F2K: Sokol Pardubice I. B-Napajedla
END:VEVENT
BEGIN:VEVENT
UID:64646137-6634-4638-a532-376433376665
DTSTAMP:20260421T144755Z
DESCRIPTION:7/13 Napajedla - Junior Brno 0:2 (-19\,-13)
DTSTART;TZID=Europe/Berlin:20250216T090000
DTEND;TZID=Europe/Berlin:20250216T110000
LOCATION:2.ZŠ Napajedla\, Komenského 298 Napajedla
SUMMARY:CP-U16Z-F2K: Napajedla-Junior Brno
END:VEVENT
BEGIN:VEVENT
UID:32353632-3063-4333-b762-663663656431
DTSTAMP:20260421T144755Z
DESCRIPTION:7/14 Kunice - Sokol Pardubice I. B 2:0 (25\,23)
DTSTART;TZID=Europe/Berlin:20250216T090000
DTEND;TZID=Europe/Berlin:20250216T110000
LOCATION:ZŠ Kunice\, Na Návsi 60 Kunice
SUMMARY:CP-U16Z-F2K: Kunice-Sokol Pardubice I. B
END:VEVENT
BEGIN:VEVENT
UID:65613365-6632-4338-a465-326665303561
DTSTAMP:20260421T144755Z
DESCRIPTION:8/15 TJ SLAVIA Liberec - TJ Sokol Mnichovo Hradiště 2:1 (-21\,1
 9\,6)
DTSTART;TZID=Europe/Berlin:20250216T101500
DTEND;TZID=Europe/Berlin:20250216T121500
LOCATION:Základní škola\, Liberec\, Sokolovská \, Sokolovská 328 Liberec - 
 Liberec XIII-Nové Pavlovice
SUMMARY:CP-U16Z-F2K: TJ SLAVIA Liberec-TJ Sokol Mnichovo Hradiště
END:VEVENT
BEGIN:VEVENT
UID:34646264-3735-4735-b866-653462323334
DTSTAMP:20260421T144755Z
DESCRIPTION:9/16 Sokol Pardubice I. B - TJ Lokomotiva Česká Lípa\, z.s. 2:0
  (0\,0)
DTSTART;TZID=Europe/Berlin:20250216T110000
DTEND;TZID=Europe/Berlin:20250216T130000
LOCATION:Sportovní hala\, Masarykovo nám. 108 Lázně Bohdaneč
SUMMARY:CP-U16Z-F2K: Sokol Pardubice I. B-TJ Lokomotiva Česká Lípa\, z.s.
END:VEVENT
BEGIN:VEVENT
UID:64333032-3563-4962-b061-326166353232
DTSTAMP:20260421T144755Z
DESCRIPTION:9/17 TJ Sokol Mnichovo Hradiště - TJ Lokomotiva Česká Lípa\, z.
 s. 2:0 (0\,0)
DTSTART;TZID=Europe/Berlin:20250216T110000
DTEND;TZID=Europe/Berlin:20250216T130000
LOCATION:Sportovní hala BIOS\, Sokolovská 254 Mnichovo Hradiště
SUMMARY:CP-U16Z-F2K: TJ Sokol Mnichovo Hradiště-TJ Lokomotiva Česká Lípa\, 
 z.s.
END:VEVENT
BEGIN:VEVENT
UID:64376635-3663-4136-a166-343838663030
DTSTAMP:20260421T144755Z
DESCRIPTION:9/18 Junior Brno - TJ Lokomotiva Česká Lípa\, z.s. 2:0 (0\,0)
DTSTART;TZID=Europe/Berlin:20250216T110000
DTEND;TZID=Europe/Berlin:20250216T130000
LOCATION:tělocvičny ZŠ Novolíšeňská\, Brno\, Novolíšeňská 2411 Brno - Líšeň
SUMMARY:CP-U16Z-F2K: Junior Brno-TJ Lokomotiva Česká Lípa\, z.s.
END:VEVENT
BEGIN:VEVENT
UID:35353736-3534-4230-a331-363965313064
DTSTAMP:20260421T144755Z
DESCRIPTION:9/19 Kunice - TJ Lokomotiva Česká Lípa\, z.s. 2:0 (0\,0)
DTSTART;TZID=Europe/Berlin:20250216T110000
DTEND;TZID=Europe/Berlin:20250216T130000
LOCATION:ZŠ Kunice\, Na Návsi 60 Kunice
SUMMARY:CP-U16Z-F2K: Kunice-TJ Lokomotiva Česká Lípa\, z.s.
END:VEVENT
BEGIN:VEVENT
UID:38383638-6432-4564-b363-643663376435
DTSTAMP:20260421T144755Z
DESCRIPTION:9/20 TJ SLAVIA Liberec - TJ Lokomotiva Česká Lípa\, z.s. 2:0 (0
 \,0)
DTSTART;TZID=Europe/Berlin:20250216T110000
DTEND;TZID=Europe/Berlin:20250216T130000
LOCATION:Základní škola\, Liberec\, Sokolovská \, Sokolovská 328 Liberec - 
 Liberec XIII-Nové Pavlovice
SUMMARY:CP-U16Z-F2K: TJ SLAVIA Liberec-TJ Lokomotiva Česká Lípa\, z.s.
END:VEVENT
BEGIN:VEVENT
UID:32326163-3138-4261-a138-636136663332
DTSTAMP:20260421T144755Z
DESCRIPTION:9/21 Napajedla - TJ Lokomotiva Česká Lípa\, z.s. 2:0 (0\,0)
DTSTART;TZID=Europe/Berlin:20250216T110000
DTEND;TZID=Europe/Berlin:20250216T130000
LOCATION:2.ZŠ Napajedla\, Komenského 298 Napajedla
SUMMARY:CP-U16Z-F2K: Napajedla-TJ Lokomotiva Česká Lípa\, z.s.
END:VEVENT
END:VCALENDAR
