BEGIN:VCALENDAR
VERSION:2.0
PRODID:-//EX-U18M-5C//NONSGML kigkonsult.se iCalcreator 2.41.80//
CALSCALE:GREGORIAN
UID:62303838-3636-4533-a637-316334376239
BEGIN:VEVENT
UID:33353661-3636-4265-b261-613266636336
DTSTAMP:20260424T085934Z
DESCRIPTION:5/1 Zlín - Liberec 3:1 (23\,23\,-24\,25)
DTSTART;TZID=Europe/Berlin:20250301T100000
DTEND;TZID=Europe/Berlin:20250301T120000
LOCATION:Sportovní hala Datart Zlín\, U Zimního stadionu 4286 Zlín
SUMMARY:EX-U18M-5C: Zlín-Liberec
END:VEVENT
BEGIN:VEVENT
UID:37653938-6366-4532-b462-653161386238
DTSTAMP:20260424T085934Z
DESCRIPTION:5/2 Jirkov - Klatovy 0:3 (-16\,-20\,-20)
DTSTART;TZID=Europe/Berlin:20250301T120000
DTEND;TZID=Europe/Berlin:20250301T140000
LOCATION:Sportovní hala Datart Zlín\, U Zimního stadionu 4286 Zlín
SUMMARY:EX-U18M-5C: Jirkov-Klatovy
END:VEVENT
BEGIN:VEVENT
UID:36376130-3535-4537-b563-643739623638
DTSTAMP:20260424T085934Z
DESCRIPTION:5/3 Karlovarsko - Liberec 2:3 (-23\,27\,-19\,19\,-18)
DTSTART;TZID=Europe/Berlin:20250301T140000
DTEND;TZID=Europe/Berlin:20250301T160000
LOCATION:Sportovní hala Datart Zlín\, U Zimního stadionu 4286 Zlín
SUMMARY:EX-U18M-5C: Karlovarsko-Liberec
END:VEVENT
BEGIN:VEVENT
UID:36663039-3632-4633-b538-623033363563
DTSTAMP:20260424T085934Z
DESCRIPTION:5/4 Zlín - Jirkov 3:2 (-22\,22\,21\,-19\,7)
DTSTART;TZID=Europe/Berlin:20250301T160000
DTEND;TZID=Europe/Berlin:20250301T180000
LOCATION:Sportovní hala Datart Zlín\, U Zimního stadionu 4286 Zlín
SUMMARY:EX-U18M-5C: Zlín-Jirkov
END:VEVENT
BEGIN:VEVENT
UID:66623163-3132-4430-a333-366435663663
DTSTAMP:20260424T085934Z
DESCRIPTION:5/5 Karlovarsko - Klatovy 3:1 (-24\,16\,18\,20)
DTSTART;TZID=Europe/Berlin:20250301T180000
DTEND;TZID=Europe/Berlin:20250301T200000
LOCATION:Sportovní hala Datart Zlín\, U Zimního stadionu 4286 Zlín
SUMMARY:EX-U18M-5C: Karlovarsko-Klatovy
END:VEVENT
BEGIN:VEVENT
UID:35333130-3136-4063-b338-333462383862
DTSTAMP:20260424T085934Z
DESCRIPTION:5/6 Liberec - Jirkov 3:2 (22\,-19\,-19\,22\,11)
DTSTART;TZID=Europe/Berlin:20250302T090000
DTEND;TZID=Europe/Berlin:20250302T110000
LOCATION:Sportovní hala Datart Zlín\, U Zimního stadionu 4286 Zlín
SUMMARY:EX-U18M-5C: Liberec-Jirkov
END:VEVENT
BEGIN:VEVENT
UID:35626535-3038-4162-a534-316233633237
DTSTAMP:20260424T085934Z
DESCRIPTION:5/7 Zlín - Karlovarsko 2:3 (-21\,26\,-21\,19\,-11)
DTSTART;TZID=Europe/Berlin:20250302T110000
DTEND;TZID=Europe/Berlin:20250302T130000
LOCATION:Sportovní hala Datart Zlín\, U Zimního stadionu 4286 Zlín
SUMMARY:EX-U18M-5C: Zlín-Karlovarsko
END:VEVENT
BEGIN:VEVENT
UID:30363061-3863-4433-b030-383962343263
DTSTAMP:20260424T085934Z
DESCRIPTION:5/8 Klatovy - Liberec 0:3 (-13\,-23\,-13)
DTSTART;TZID=Europe/Berlin:20250302T130000
DTEND;TZID=Europe/Berlin:20250302T150000
LOCATION:Sportovní hala Datart Zlín\, U Zimního stadionu 4286 Zlín
SUMMARY:EX-U18M-5C: Klatovy-Liberec
END:VEVENT
BEGIN:VEVENT
UID:30376535-6538-4238-b966-616666303331
DTSTAMP:20260424T085934Z
DESCRIPTION:5/9 Jirkov - Karlovarsko 0:3 (-21\,-22\,-14)
DTSTART;TZID=Europe/Berlin:20250302T150000
DTEND;TZID=Europe/Berlin:20250302T170000
LOCATION:Sportovní hala Datart Zlín\, U Zimního stadionu 4286 Zlín
SUMMARY:EX-U18M-5C: Jirkov-Karlovarsko
END:VEVENT
BEGIN:VEVENT
UID:30353063-3139-4961-a164-383863623463
DTSTAMP:20260424T085934Z
DESCRIPTION:5/10 Klatovy - Zlín 0:3 (-18\,-16\,-16)
DTSTART;TZID=Europe/Berlin:20250302T170000
DTEND;TZID=Europe/Berlin:20250302T190000
LOCATION:Sportovní hala Datart Zlín\, U Zimního stadionu 4286 Zlín
SUMMARY:EX-U18M-5C: Klatovy-Zlín
END:VEVENT
END:VCALENDAR
