BEGIN:VCALENDAR
VERSION:2.0
PRODID:-//MS-U18Z-2C//NONSGML kigkonsult.se iCalcreator 2.41.80//
CALSCALE:GREGORIAN
UID:35653932-6430-4531-b139-366532303765
BEGIN:VEVENT
UID:37383831-3665-4765-b738-383733356634
DTSTAMP:20260421T210135Z
DESCRIPTION:1/1 VS Ostrava - SK Slezan Orlová B 1:3 (-22\,21\,-22\,-21)
DTSTART;TZID=Europe/Berlin:20250301T100000
DTEND;TZID=Europe/Berlin:20250301T120000
LOCATION:SPŠ Stavební Ostrava\, Středoškolská 2992 Ostrava - Zábřeh
SUMMARY:MS-U18Z-2C: VS Ostrava-SK Slezan Orlová B
END:VEVENT
BEGIN:VEVENT
UID:35313036-6164-4338-a465-303333383239
DTSTAMP:20260421T210135Z
DESCRIPTION:2/2 VS Ostrava - SK Slezan Orlová B 1:3 (-24\,-16\,21\,-17)
DTSTART;TZID=Europe/Berlin:20250301T140000
DTEND;TZID=Europe/Berlin:20250301T160000
LOCATION:SPŠ Stavební Ostrava\, Středoškolská 2992 Ostrava - Zábřeh
SUMMARY:MS-U18Z-2C: VS Ostrava-SK Slezan Orlová B
END:VEVENT
BEGIN:VEVENT
UID:39363837-6336-4665-a233-333662376236
DTSTAMP:20260421T210135Z
DESCRIPTION:3/3 SK Slezan Orlová B - VS Ostrava 0:3 (-13\,-18\,-23)
DTSTART;TZID=Europe/Berlin:20250322T100000
DTEND;TZID=Europe/Berlin:20250322T120000
LOCATION:tělocvična ZŠ K.Dvořáčka\, Karla Dvořáčka 1230 Orlová - Lutyně
SUMMARY:MS-U18Z-2C: SK Slezan Orlová B-VS Ostrava
END:VEVENT
BEGIN:VEVENT
UID:32356434-6533-4836-b365-633233393931
DTSTAMP:20260421T210135Z
DESCRIPTION:4/4 SK Slezan Orlová B - VS Ostrava 3:1 (24\,6\,-18\,18)
DTSTART;TZID=Europe/Berlin:20250322T140000
DTEND;TZID=Europe/Berlin:20250322T160000
LOCATION:tělocvična ZŠ K.Dvořáčka\, Karla Dvořáčka 1230 Orlová - Lutyně
SUMMARY:MS-U18Z-2C: SK Slezan Orlová B-VS Ostrava
END:VEVENT
END:VCALENDAR
