BEGIN:VCALENDAR
VERSION:2.0
PRODID:-//CP-U16M-6D//NONSGML kigkonsult.se iCalcreator 2.41.80//
CALSCALE:GREGORIAN
UID:37653132-6433-4235-b731-386666383234
BEGIN:VEVENT
UID:63613638-3237-4332-a363-313137373263
DTSTAMP:20260424T165346Z
DESCRIPTION:1/1 VK Rousínov - Kojetín 2:0 (21\,21)
DTSTART;TZID=Europe/Berlin:20250307T145000
DTEND;TZID=Europe/Berlin:20250307T165000
SUMMARY:CP-U16M-6D: VK Rousínov-Kojetín
END:VEVENT
BEGIN:VEVENT
UID:33363331-3535-4533-b663-633730666661
DTSTAMP:20260424T165346Z
DESCRIPTION:2/2 VSC Zlín - Volejbalový klub Ostrava\, z.s. 2:1 (20\,-17\,7)
DTSTART;TZID=Europe/Berlin:20250307T160000
DTEND;TZID=Europe/Berlin:20250307T180000
LOCATION:ZŠ Okružní Zlín\, Okružní 4685 Zlín
SUMMARY:CP-U16M-6D: VSC Zlín-Volejbalový klub Ostrava\, z.s.
END:VEVENT
BEGIN:VEVENT
UID:39626464-3861-4863-a436-643662656234
DTSTAMP:20260424T165346Z
DESCRIPTION:3/3 Volejbalový klub Ostrava\, z.s. - Kojetín 2:1 (-22\,16\,7)
DTSTART;TZID=Europe/Berlin:20250308T093000
DTEND;TZID=Europe/Berlin:20250308T113000
LOCATION:Hala Střední zdravotní školy\, 1. máje 2208 Ostrava - Mariánské Ho
 ry
SUMMARY:CP-U16M-6D: Volejbalový klub Ostrava\, z.s.-Kojetín
END:VEVENT
BEGIN:VEVENT
UID:38303238-3436-4364-b933-353864626163
DTSTAMP:20260424T165346Z
DESCRIPTION:4/4 VSC Zlín - VK Rousínov 0:2 (-23\,-17)
DTSTART;TZID=Europe/Berlin:20250308T104500
DTEND;TZID=Europe/Berlin:20250308T124500
LOCATION:ZŠ Okružní Zlín\, Okružní 4685 Zlín
SUMMARY:CP-U16M-6D: VSC Zlín-VK Rousínov
END:VEVENT
BEGIN:VEVENT
UID:30386530-6230-4963-b138-663536633965
DTSTAMP:20260424T165346Z
DESCRIPTION:5/5 VSC Zlín - Kojetín 2:0 (21\,17)
DTSTART;TZID=Europe/Berlin:20250308T120000
DTEND;TZID=Europe/Berlin:20250308T140000
LOCATION:ZŠ Okružní Zlín\, Okružní 4685 Zlín
SUMMARY:CP-U16M-6D: VSC Zlín-Kojetín
END:VEVENT
BEGIN:VEVENT
UID:31346563-3830-4937-a561-323834393965
DTSTAMP:20260424T165346Z
DESCRIPTION:6/6 VK Rousínov - Volejbalový klub Ostrava\, z.s. 2:0 (15\,16)
DTSTART;TZID=Europe/Berlin:20250308T131500
DTEND;TZID=Europe/Berlin:20250308T151500
SUMMARY:CP-U16M-6D: VK Rousínov-Volejbalový klub Ostrava\, z.s.
END:VEVENT
END:VCALENDAR
