BEGIN:VCALENDAR
VERSION:2.0
PRODID:-//CP-U16M-G//NONSGML kigkonsult.se iCalcreator 2.41.80//
CALSCALE:GREGORIAN
UID:38623433-6135-4938-b230-356431313034
BEGIN:VEVENT
UID:66333866-6232-4435-b331-646665336136
DTSTAMP:20260424T233454Z
DESCRIPTION:1/1 Vlci Nový Jičín - SKV Ústí n.L. 2:1 (22\,-22\,15)
DTSTART;TZID=Europe/Berlin:20250308T100000
DTEND;TZID=Europe/Berlin:20250308T120000
LOCATION:Hala ABC\, Purkyňova 116 Nový Jičín
SUMMARY:CP-U16M-G: Vlci Nový Jičín-SKV Ústí n.L.
END:VEVENT
BEGIN:VEVENT
UID:33343132-6361-4335-a134-636534396364
DTSTAMP:20260424T233454Z
DESCRIPTION:1/2 Volejbal Sokolov\, z.s. - Red Frýdlant n/O 1:2 (-17\,19\,-1
 0)
DTSTART;TZID=Europe/Berlin:20250308T100000
DTEND;TZID=Europe/Berlin:20250308T120000
LOCATION:Jiskra\, Maxima Gorkého 280 Sokolov
SUMMARY:CP-U16M-G: Volejbal Sokolov\, z.s.-Red Frýdlant n/O
END:VEVENT
BEGIN:VEVENT
UID:62333136-3362-4231-b362-303731393966
DTSTAMP:20260424T233454Z
DESCRIPTION:2/3 Vlci Nový Jičín - Volejbal Sokolov\, z.s. 2:0 (23\,16)
DTSTART;TZID=Europe/Berlin:20250308T111500
DTEND;TZID=Europe/Berlin:20250308T131500
LOCATION:Hala ABC\, Purkyňova 116 Nový Jičín
SUMMARY:CP-U16M-G: Vlci Nový Jičín-Volejbal Sokolov\, z.s.
END:VEVENT
BEGIN:VEVENT
UID:31376563-6364-4565-a539-333732663630
DTSTAMP:20260424T233454Z
DESCRIPTION:2/4 Red Frýdlant n/O - Tělovýchovná jednota Jiskra Havlíčkův Br
 od z.s. 2:1 (8\,-27\,5)
DTSTART;TZID=Europe/Berlin:20250308T111500
DTEND;TZID=Europe/Berlin:20250308T131500
LOCATION:Komenského\, Komenského 420 Frýdlant nad Ostravicí - Frýdlant
SUMMARY:CP-U16M-G: Red Frýdlant n/O-Tělovýchovná jednota Jiskra Havlíčkův B
 rod z.s.
END:VEVENT
BEGIN:VEVENT
UID:38633035-6538-4165-a237-376431373165
DTSTAMP:20260424T233454Z
DESCRIPTION:3/5 VK Dukla Liberec A - VSK Český Krumlov 1:2 (23\,-20\,-13)
DTSTART;TZID=Europe/Berlin:20250308T123000
DTEND;TZID=Europe/Berlin:20250308T143000
LOCATION:Dukla Liberec\, Jeronýmova 558 Liberec - Liberec VII-Horní Růžodol
SUMMARY:CP-U16M-G: VK Dukla Liberec A-VSK Český Krumlov
END:VEVENT
BEGIN:VEVENT
UID:37663438-6335-4865-b034-363363616665
DTSTAMP:20260424T233454Z
DESCRIPTION:3/6 SKV Ústí n.L. - Red Frýdlant n/O 1:2 (-20\,19\,-5)
DTSTART;TZID=Europe/Berlin:20250308T123000
DTEND;TZID=Europe/Berlin:20250308T143000
LOCATION:ZŠ Rabasova\, Rabasova 3282 Ústí nad Labem - Severní Terasa
SUMMARY:CP-U16M-G: SKV Ústí n.L.-Red Frýdlant n/O
END:VEVENT
BEGIN:VEVENT
UID:35623765-3038-4865-b763-316230353633
DTSTAMP:20260424T233454Z
DESCRIPTION:4/7 Volejbal Sokolov\, z.s. - Tělovýchovná jednota Jiskra Havlí
 čkův Brod z.s. 2:0 (16\,17)
DTSTART;TZID=Europe/Berlin:20250308T134500
DTEND;TZID=Europe/Berlin:20250308T154500
LOCATION:Jiskra\, Maxima Gorkého 280 Sokolov
SUMMARY:CP-U16M-G: Volejbal Sokolov\, z.s.-Tělovýchovná jednota Jiskra Havl
 íčkův Brod z.s.
END:VEVENT
BEGIN:VEVENT
UID:37613030-6131-4636-b732-346431383934
DTSTAMP:20260424T233454Z
DESCRIPTION:4/8 VSK Český Krumlov - SKV Ústí n.L. 2:1 (-28\,20\,13)
DTSTART;TZID=Europe/Berlin:20250308T134500
DTEND;TZID=Europe/Berlin:20250308T154500
LOCATION:ZŠ Za Nádražím Český Krumlov\, Za Nádražím 222 Český Krumlov - Nád
 ražní Předměstí
SUMMARY:CP-U16M-G: VSK Český Krumlov-SKV Ústí n.L.
END:VEVENT
BEGIN:VEVENT
UID:39346335-3566-4362-a564-366534633933
DTSTAMP:20260424T233454Z
DESCRIPTION:5/9 VSK Český Krumlov - Tělovýchovná jednota Jiskra Havlíčkův B
 rod z.s. 2:0 (15\,15)
DTSTART;TZID=Europe/Berlin:20250308T150000
DTEND;TZID=Europe/Berlin:20250308T170000
LOCATION:ZŠ Za Nádražím Český Krumlov\, Za Nádražím 222 Český Krumlov - Nád
 ražní Předměstí
SUMMARY:CP-U16M-G: VSK Český Krumlov-Tělovýchovná jednota Jiskra Havlíčkův 
 Brod z.s.
END:VEVENT
BEGIN:VEVENT
UID:31663838-3265-4132-b432-613761303631
DTSTAMP:20260424T233454Z
DESCRIPTION:5/10 VK Dukla Liberec A - Red Frýdlant n/O 0:2 (-18\,-20)
DTSTART;TZID=Europe/Berlin:20250308T150000
DTEND;TZID=Europe/Berlin:20250308T170000
LOCATION:Dukla Liberec\, Jeronýmova 558 Liberec - Liberec VII-Horní Růžodol
SUMMARY:CP-U16M-G: VK Dukla Liberec A-Red Frýdlant n/O
END:VEVENT
BEGIN:VEVENT
UID:62636362-6663-4434-a165-663237663633
DTSTAMP:20260424T233454Z
DESCRIPTION:6/11 Volejbal Sokolov\, z.s. - VK Dukla Liberec A 2:0 (15\,23)
DTSTART;TZID=Europe/Berlin:20250308T160000
DTEND;TZID=Europe/Berlin:20250308T180000
LOCATION:Jiskra\, Maxima Gorkého 280 Sokolov
SUMMARY:CP-U16M-G: Volejbal Sokolov\, z.s.-VK Dukla Liberec A
END:VEVENT
BEGIN:VEVENT
UID:32646536-6138-4165-b662-666334663837
DTSTAMP:20260424T233454Z
DESCRIPTION:6/12 Vlci Nový Jičín - Tělovýchovná jednota Jiskra Havlíčkův Br
 od z.s. 2:0 (12\,19)
DTSTART;TZID=Europe/Berlin:20250308T160000
DTEND;TZID=Europe/Berlin:20250308T180000
LOCATION:Hala ABC\, Purkyňova 116 Nový Jičín
SUMMARY:CP-U16M-G: Vlci Nový Jičín-Tělovýchovná jednota Jiskra Havlíčkův Br
 od z.s.
END:VEVENT
BEGIN:VEVENT
UID:39333634-3361-4664-a564-323539303765
DTSTAMP:20260424T233454Z
DESCRIPTION:7/13 VK Dukla Liberec A - SKV Ústí n.L. 1:2 (12\,-10\,-11)
DTSTART;TZID=Europe/Berlin:20250308T170000
DTEND;TZID=Europe/Berlin:20250308T190000
LOCATION:Dukla Liberec\, Jeronýmova 558 Liberec - Liberec VII-Horní Růžodol
SUMMARY:CP-U16M-G: VK Dukla Liberec A-SKV Ústí n.L.
END:VEVENT
BEGIN:VEVENT
UID:30343532-3033-4036-a163-343266646534
DTSTAMP:20260424T233454Z
DESCRIPTION:7/14 Vlci Nový Jičín - VSK Český Krumlov 2:1 (15\,-9\,12)
DTSTART;TZID=Europe/Berlin:20250308T170000
DTEND;TZID=Europe/Berlin:20250308T190000
LOCATION:Hala ABC\, Purkyňova 116 Nový Jičín
SUMMARY:CP-U16M-G: Vlci Nový Jičín-VSK Český Krumlov
END:VEVENT
BEGIN:VEVENT
UID:36393464-3339-4130-b331-643661346132
DTSTAMP:20260424T233454Z
DESCRIPTION:8/15 Vlci Nový Jičín - VK Dukla Liberec A 2:0 (15\,22)
DTSTART;TZID=Europe/Berlin:20250309T090000
DTEND;TZID=Europe/Berlin:20250309T110000
LOCATION:Hala ABC\, Purkyňova 116 Nový Jičín
SUMMARY:CP-U16M-G: Vlci Nový Jičín-VK Dukla Liberec A
END:VEVENT
BEGIN:VEVENT
UID:39326239-3862-4538-a662-333561666261
DTSTAMP:20260424T233454Z
DESCRIPTION:8/16 Volejbal Sokolov\, z.s. - VSK Český Krumlov 0:2 (-23\,-20)
DTSTART;TZID=Europe/Berlin:20250309T090000
DTEND;TZID=Europe/Berlin:20250309T110000
LOCATION:Jiskra\, Maxima Gorkého 280 Sokolov
SUMMARY:CP-U16M-G: Volejbal Sokolov\, z.s.-VSK Český Krumlov
END:VEVENT
BEGIN:VEVENT
UID:63356634-3365-4136-b335-663132623031
DTSTAMP:20260424T233454Z
DESCRIPTION:8/17 SKV Ústí n.L. - Tělovýchovná jednota Jiskra Havlíčkův Brod
  z.s. 2:0 (14\,15)
DTSTART;TZID=Europe/Berlin:20250309T090000
DTEND;TZID=Europe/Berlin:20250309T110000
LOCATION:ZŠ Rabasova\, Rabasova 3282 Ústí nad Labem - Severní Terasa
SUMMARY:CP-U16M-G: SKV Ústí n.L.-Tělovýchovná jednota Jiskra Havlíčkův Brod
  z.s.
END:VEVENT
BEGIN:VEVENT
UID:39323466-6164-4433-a230-633837336562
DTSTAMP:20260424T233454Z
DESCRIPTION:9/18 Volejbal Sokolov\, z.s. - SKV Ústí n.L. 0:2 (-20\,-17)
DTSTART;TZID=Europe/Berlin:20250309T103000
DTEND;TZID=Europe/Berlin:20250309T123000
LOCATION:Jiskra\, Maxima Gorkého 280 Sokolov
SUMMARY:CP-U16M-G: Volejbal Sokolov\, z.s.-SKV Ústí n.L.
END:VEVENT
BEGIN:VEVENT
UID:66316331-3938-4238-a537-656363643031
DTSTAMP:20260424T233454Z
DESCRIPTION:9/19 Red Frýdlant n/O - VSK Český Krumlov 0:2 (-15\,-19)
DTSTART;TZID=Europe/Berlin:20250309T103000
DTEND;TZID=Europe/Berlin:20250309T123000
LOCATION:Komenského\, Komenského 420 Frýdlant nad Ostravicí - Frýdlant
SUMMARY:CP-U16M-G: Red Frýdlant n/O-VSK Český Krumlov
END:VEVENT
BEGIN:VEVENT
UID:37303833-6361-4662-b064-613863383865
DTSTAMP:20260424T233454Z
DESCRIPTION:9/20 VK Dukla Liberec A - Tělovýchovná jednota Jiskra Havlíčkův
  Brod z.s. 2:0 (9\,18)
DTSTART;TZID=Europe/Berlin:20250309T103000
DTEND;TZID=Europe/Berlin:20250309T123000
LOCATION:Dukla Liberec\, Jeronýmova 558 Liberec - Liberec VII-Horní Růžodol
SUMMARY:CP-U16M-G: VK Dukla Liberec A-Tělovýchovná jednota Jiskra Havlíčkův
  Brod z.s.
END:VEVENT
BEGIN:VEVENT
UID:34623637-6263-4633-a662-633336363565
DTSTAMP:20260424T233454Z
DESCRIPTION:10/21 Vlci Nový Jičín - Red Frýdlant n/O 2:1 (18\,-15\,10)
DTSTART;TZID=Europe/Berlin:20250309T114500
DTEND;TZID=Europe/Berlin:20250309T134500
LOCATION:Hala ABC\, Purkyňova 116 Nový Jičín
SUMMARY:CP-U16M-G: Vlci Nový Jičín-Red Frýdlant n/O
END:VEVENT
END:VCALENDAR
