BEGIN:VCALENDAR
VERSION:2.0
PRODID:-//CP-U16Z-F3D//NONSGML kigkonsult.se iCalcreator 2.41.80//
CALSCALE:GREGORIAN
UID:61636331-3637-4130-a139-656430326235
BEGIN:VEVENT
UID:32613330-6364-4932-a232-343936316536
DTSTAMP:20260425T214720Z
DESCRIPTION:1/1 Karlovy Vary - ŠSK Bílovec 0:2 (-14\,-20)
DTSTART;TZID=Europe/Berlin:20250307T151500
DTEND;TZID=Europe/Berlin:20250307T171500
LOCATION:Hala ZŠ Komenského\, Komenského 701 Bílovec
SUMMARY:CP-U16Z-F3D: Karlovy Vary-ŠSK Bílovec
END:VEVENT
BEGIN:VEVENT
UID:33346565-6339-4263-b835-616235643834
DTSTAMP:20260425T214720Z
DESCRIPTION:1/2 VK Dukla Liberec - SK Volejbal Ústí n. Labem 1:2 (17\,-11\,
 -6)
DTSTART;TZID=Europe/Berlin:20250307T151500
DTEND;TZID=Europe/Berlin:20250307T171500
LOCATION:Hala ZŠ Komenského\, Komenského 701 Bílovec
SUMMARY:CP-U16Z-F3D: VK Dukla Liberec-SK Volejbal Ústí n. Labem
END:VEVENT
BEGIN:VEVENT
UID:30333234-3461-4531-b766-626435373161
DTSTAMP:20260425T214720Z
DESCRIPTION:2/3 VK Dukla Liberec - ŠSK Bílovec 1:2 (-25\,17\,-9)
DTSTART;TZID=Europe/Berlin:20250307T163000
DTEND;TZID=Europe/Berlin:20250307T183000
LOCATION:Hala ZŠ Komenského\, Komenského 701 Bílovec
SUMMARY:CP-U16Z-F3D: VK Dukla Liberec-ŠSK Bílovec
END:VEVENT
BEGIN:VEVENT
UID:65393231-6163-4932-b434-363735623466
DTSTAMP:20260425T214720Z
DESCRIPTION:3/4 Karlovy Vary - SK Volejbal Ústí n. Labem 2:1 (25\,-22\,9)
DTSTART;TZID=Europe/Berlin:20250307T164500
DTEND;TZID=Europe/Berlin:20250307T184500
LOCATION:Hala ZŠ Komenského\, Komenského 701 Bílovec
SUMMARY:CP-U16Z-F3D: Karlovy Vary-SK Volejbal Ústí n. Labem
END:VEVENT
BEGIN:VEVENT
UID:65383562-3563-4765-b930-666466343366
DTSTAMP:20260425T214720Z
DESCRIPTION:4/5 VK Dukla Liberec - Karlovy Vary 2:1 (-24\,17\,9)
DTSTART;TZID=Europe/Berlin:20250308T100000
DTEND;TZID=Europe/Berlin:20250308T120000
LOCATION:Hala ZŠ Komenského\, Komenského 701 Bílovec
SUMMARY:CP-U16Z-F3D: VK Dukla Liberec-Karlovy Vary
END:VEVENT
BEGIN:VEVENT
UID:66343664-6131-4466-b937-616537393535
DTSTAMP:20260425T214720Z
DESCRIPTION:5/6 SK Volejbal Ústí n. Labem - ŠSK Bílovec 0:2 (-26\,-20)
DTSTART;TZID=Europe/Berlin:20250308T113000
DTEND;TZID=Europe/Berlin:20250308T133000
LOCATION:Hala ZŠ Komenského\, Komenského 701 Bílovec
SUMMARY:CP-U16Z-F3D: SK Volejbal Ústí n. Labem-ŠSK Bílovec
END:VEVENT
END:VCALENDAR
