BEGIN:VCALENDAR
VERSION:2.0
PRODID:-//CP-U16Z-F3G//NONSGML kigkonsult.se iCalcreator 2.41.80//
CALSCALE:GREGORIAN
UID:36363639-6139-4834-a433-343663623939
BEGIN:VEVENT
UID:65613761-3136-4134-a533-623436396630
DTSTAMP:20260421T144829Z
DESCRIPTION:1/1 VK Madeta - Mikulova A 2:1 (-13\,23\,13)
DTSTART;TZID=Europe/Berlin:20250308T093000
DTEND;TZID=Europe/Berlin:20250308T113000
LOCATION:ZŠ Oskara Nedbala České Budějovice\, O. Nedbala 882 České Budějovi
 ce - České Budějovice 2
SUMMARY:CP-U16Z-F3G: VK Madeta-Mikulova A
END:VEVENT
BEGIN:VEVENT
UID:66353164-6236-4861-b739-303732323234
DTSTAMP:20260421T144829Z
DESCRIPTION:1/2 Kometa Praha - VK Lvi Praha 0:2 (-21\,-15)
DTSTART;TZID=Europe/Berlin:20250308T093000
DTEND;TZID=Europe/Berlin:20250308T113000
LOCATION:ZŠ Oskara Nedbala České Budějovice\, O. Nedbala 882 České Budějovi
 ce - České Budějovice 2
SUMMARY:CP-U16Z-F3G: Kometa Praha-VK Lvi Praha
END:VEVENT
BEGIN:VEVENT
UID:32303230-3336-4632-b239-666462343538
DTSTAMP:20260421T144829Z
DESCRIPTION:2/3 VoCe - Klatovy 0:2 (-19\,-21)
DTSTART;TZID=Europe/Berlin:20250308T104500
DTEND;TZID=Europe/Berlin:20250308T124500
LOCATION:ZŠ Oskara Nedbala České Budějovice\, O. Nedbala 882 České Budějovi
 ce - České Budějovice 2
SUMMARY:CP-U16Z-F3G: VoCe-Klatovy
END:VEVENT
BEGIN:VEVENT
UID:63656632-3136-4636-b833-346466356331
DTSTAMP:20260421T144829Z
DESCRIPTION:2/4 VK Prostějov - Radotín 2:0 (24\,22)
DTSTART;TZID=Europe/Berlin:20250308T104500
DTEND;TZID=Europe/Berlin:20250308T124500
LOCATION:ZŠ Oskara Nedbala České Budějovice\, O. Nedbala 882 České Budějovi
 ce - České Budějovice 2
SUMMARY:CP-U16Z-F3G: VK Prostějov-Radotín
END:VEVENT
BEGIN:VEVENT
UID:32613433-6632-4134-b235-626663616333
DTSTAMP:20260421T144829Z
DESCRIPTION:3/5 Mikulova A - Radotín 2:0 (21\,17)
DTSTART;TZID=Europe/Berlin:20250308T120000
DTEND;TZID=Europe/Berlin:20250308T140000
LOCATION:ZŠ Oskara Nedbala České Budějovice\, O. Nedbala 882 České Budějovi
 ce - České Budějovice 2
SUMMARY:CP-U16Z-F3G: Mikulova A-Radotín
END:VEVENT
BEGIN:VEVENT
UID:31326630-6431-4536-b939-623132643662
DTSTAMP:20260421T144829Z
DESCRIPTION:3/6 Klatovy - VK Prostějov 2:1 (15\,-22\,9)
DTSTART;TZID=Europe/Berlin:20250308T120000
DTEND;TZID=Europe/Berlin:20250308T140000
LOCATION:ZŠ Oskara Nedbala České Budějovice\, O. Nedbala 882 České Budějovi
 ce - České Budějovice 2
SUMMARY:CP-U16Z-F3G: Klatovy-VK Prostějov
END:VEVENT
BEGIN:VEVENT
UID:30613236-3438-4434-b034-313665616131
DTSTAMP:20260421T144829Z
DESCRIPTION:4/7 VK Lvi Praha - VoCe 2:0 (15\,9)
DTSTART;TZID=Europe/Berlin:20250308T131500
DTEND;TZID=Europe/Berlin:20250308T151500
LOCATION:ZŠ Oskara Nedbala České Budějovice\, O. Nedbala 882 České Budějovi
 ce - České Budějovice 2
SUMMARY:CP-U16Z-F3G: VK Lvi Praha-VoCe
END:VEVENT
BEGIN:VEVENT
UID:39353836-3635-4063-b230-353063373634
DTSTAMP:20260421T144829Z
DESCRIPTION:4/8 VK Madeta - Kometa Praha 1:2 (-22\,20\,-11)
DTSTART;TZID=Europe/Berlin:20250308T131500
DTEND;TZID=Europe/Berlin:20250308T151500
LOCATION:ZŠ Oskara Nedbala České Budějovice\, O. Nedbala 882 České Budějovi
 ce - České Budějovice 2
SUMMARY:CP-U16Z-F3G: VK Madeta-Kometa Praha
END:VEVENT
BEGIN:VEVENT
UID:30393936-6237-4335-b262-643966333161
DTSTAMP:20260421T144829Z
DESCRIPTION:5/9 Kometa Praha - Mikulova A 0:2 (-25\,-17)
DTSTART;TZID=Europe/Berlin:20250308T143000
DTEND;TZID=Europe/Berlin:20250308T163000
LOCATION:ZŠ Oskara Nedbala České Budějovice\, O. Nedbala 882 České Budějovi
 ce - České Budějovice 2
SUMMARY:CP-U16Z-F3G: Kometa Praha-Mikulova A
END:VEVENT
BEGIN:VEVENT
UID:66666566-6436-4837-b263-653562353633
DTSTAMP:20260421T144829Z
DESCRIPTION:5/10 VoCe - VK Madeta 1:2 (23\,-22\,-15)
DTSTART;TZID=Europe/Berlin:20250308T143000
DTEND;TZID=Europe/Berlin:20250308T163000
LOCATION:ZŠ Oskara Nedbala České Budějovice\, O. Nedbala 882 České Budějovi
 ce - České Budějovice 2
SUMMARY:CP-U16Z-F3G: VoCe-VK Madeta
END:VEVENT
BEGIN:VEVENT
UID:62333065-3031-4439-a635-343134306365
DTSTAMP:20260421T144829Z
DESCRIPTION:6/11 VK Prostějov - VK Lvi Praha 0:2 (-4\,-17)
DTSTART;TZID=Europe/Berlin:20250308T154500
DTEND;TZID=Europe/Berlin:20250308T174500
LOCATION:ZŠ Oskara Nedbala České Budějovice\, O. Nedbala 882 České Budějovi
 ce - České Budějovice 2
SUMMARY:CP-U16Z-F3G: VK Prostějov-VK Lvi Praha
END:VEVENT
BEGIN:VEVENT
UID:31343931-3663-4239-b266-633966613639
DTSTAMP:20260421T144829Z
DESCRIPTION:6/12 Radotín - Klatovy 0:2 (-23\,-22)
DTSTART;TZID=Europe/Berlin:20250308T154500
DTEND;TZID=Europe/Berlin:20250308T174500
LOCATION:ZŠ Oskara Nedbala České Budějovice\, O. Nedbala 882 České Budějovi
 ce - České Budějovice 2
SUMMARY:CP-U16Z-F3G: Radotín-Klatovy
END:VEVENT
BEGIN:VEVENT
UID:65333932-3966-4465-a631-646464653331
DTSTAMP:20260421T144829Z
DESCRIPTION:7/13 Mikulova A - Klatovy 2:0 (11\,12)
DTSTART;TZID=Europe/Berlin:20250308T170000
DTEND;TZID=Europe/Berlin:20250308T190000
LOCATION:ZŠ Oskara Nedbala České Budějovice\, O. Nedbala 882 České Budějovi
 ce - České Budějovice 2
SUMMARY:CP-U16Z-F3G: Mikulova A-Klatovy
END:VEVENT
BEGIN:VEVENT
UID:64393431-3266-4339-a265-643962313133
DTSTAMP:20260421T144829Z
DESCRIPTION:7/14 VK Lvi Praha - Radotín 2:1 (17\,-23\,2)
DTSTART;TZID=Europe/Berlin:20250308T170000
DTEND;TZID=Europe/Berlin:20250308T190000
LOCATION:ZŠ Oskara Nedbala České Budějovice\, O. Nedbala 882 České Budějovi
 ce - České Budějovice 2
SUMMARY:CP-U16Z-F3G: VK Lvi Praha-Radotín
END:VEVENT
BEGIN:VEVENT
UID:37333235-6266-4136-b130-323935306530
DTSTAMP:20260421T144829Z
DESCRIPTION:8/15 VK Madeta - VK Prostějov 0:2 (-24\,-25)
DTSTART;TZID=Europe/Berlin:20250308T181500
DTEND;TZID=Europe/Berlin:20250308T201500
LOCATION:ZŠ Oskara Nedbala České Budějovice\, O. Nedbala 882 České Budějovi
 ce - České Budějovice 2
SUMMARY:CP-U16Z-F3G: VK Madeta-VK Prostějov
END:VEVENT
BEGIN:VEVENT
UID:65326566-6336-4339-a562-373031376361
DTSTAMP:20260421T144829Z
DESCRIPTION:8/16 Kometa Praha - VoCe 2:0 (17\,24)
DTSTART;TZID=Europe/Berlin:20250308T181500
DTEND;TZID=Europe/Berlin:20250308T201500
LOCATION:ZŠ Oskara Nedbala České Budějovice\, O. Nedbala 882 České Budějovi
 ce - České Budějovice 2
SUMMARY:CP-U16Z-F3G: Kometa Praha-VoCe
END:VEVENT
BEGIN:VEVENT
UID:64613266-6464-4031-b638-313634613866
DTSTAMP:20260421T144829Z
DESCRIPTION:9/17 VoCe - Mikulova A 2:1 (16\,-26\,8)
DTSTART;TZID=Europe/Berlin:20250309T090000
DTEND;TZID=Europe/Berlin:20250309T110000
LOCATION:ZŠ Oskara Nedbala České Budějovice\, O. Nedbala 882 České Budějovi
 ce - České Budějovice 2
SUMMARY:CP-U16Z-F3G: VoCe-Mikulova A
END:VEVENT
BEGIN:VEVENT
UID:32383661-6634-4561-b438-376230643963
DTSTAMP:20260421T144829Z
DESCRIPTION:9/18 VK Prostějov - Kometa Praha 0:2 (-21\,-17)
DTSTART;TZID=Europe/Berlin:20250309T090000
DTEND;TZID=Europe/Berlin:20250309T110000
LOCATION:ZŠ Oskara Nedbala České Budějovice\, O. Nedbala 882 České Budějovi
 ce - České Budějovice 2
SUMMARY:CP-U16Z-F3G: VK Prostějov-Kometa Praha
END:VEVENT
BEGIN:VEVENT
UID:63376264-6335-4463-a337-313332356364
DTSTAMP:20260421T144829Z
DESCRIPTION:10/19 Radotín - VK Madeta 2:1 (-21\,16\,6)
DTSTART;TZID=Europe/Berlin:20250309T101500
DTEND;TZID=Europe/Berlin:20250309T121500
LOCATION:ZŠ Oskara Nedbala České Budějovice\, O. Nedbala 882 České Budějovi
 ce - České Budějovice 2
SUMMARY:CP-U16Z-F3G: Radotín-VK Madeta
END:VEVENT
BEGIN:VEVENT
UID:64333263-3765-4966-a235-633732633964
DTSTAMP:20260421T144829Z
DESCRIPTION:10/20 Klatovy - VK Lvi Praha 0:2 (-21\,-22)
DTSTART;TZID=Europe/Berlin:20250309T101500
DTEND;TZID=Europe/Berlin:20250309T121500
LOCATION:ZŠ Oskara Nedbala České Budějovice\, O. Nedbala 882 České Budějovi
 ce - České Budějovice 2
SUMMARY:CP-U16Z-F3G: Klatovy-VK Lvi Praha
END:VEVENT
BEGIN:VEVENT
UID:35336366-3261-4336-b861-663637303261
DTSTAMP:20260421T144829Z
DESCRIPTION:11/21 Mikulova A - VK Lvi Praha 1:2 (22\,-13\,-12)
DTSTART;TZID=Europe/Berlin:20250309T113000
DTEND;TZID=Europe/Berlin:20250309T133000
LOCATION:ZŠ Oskara Nedbala České Budějovice\, O. Nedbala 882 České Budějovi
 ce - České Budějovice 2
SUMMARY:CP-U16Z-F3G: Mikulova A-VK Lvi Praha
END:VEVENT
BEGIN:VEVENT
UID:33613731-3863-4935-a661-623633346263
DTSTAMP:20260421T144829Z
DESCRIPTION:11/22 VK Madeta - Klatovy 0:2 (-10\,-10)
DTSTART;TZID=Europe/Berlin:20250309T113000
DTEND;TZID=Europe/Berlin:20250309T133000
LOCATION:ZŠ Oskara Nedbala České Budějovice\, O. Nedbala 882 České Budějovi
 ce - České Budějovice 2
SUMMARY:CP-U16Z-F3G: VK Madeta-Klatovy
END:VEVENT
BEGIN:VEVENT
UID:65373439-3261-4063-b366-353435663931
DTSTAMP:20260421T144829Z
DESCRIPTION:12/23 Kometa Praha - Radotín 2:1 (-17\,13\,13)
DTSTART;TZID=Europe/Berlin:20250309T124500
DTEND;TZID=Europe/Berlin:20250309T144500
LOCATION:ZŠ Oskara Nedbala České Budějovice\, O. Nedbala 882 České Budějovi
 ce - České Budějovice 2
SUMMARY:CP-U16Z-F3G: Kometa Praha-Radotín
END:VEVENT
BEGIN:VEVENT
UID:34383535-6634-4361-b763-653434646262
DTSTAMP:20260421T144829Z
DESCRIPTION:12/24 VoCe - VK Prostějov 2:1 (16\,-20\,13)
DTSTART;TZID=Europe/Berlin:20250309T124500
DTEND;TZID=Europe/Berlin:20250309T144500
LOCATION:ZŠ Oskara Nedbala České Budějovice\, O. Nedbala 882 České Budějovi
 ce - České Budějovice 2
SUMMARY:CP-U16Z-F3G: VoCe-VK Prostějov
END:VEVENT
BEGIN:VEVENT
UID:34633937-6662-4361-b939-623264303266
DTSTAMP:20260421T144829Z
DESCRIPTION:13/25 VK Prostějov - Mikulova A 2:1 (23\,-15\,5)
DTSTART;TZID=Europe/Berlin:20250309T140000
DTEND;TZID=Europe/Berlin:20250309T160000
LOCATION:ZŠ Oskara Nedbala České Budějovice\, O. Nedbala 882 České Budějovi
 ce - České Budějovice 2
SUMMARY:CP-U16Z-F3G: VK Prostějov-Mikulova A
END:VEVENT
BEGIN:VEVENT
UID:35363036-6336-4861-b162-343361353261
DTSTAMP:20260421T144829Z
DESCRIPTION:13/26 Radotín - VoCe 2:0 (24\,19)
DTSTART;TZID=Europe/Berlin:20250309T140000
DTEND;TZID=Europe/Berlin:20250309T160000
LOCATION:ZŠ Oskara Nedbala České Budějovice\, O. Nedbala 882 České Budějovi
 ce - České Budějovice 2
SUMMARY:CP-U16Z-F3G: Radotín-VoCe
END:VEVENT
BEGIN:VEVENT
UID:33643933-3237-4263-a232-356663326135
DTSTAMP:20260421T144829Z
DESCRIPTION:14/27 Klatovy - Kometa Praha 1:2 (-19\,16\,-7)
DTSTART;TZID=Europe/Berlin:20250309T151500
DTEND;TZID=Europe/Berlin:20250309T171500
LOCATION:ZŠ Oskara Nedbala České Budějovice\, O. Nedbala 882 České Budějovi
 ce - České Budějovice 2
SUMMARY:CP-U16Z-F3G: Klatovy-Kometa Praha
END:VEVENT
BEGIN:VEVENT
UID:34636461-6663-4834-a665-343935653535
DTSTAMP:20260421T144829Z
DESCRIPTION:14/28 VK Lvi Praha - VK Madeta 2:1 (18\,-23\,11)
DTSTART;TZID=Europe/Berlin:20250309T151500
DTEND;TZID=Europe/Berlin:20250309T171500
LOCATION:ZŠ Oskara Nedbala České Budějovice\, O. Nedbala 882 České Budějovi
 ce - České Budějovice 2
SUMMARY:CP-U16Z-F3G: VK Lvi Praha-VK Madeta
END:VEVENT
END:VCALENDAR
