BEGIN:VCALENDAR
VERSION:2.0
PRODID:-//CP-U16Z-F3M//NONSGML kigkonsult.se iCalcreator 2.41.80//
CALSCALE:GREGORIAN
UID:34383030-6333-4637-a134-653761386561
BEGIN:VEVENT
UID:34363632-6632-4162-b837-623837386663
DTSTAMP:20260421T131301Z
DESCRIPTION:1/1 Žďár nad Sázavou - TJ Sokol Mnichovo Hradiště 2:0 (18\,22)
DTSTART;TZID=Europe/Berlin:20250308T093000
DTEND;TZID=Europe/Berlin:20250308T113000
LOCATION:ZŠ Palachova\, Palachova 1757 Žďár nad Sázavou - Žďár nad Sázavou 
 6
SUMMARY:CP-U16Z-F3M: Žďár nad Sázavou-TJ Sokol Mnichovo Hradiště
END:VEVENT
BEGIN:VEVENT
UID:63633939-3533-4566-b932-656162643339
DTSTAMP:20260421T131301Z
DESCRIPTION:1/2 Pelhřimov - Sokol Česká Třebová 2:0 (15\,19)
DTSTART;TZID=Europe/Berlin:20250308T093000
DTEND;TZID=Europe/Berlin:20250308T113000
LOCATION:ZŠ Palachova\, Palachova 1757 Žďár nad Sázavou - Žďár nad Sázavou 
 6
SUMMARY:CP-U16Z-F3M: Pelhřimov-Sokol Česká Třebová
END:VEVENT
BEGIN:VEVENT
UID:66333731-3365-4636-b264-393835373262
DTSTAMP:20260421T131301Z
DESCRIPTION:2/3 TJ Sokol Mnichovo Hradiště - Slovácká Slavia U. Hradiště 2:
 0 (25\,21)
DTSTART;TZID=Europe/Berlin:20250308T104500
DTEND;TZID=Europe/Berlin:20250308T124500
LOCATION:ZŠ Palachova\, Palachova 1757 Žďár nad Sázavou - Žďár nad Sázavou 
 6
SUMMARY:CP-U16Z-F3M: TJ Sokol Mnichovo Hradiště-Slovácká Slavia U. Hradiště
END:VEVENT
BEGIN:VEVENT
UID:61646130-3334-4964-b464-336433626236
DTSTAMP:20260421T131301Z
DESCRIPTION:2/4 Český Krumlov - Pelhřimov 0:2 (-18\,-20)
DTSTART;TZID=Europe/Berlin:20250308T104500
DTEND;TZID=Europe/Berlin:20250308T124500
LOCATION:ZŠ Palachova\, Palachova 1757 Žďár nad Sázavou - Žďár nad Sázavou 
 6
SUMMARY:CP-U16Z-F3M: Český Krumlov-Pelhřimov
END:VEVENT
BEGIN:VEVENT
UID:63323762-3335-4566-a235-313932306239
DTSTAMP:20260421T131301Z
DESCRIPTION:3/5 Žďár nad Sázavou - Sokol Česká Třebová 0:2 (-18\,-24)
DTSTART;TZID=Europe/Berlin:20250308T120000
DTEND;TZID=Europe/Berlin:20250308T140000
LOCATION:ZŠ Palachova\, Palachova 1757 Žďár nad Sázavou - Žďár nad Sázavou 
 6
SUMMARY:CP-U16Z-F3M: Žďár nad Sázavou-Sokol Česká Třebová
END:VEVENT
BEGIN:VEVENT
UID:63633937-6463-4033-b832-633731646462
DTSTAMP:20260421T131301Z
DESCRIPTION:3/6 Slovácká Slavia U. Hradiště - TJ SLAVIA Liberec 2:1 (-11\,1
 9\,14)
DTSTART;TZID=Europe/Berlin:20250308T120000
DTEND;TZID=Europe/Berlin:20250308T140000
LOCATION:ZŠ Palachova\, Palachova 1757 Žďár nad Sázavou - Žďár nad Sázavou 
 6
SUMMARY:CP-U16Z-F3M: Slovácká Slavia U. Hradiště-TJ SLAVIA Liberec
END:VEVENT
BEGIN:VEVENT
UID:35303561-3162-4533-a534-613933303637
DTSTAMP:20260421T131301Z
DESCRIPTION:4/7 Český Krumlov - TJ Sokol Mnichovo Hradiště 2:0 (23\,7)
DTSTART;TZID=Europe/Berlin:20250308T131500
DTEND;TZID=Europe/Berlin:20250308T151500
LOCATION:ZŠ Palachova\, Palachova 1757 Žďár nad Sázavou - Žďár nad Sázavou 
 6
SUMMARY:CP-U16Z-F3M: Český Krumlov-TJ Sokol Mnichovo Hradiště
END:VEVENT
BEGIN:VEVENT
UID:35343930-3337-4539-b936-613564393538
DTSTAMP:20260421T131301Z
DESCRIPTION:4/8 Pelhřimov - TJ SLAVIA Liberec 1:2 (-20\,22\,-7)
DTSTART;TZID=Europe/Berlin:20250308T131500
DTEND;TZID=Europe/Berlin:20250308T151500
LOCATION:ZŠ Palachova\, Palachova 1757 Žďár nad Sázavou - Žďár nad Sázavou 
 6
SUMMARY:CP-U16Z-F3M: Pelhřimov-TJ SLAVIA Liberec
END:VEVENT
BEGIN:VEVENT
UID:66336431-6232-4566-b432-303438343364
DTSTAMP:20260421T131301Z
DESCRIPTION:5/9 Žďár nad Sázavou - Český Krumlov 2:1 (-15\,13\,11)
DTSTART;TZID=Europe/Berlin:20250308T143000
DTEND;TZID=Europe/Berlin:20250308T163000
LOCATION:ZŠ Palachova\, Palachova 1757 Žďár nad Sázavou - Žďár nad Sázavou 
 6
SUMMARY:CP-U16Z-F3M: Žďár nad Sázavou-Český Krumlov
END:VEVENT
BEGIN:VEVENT
UID:62623134-6466-4739-b431-366231343663
DTSTAMP:20260421T131301Z
DESCRIPTION:5/10 Slovácká Slavia U. Hradiště - Sokol Česká Třebová 2:0 (22\
 ,17)
DTSTART;TZID=Europe/Berlin:20250308T143000
DTEND;TZID=Europe/Berlin:20250308T163000
LOCATION:ZŠ Palachova\, Palachova 1757 Žďár nad Sázavou - Žďár nad Sázavou 
 6
SUMMARY:CP-U16Z-F3M: Slovácká Slavia U. Hradiště-Sokol Česká Třebová
END:VEVENT
BEGIN:VEVENT
UID:37643062-3464-4864-b162-383365373164
DTSTAMP:20260421T131301Z
DESCRIPTION:6/11 TJ Sokol Mnichovo Hradiště - Pelhřimov 1:2 (-18\,16\,-11)
DTSTART;TZID=Europe/Berlin:20250308T154500
DTEND;TZID=Europe/Berlin:20250308T174500
LOCATION:ZŠ Palachova\, Palachova 1757 Žďár nad Sázavou - Žďár nad Sázavou 
 6
SUMMARY:CP-U16Z-F3M: TJ Sokol Mnichovo Hradiště-Pelhřimov
END:VEVENT
BEGIN:VEVENT
UID:38326436-3934-4165-b236-363462653732
DTSTAMP:20260421T131301Z
DESCRIPTION:6/12 Sokol Česká Třebová - TJ SLAVIA Liberec 2:0 (21\,6)
DTSTART;TZID=Europe/Berlin:20250308T154500
DTEND;TZID=Europe/Berlin:20250308T174500
LOCATION:ZŠ Palachova\, Palachova 1757 Žďár nad Sázavou - Žďár nad Sázavou 
 6
SUMMARY:CP-U16Z-F3M: Sokol Česká Třebová-TJ SLAVIA Liberec
END:VEVENT
BEGIN:VEVENT
UID:35303837-6137-4530-b532-333964313335
DTSTAMP:20260421T131301Z
DESCRIPTION:7/13 Žďár nad Sázavou - TJ SLAVIA Liberec 0:2 (-21\,-13)
DTSTART;TZID=Europe/Berlin:20250308T170000
DTEND;TZID=Europe/Berlin:20250308T190000
LOCATION:ZŠ Palachova\, Palachova 1757 Žďár nad Sázavou - Žďár nad Sázavou 
 6
SUMMARY:CP-U16Z-F3M: Žďár nad Sázavou-TJ SLAVIA Liberec
END:VEVENT
BEGIN:VEVENT
UID:36616431-3237-4962-b262-396437663331
DTSTAMP:20260421T131301Z
DESCRIPTION:7/14 Český Krumlov - Slovácká Slavia U. Hradiště 2:0 (21\,23)
DTSTART;TZID=Europe/Berlin:20250308T170000
DTEND;TZID=Europe/Berlin:20250308T190000
LOCATION:ZŠ Palachova\, Palachova 1757 Žďár nad Sázavou - Žďár nad Sázavou 
 6
SUMMARY:CP-U16Z-F3M: Český Krumlov-Slovácká Slavia U. Hradiště
END:VEVENT
BEGIN:VEVENT
UID:65343338-3863-4530-b430-386636333464
DTSTAMP:20260421T131301Z
DESCRIPTION:8/15 Žďár nad Sázavou - Pelhřimov 0:2 (-17\,-22)
DTSTART;TZID=Europe/Berlin:20250309T090000
DTEND;TZID=Europe/Berlin:20250309T110000
LOCATION:ZŠ Palachova\, Palachova 1757 Žďár nad Sázavou - Žďár nad Sázavou 
 6
SUMMARY:CP-U16Z-F3M: Žďár nad Sázavou-Pelhřimov
END:VEVENT
BEGIN:VEVENT
UID:35303138-6465-4165-b230-396166373264
DTSTAMP:20260421T131301Z
DESCRIPTION:8/16 Sokol Česká Třebová - TJ Sokol Mnichovo Hradiště 2:1 (-18\
 ,14\,8)
DTSTART;TZID=Europe/Berlin:20250309T090000
DTEND;TZID=Europe/Berlin:20250309T110000
LOCATION:ZŠ Palachova\, Palachova 1757 Žďár nad Sázavou - Žďár nad Sázavou 
 6
SUMMARY:CP-U16Z-F3M: Sokol Česká Třebová-TJ Sokol Mnichovo Hradiště
END:VEVENT
BEGIN:VEVENT
UID:66303062-6636-4665-a435-653363656331
DTSTAMP:20260421T131301Z
DESCRIPTION:9/17 Český Krumlov - TJ SLAVIA Liberec 2:0 (25\,23)
DTSTART;TZID=Europe/Berlin:20250309T101500
DTEND;TZID=Europe/Berlin:20250309T121500
LOCATION:ZŠ Palachova\, Palachova 1757 Žďár nad Sázavou - Žďár nad Sázavou 
 6
SUMMARY:CP-U16Z-F3M: Český Krumlov-TJ SLAVIA Liberec
END:VEVENT
BEGIN:VEVENT
UID:66623137-6339-4965-b933-366639323538
DTSTAMP:20260421T131301Z
DESCRIPTION:9/18 Pelhřimov - Slovácká Slavia U. Hradiště 2:0 (18\,18)
DTSTART;TZID=Europe/Berlin:20250309T101500
DTEND;TZID=Europe/Berlin:20250309T121500
LOCATION:ZŠ Palachova\, Palachova 1757 Žďár nad Sázavou - Žďár nad Sázavou 
 6
SUMMARY:CP-U16Z-F3M: Pelhřimov-Slovácká Slavia U. Hradiště
END:VEVENT
BEGIN:VEVENT
UID:33623738-3430-4263-a663-626666333364
DTSTAMP:20260421T131301Z
DESCRIPTION:10/19 Český Krumlov - Sokol Česká Třebová 2:1 (-17\,23\,8)
DTSTART;TZID=Europe/Berlin:20250309T113000
DTEND;TZID=Europe/Berlin:20250309T133000
LOCATION:ZŠ Palachova\, Palachova 1757 Žďár nad Sázavou - Žďár nad Sázavou 
 6
SUMMARY:CP-U16Z-F3M: Český Krumlov-Sokol Česká Třebová
END:VEVENT
BEGIN:VEVENT
UID:63643935-3263-4432-b334-323632333639
DTSTAMP:20260421T131301Z
DESCRIPTION:10/20 TJ SLAVIA Liberec - TJ Sokol Mnichovo Hradiště 2:1 (-20\,
 15\,7)
DTSTART;TZID=Europe/Berlin:20250309T113000
DTEND;TZID=Europe/Berlin:20250309T133000
LOCATION:ZŠ Palachova\, Palachova 1757 Žďár nad Sázavou - Žďár nad Sázavou 
 6
SUMMARY:CP-U16Z-F3M: TJ SLAVIA Liberec-TJ Sokol Mnichovo Hradiště
END:VEVENT
BEGIN:VEVENT
UID:38396530-6633-4332-a339-313732303665
DTSTAMP:20260421T131301Z
DESCRIPTION:11/21 Žďár nad Sázavou - Slovácká Slavia U. Hradiště 1:2 (-19\,
 21\,-12)
DTSTART;TZID=Europe/Berlin:20250309T124500
DTEND;TZID=Europe/Berlin:20250309T144500
LOCATION:ZŠ Palachova\, Palachova 1757 Žďár nad Sázavou - Žďár nad Sázavou 
 6
SUMMARY:CP-U16Z-F3M: Žďár nad Sázavou-Slovácká Slavia U. Hradiště
END:VEVENT
END:VCALENDAR
