BEGIN:VCALENDAR
VERSION:2.0
PRODID:-//EX-U20M-6C//NONSGML kigkonsult.se iCalcreator 2.41.80//
CALSCALE:GREGORIAN
UID:37633233-3363-4130-a263-633337646232
BEGIN:VEVENT
UID:30303330-6437-4232-b866-303965303639
DTSTAMP:20260424T063358Z
DESCRIPTION:2/1 Ústí n. L. - Odolena Voda 3:0 (29\,20\,18)
DTSTART;TZID=Europe/Berlin:20250315T100000
DTEND;TZID=Europe/Berlin:20250315T120000
LOCATION:Sportcentrum SLUNETA 2\, Jateční 1026 Ústí nad Labem - Klíše
SUMMARY:EX-U20M-6C: Ústí n. L.-Odolena Voda
END:VEVENT
BEGIN:VEVENT
UID:31623561-3764-4231-b266-356163373230
DTSTAMP:20260424T063358Z
DESCRIPTION:2/2 Velké Meziříčí - Liberec 1:3 (17\,-19\,-18\,-19)
DTSTART;TZID=Europe/Berlin:20250315T120000
DTEND;TZID=Europe/Berlin:20250315T140000
LOCATION:Sportcentrum SLUNETA 2\, Jateční 1026 Ústí nad Labem - Klíše
SUMMARY:EX-U20M-6C: Velké Meziříčí-Liberec
END:VEVENT
BEGIN:VEVENT
UID:38616462-3638-4731-b839-353763616139
DTSTAMP:20260424T063358Z
DESCRIPTION:2/3 VK Ostrava - Odolena Voda 2:3 (-24\,20\,-29\,22\,-9)
DTSTART;TZID=Europe/Berlin:20250315T140000
DTEND;TZID=Europe/Berlin:20250315T160000
LOCATION:Sportcentrum SLUNETA 2\, Jateční 1026 Ústí nad Labem - Klíše
SUMMARY:EX-U20M-6C: VK Ostrava-Odolena Voda
END:VEVENT
BEGIN:VEVENT
UID:65626663-6366-4362-b234-613237623764
DTSTAMP:20260424T063358Z
DESCRIPTION:2/4 Ústí n. L. - Velké Meziříčí 3:0 (16\,23\,23)
DTSTART;TZID=Europe/Berlin:20250315T160000
DTEND;TZID=Europe/Berlin:20250315T180000
LOCATION:Sportcentrum SLUNETA 2\, Jateční 1026 Ústí nad Labem - Klíše
SUMMARY:EX-U20M-6C: Ústí n. L.-Velké Meziříčí
END:VEVENT
BEGIN:VEVENT
UID:63373933-3336-4236-b461-313666653830
DTSTAMP:20260424T063358Z
DESCRIPTION:2/5 VK Ostrava - Liberec 1:3 (17\,-20\,-17\,-19)
DTSTART;TZID=Europe/Berlin:20250315T180000
DTEND;TZID=Europe/Berlin:20250315T200000
LOCATION:Sportcentrum SLUNETA 2\, Jateční 1026 Ústí nad Labem - Klíše
SUMMARY:EX-U20M-6C: VK Ostrava-Liberec
END:VEVENT
BEGIN:VEVENT
UID:66623330-3333-4164-b463-346665363566
DTSTAMP:20260424T063358Z
DESCRIPTION:2/6 Odolena Voda - Velké Meziříčí 3:1 (-19\,14\,14\,19)
DTSTART;TZID=Europe/Berlin:20250316T090000
DTEND;TZID=Europe/Berlin:20250316T110000
LOCATION:Sportcentrum SLUNETA 2\, Jateční 1026 Ústí nad Labem - Klíše
SUMMARY:EX-U20M-6C: Odolena Voda-Velké Meziříčí
END:VEVENT
BEGIN:VEVENT
UID:65343830-3639-4134-a664-323165353432
DTSTAMP:20260424T063358Z
DESCRIPTION:2/7 Ústí n. L. - VK Ostrava 3:1 (-24\,17\,16\,26)
DTSTART;TZID=Europe/Berlin:20250316T090000
DTEND;TZID=Europe/Berlin:20250316T110000
LOCATION:Sportcentrum SLUNETA 2\, Jateční 1026 Ústí nad Labem - Klíše
SUMMARY:EX-U20M-6C: Ústí n. L.-VK Ostrava
END:VEVENT
BEGIN:VEVENT
UID:33396234-6130-4831-b437-666361386636
DTSTAMP:20260424T063358Z
DESCRIPTION:2/8 Liberec - Odolena Voda 2:3 (22\,-22\,14\,-15\,-12)
DTSTART;TZID=Europe/Berlin:20250316T120000
DTEND;TZID=Europe/Berlin:20250316T140000
LOCATION:Sportcentrum SLUNETA 2\, Jateční 1026 Ústí nad Labem - Klíše
SUMMARY:EX-U20M-6C: Liberec-Odolena Voda
END:VEVENT
BEGIN:VEVENT
UID:66393339-6530-4535-a137-343762653365
DTSTAMP:20260424T063358Z
DESCRIPTION:2/9 Velké Meziříčí - VK Ostrava 0:3 (-23\,-16\,-19)
DTSTART;TZID=Europe/Berlin:20250316T120000
DTEND;TZID=Europe/Berlin:20250316T140000
LOCATION:Sportcentrum SLUNETA 2\, Jateční 1026 Ústí nad Labem - Klíše
SUMMARY:EX-U20M-6C: Velké Meziříčí-VK Ostrava
END:VEVENT
BEGIN:VEVENT
UID:34643965-3230-4931-b264-386639643137
DTSTAMP:20260424T063358Z
DESCRIPTION:2/10 Liberec - Ústí n. L. 3:1 (21\,-18\,22\,17)
DTSTART;TZID=Europe/Berlin:20250316T150000
DTEND;TZID=Europe/Berlin:20250316T170000
LOCATION:Sportcentrum SLUNETA 2\, Jateční 1026 Ústí nad Labem - Klíše
SUMMARY:EX-U20M-6C: Liberec-Ústí n. L.
END:VEVENT
END:VCALENDAR
