BEGIN:VCALENDAR
VERSION:2.0
PRODID:-//EX-U18M-6C//NONSGML kigkonsult.se iCalcreator 2.41.80//
CALSCALE:GREGORIAN
UID:37373632-3736-4036-b832-663665613565
BEGIN:VEVENT
UID:65666461-3265-4035-b065-383736363961
DTSTAMP:20260424T233617Z
DESCRIPTION:6/1 Klatovy - Příbram 0:3 (-16\,-25\,-20)
DTSTART;TZID=Europe/Berlin:20250322T100000
DTEND;TZID=Europe/Berlin:20250322T120000
LOCATION:Sportovní hala ZŠ Čapkova\, Čapkova 136 Klatovy - Klatovy V
SUMMARY:EX-U18M-6C: Klatovy-Příbram
END:VEVENT
BEGIN:VEVENT
UID:62356439-3635-4632-a231-313530386133
DTSTAMP:20260424T233617Z
DESCRIPTION:6/2 Hradec Králové - Liberec 2:3 (20\,-21\,14\,-29\,-7)
DTSTART;TZID=Europe/Berlin:20250322T120000
DTEND;TZID=Europe/Berlin:20250322T140000
LOCATION:Sportovní hala ZŠ Čapkova\, Čapkova 136 Klatovy - Klatovy V
SUMMARY:EX-U18M-6C: Hradec Králové-Liberec
END:VEVENT
BEGIN:VEVENT
UID:30323038-6230-4539-a636-633932376561
DTSTAMP:20260424T233617Z
DESCRIPTION:6/3 Zlín - Příbram 0:3 (-14\,-13\,-19)
DTSTART;TZID=Europe/Berlin:20250322T140000
DTEND;TZID=Europe/Berlin:20250322T160000
LOCATION:Sportovní hala ZŠ Čapkova\, Čapkova 136 Klatovy - Klatovy V
SUMMARY:EX-U18M-6C: Zlín-Příbram
END:VEVENT
BEGIN:VEVENT
UID:61303066-6462-4635-b265-643662363165
DTSTAMP:20260424T233617Z
DESCRIPTION:6/4 Klatovy - Hradec Králové 3:1 (11\,-22\,20\,22)
DTSTART;TZID=Europe/Berlin:20250322T160000
DTEND;TZID=Europe/Berlin:20250322T180000
LOCATION:Sportovní hala ZŠ Čapkova\, Čapkova 136 Klatovy - Klatovy V
SUMMARY:EX-U18M-6C: Klatovy-Hradec Králové
END:VEVENT
BEGIN:VEVENT
UID:30303065-6566-4165-a566-376435643065
DTSTAMP:20260424T233617Z
DESCRIPTION:6/5 Zlín - Liberec 3:0 (18\,22\,22)\nNH: Hala Na Vodojemu Stude
 ntská 646 Klatovy - Klatovy IV
DTSTART;TZID=Europe/Berlin:20250322T170000
DTEND;TZID=Europe/Berlin:20250322T190000
LOCATION:Sportovní hala ZŠ Čapkova\, Čapkova 136 Klatovy - Klatovy V
SUMMARY:EX-U18M-6C: Zlín-Liberec
END:VEVENT
BEGIN:VEVENT
UID:66613961-3336-4634-b639-643738613635
DTSTAMP:20260424T233617Z
DESCRIPTION:6/6 Příbram - Hradec Králové 0:3 (-20\,-20\,-23)\nNH: Hala Na V
 odojemu Studentská 646 Klatovy - Klatovy IV
DTSTART;TZID=Europe/Berlin:20250323T090000
DTEND;TZID=Europe/Berlin:20250323T110000
LOCATION:Sportovní hala ZŠ Čapkova\, Čapkova 136 Klatovy - Klatovy V
SUMMARY:EX-U18M-6C: Příbram-Hradec Králové
END:VEVENT
BEGIN:VEVENT
UID:66373132-3836-4839-a662-336266383131
DTSTAMP:20260424T233617Z
DESCRIPTION:6/7 Klatovy - Zlín 3:0 (22\,29\,20)\nNH: Hala Na Vodojemu Stude
 ntská 646 Klatovy - Klatovy IV
DTSTART;TZID=Europe/Berlin:20250323T110000
DTEND;TZID=Europe/Berlin:20250323T130000
LOCATION:Sportovní hala ZŠ Čapkova\, Čapkova 136 Klatovy - Klatovy V
SUMMARY:EX-U18M-6C: Klatovy-Zlín
END:VEVENT
BEGIN:VEVENT
UID:61376530-3130-4463-b636-336332373664
DTSTAMP:20260424T233617Z
DESCRIPTION:6/8 Liberec - Příbram 0:3 (-16\,-16\,-14)\nNH: Hala Na Vodojemu
  Studentská 646 Klatovy - Klatovy IV
DTSTART;TZID=Europe/Berlin:20250323T130000
DTEND;TZID=Europe/Berlin:20250323T150000
LOCATION:Sportovní hala ZŠ Čapkova\, Čapkova 136 Klatovy - Klatovy V
SUMMARY:EX-U18M-6C: Liberec-Příbram
END:VEVENT
BEGIN:VEVENT
UID:61346461-6633-4535-a139-343138316537
DTSTAMP:20260424T233617Z
DESCRIPTION:6/9 Hradec Králové - Zlín 3:1 (17\,-22\,17\,20)\nNH: Hala Na Vo
 dojemu Studentská 646 Klatovy - Klatovy IV
DTSTART;TZID=Europe/Berlin:20250323T150000
DTEND;TZID=Europe/Berlin:20250323T170000
LOCATION:Sportovní hala ZŠ Čapkova\, Čapkova 136 Klatovy - Klatovy V
SUMMARY:EX-U18M-6C: Hradec Králové-Zlín
END:VEVENT
BEGIN:VEVENT
UID:66633536-6137-4136-b831-356430616162
DTSTAMP:20260424T233617Z
DESCRIPTION:6/10 Liberec - Klatovy 0:3 (-22\,-20\,-22)
DTSTART;TZID=Europe/Berlin:20250323T163000
DTEND;TZID=Europe/Berlin:20250323T183000
LOCATION:Sportovní hala ZŠ Čapkova\, Čapkova 136 Klatovy - Klatovy V
SUMMARY:EX-U18M-6C: Liberec-Klatovy
END:VEVENT
END:VCALENDAR
