BEGIN:VCALENDAR
VERSION:2.0
PRODID:-//MCR-U14MB//NONSGML kigkonsult.se iCalcreator 2.41.80//
CALSCALE:GREGORIAN
UID:31353530-6363-4364-a433-346262366136
BEGIN:VEVENT
UID:62666466-3433-4462-a230-376638393031
DTSTAMP:20260424T090938Z
DESCRIPTION:1/1 SKV Ústí n. L. - VK Karlovarsko\, z.s. 1:2 (17\,-24\,-8)
DTSTART;TZID=Europe/Berlin:20250412T093000
DTEND;TZID=Europe/Berlin:20250412T113000
LOCATION:ZŠ Rabasova Rabasova 3282/3\, Ústí nad Labem
SUMMARY:MCR-U14MB: SKV Ústí n. L.-VK Karlovarsko\, z.s.
END:VEVENT
BEGIN:VEVENT
UID:31633862-3261-4635-b462-656632653962
DTSTAMP:20260424T090938Z
DESCRIPTION:1/2 Orion A - VK Lvi Praha\, z.s. 0:2 (-11\,-13)
DTSTART;TZID=Europe/Berlin:20250412T093000
DTEND;TZID=Europe/Berlin:20250412T113000
LOCATION:ZŠ prof. Švejcara\, Mráčkova\, Mráčkova 3090 Praha - Modřany
SUMMARY:MCR-U14MB: Orion A-VK Lvi Praha\, z.s.
END:VEVENT
BEGIN:VEVENT
UID:64353864-6565-4334-b133-653437306631
DTSTAMP:20260424T090938Z
DESCRIPTION:2/3 TJ ABC Braník\, z.s. - SKV Ústí n. L. 2:0 (14\,12)
DTSTART;TZID=Europe/Berlin:20250412T110000
DTEND;TZID=Europe/Berlin:20250412T130000
LOCATION:Sokolovna Braník\, Branická 275 Praha - Braník
SUMMARY:MCR-U14MB: TJ ABC Braník\, z.s.-SKV Ústí n. L.
END:VEVENT
BEGIN:VEVENT
UID:35343863-6237-4132-a236-626134353561
DTSTAMP:20260424T090938Z
DESCRIPTION:2/4 VK Karlovarsko\, z.s. - Orion A 0:2 (-21\,-14)
DTSTART;TZID=Europe/Berlin:20250412T110000
DTEND;TZID=Europe/Berlin:20250412T130000
LOCATION:Sportovní hala TJ Jiskra\, Ledečská 3028 Havlíčkův Brod
SUMMARY:MCR-U14MB: VK Karlovarsko\, z.s.-Orion A
END:VEVENT
BEGIN:VEVENT
UID:34613561-3666-4734-a263-653332653439
DTSTAMP:20260424T090938Z
DESCRIPTION:3/5 TJ ABC Braník\, z.s. - VK Lvi Praha\, z.s. 1:2 (-20\,22\,-1
 3)
DTSTART;TZID=Europe/Berlin:20250412T123000
DTEND;TZID=Europe/Berlin:20250412T143000
LOCATION:Sokolovna Braník\, Branická 275 Praha - Braník
SUMMARY:MCR-U14MB: TJ ABC Braník\, z.s.-VK Lvi Praha\, z.s.
END:VEVENT
BEGIN:VEVENT
UID:38386633-3664-4432-a430-303634626332
DTSTAMP:20260424T090938Z
DESCRIPTION:4/6 SKV Ústí n. L. - Orion A 0:2 (-17\,-23)
DTSTART;TZID=Europe/Berlin:20250412T143000
DTEND;TZID=Europe/Berlin:20250412T163000
LOCATION:ZŠ Rabasova Rabasova 3282/3\, Ústí nad Labem
SUMMARY:MCR-U14MB: SKV Ústí n. L.-Orion A
END:VEVENT
BEGIN:VEVENT
UID:33316634-6238-4363-a633-393066643033
DTSTAMP:20260424T090938Z
DESCRIPTION:4/7 VK Lvi Praha\, z.s. - VK Karlovarsko\, z.s. 2:0 (18\,12)
DTSTART;TZID=Europe/Berlin:20250412T143000
DTEND;TZID=Europe/Berlin:20250412T163000
LOCATION:FZŠ Brdičkova\, Brdičkova 1878 Praha - Stodůlky
SUMMARY:MCR-U14MB: VK Lvi Praha\, z.s.-VK Karlovarsko\, z.s.
END:VEVENT
BEGIN:VEVENT
UID:30383932-3532-4561-b537-313364383835
DTSTAMP:20260424T090938Z
DESCRIPTION:5/8 VK Karlovarsko\, z.s. - TJ ABC Braník\, z.s. 0:2 (-19\,-12)
DTSTART;TZID=Europe/Berlin:20250412T163000
DTEND;TZID=Europe/Berlin:20250412T183000
LOCATION:Sportovní hala TJ Jiskra\, Ledečská 3028 Havlíčkův Brod
SUMMARY:MCR-U14MB: VK Karlovarsko\, z.s.-TJ ABC Braník\, z.s.
END:VEVENT
BEGIN:VEVENT
UID:37303261-6262-4436-b731-313030353834
DTSTAMP:20260424T090938Z
DESCRIPTION:5/9 SKV Ústí n. L. - VK Lvi Praha\, z.s. 0:2 (-18\,-18)
DTSTART;TZID=Europe/Berlin:20250412T163000
DTEND;TZID=Europe/Berlin:20250412T183000
LOCATION:ZŠ Rabasova Rabasova 3282/3\, Ústí nad Labem
SUMMARY:MCR-U14MB: SKV Ústí n. L.-VK Lvi Praha\, z.s.
END:VEVENT
BEGIN:VEVENT
UID:64366366-3564-4164-b831-383831646138
DTSTAMP:20260424T090938Z
DESCRIPTION:6/10 Orion A - TJ ABC Braník\, z.s. 0:2 (-17\,-14)
DTSTART;TZID=Europe/Berlin:20250412T173000
DTEND;TZID=Europe/Berlin:20250412T193000
LOCATION:ZŠ prof. Švejcara\, Mráčkova\, Mráčkova 3090 Praha - Modřany
SUMMARY:MCR-U14MB: Orion A-TJ ABC Braník\, z.s.
END:VEVENT
END:VCALENDAR
