BEGIN:VCALENDAR
VERSION:2.0
PRODID:-//MCR-U14MC//NONSGML kigkonsult.se iCalcreator 2.41.80//
CALSCALE:GREGORIAN
UID:64393764-3439-4537-b234-656434333964
BEGIN:VEVENT
UID:36396466-6166-4638-b364-636630306138
DTSTAMP:20260424T140418Z
DESCRIPTION:1/1 Slavia HK - Havlíčkův Brod 0:2 (-20\,-16)
DTSTART;TZID=Europe/Berlin:20250412T090000
DTEND;TZID=Europe/Berlin:20250412T110000
LOCATION:TJ Slavia Hradec Králové\, Víta Nejedlého 1216 Hradec Králové
SUMMARY:MCR-U14MC: Slavia HK-Havlíčkův Brod
END:VEVENT
BEGIN:VEVENT
UID:31316234-6133-4530-a163-306261643461
DTSTAMP:20260424T140418Z
DESCRIPTION:2/2 Volejbalový klub Znojmo - Přímětice\, z.s. - TJ SOKOL LETOV
 ICE\, z.s. 2:0 (11\,13)
DTSTART;TZID=Europe/Berlin:20250412T100000
DTEND;TZID=Europe/Berlin:20250412T120000
LOCATION:Tělocvična ZŠ Prokopa Diviše a MŠ\, Ke Škole 569 Znojmo - Přímětic
 e
SUMMARY:MCR-U14MC: Volejbalový klub Znojmo - Přímětice\, z.s.-TJ SOKOL LETO
 VICE\, z.s.
END:VEVENT
BEGIN:VEVENT
UID:39313865-3432-4935-b461-353335623539
DTSTAMP:20260424T140418Z
DESCRIPTION:3/3 Havlíčkův Brod - Volejbalový klub Znojmo - Přímětice\, z.s.
  2:0 (18\,18)
DTSTART;TZID=Europe/Berlin:20250412T110000
DTEND;TZID=Europe/Berlin:20250412T130000
LOCATION:Sportovní hala TJ Jiskra\, Ledečská 3028 Havlíčkův Brod
SUMMARY:MCR-U14MC: Havlíčkův Brod-Volejbalový klub Znojmo - Přímětice\, z.s
 .
END:VEVENT
BEGIN:VEVENT
UID:39376535-3235-4266-b866-353132343031
DTSTAMP:20260424T140418Z
DESCRIPTION:4/4 Příbram - Slavia HK 2:0 (11\,4)
DTSTART;TZID=Europe/Berlin:20250412T120000
DTEND;TZID=Europe/Berlin:20250412T140000
LOCATION:Tělocvična ZŠ Balbínova\, Balbínova 328 Příbram - Příbram II
SUMMARY:MCR-U14MC: Příbram-Slavia HK
END:VEVENT
BEGIN:VEVENT
UID:61396531-3663-4437-a661-376338643862
DTSTAMP:20260424T140418Z
DESCRIPTION:5/5 Volejbalový klub Znojmo - Přímětice\, z.s. - Příbram 0:2 (-
 19\,-14)
DTSTART;TZID=Europe/Berlin:20250412T130000
DTEND;TZID=Europe/Berlin:20250412T150000
LOCATION:Tělocvična ZŠ Prokopa Diviše a MŠ\, Ke Škole 569 Znojmo - Přímětic
 e
SUMMARY:MCR-U14MC: Volejbalový klub Znojmo - Přímětice\, z.s.-Příbram
END:VEVENT
BEGIN:VEVENT
UID:61303235-3936-4531-b637-333638316664
DTSTAMP:20260424T140418Z
DESCRIPTION:6/6 TJ SOKOL LETOVICE\, z.s. - Havlíčkův Brod 0:2 (-11\,-20)
DTSTART;TZID=Europe/Berlin:20250412T140000
DTEND;TZID=Europe/Berlin:20250412T160000
LOCATION:Sportovní hala Letovice\, V zahradách 831 Letovice
SUMMARY:MCR-U14MC: TJ SOKOL LETOVICE\, z.s.-Havlíčkův Brod
END:VEVENT
BEGIN:VEVENT
UID:31333166-3433-4838-a365-643266346165
DTSTAMP:20260424T140418Z
DESCRIPTION:7/7 Příbram - TJ SOKOL LETOVICE\, z.s. 2:0 (11\,12)
DTSTART;TZID=Europe/Berlin:20250412T150000
DTEND;TZID=Europe/Berlin:20250412T170000
LOCATION:Tělocvična ZŠ Balbínova\, Balbínova 328 Příbram - Příbram II
SUMMARY:MCR-U14MC: Příbram-TJ SOKOL LETOVICE\, z.s.
END:VEVENT
BEGIN:VEVENT
UID:30363762-3335-4737-a637-336233393038
DTSTAMP:20260424T140418Z
DESCRIPTION:8/8 Slavia HK - Volejbalový klub Znojmo - Přímětice\, z.s. 2:1 
 (-17\,19\,11)
DTSTART;TZID=Europe/Berlin:20250412T160000
DTEND;TZID=Europe/Berlin:20250412T180000
LOCATION:TJ Slavia Hradec Králové\, Víta Nejedlého 1216 Hradec Králové
SUMMARY:MCR-U14MC: Slavia HK-Volejbalový klub Znojmo - Přímětice\, z.s.
END:VEVENT
BEGIN:VEVENT
UID:63386433-6536-4363-a162-333762623764
DTSTAMP:20260424T140418Z
DESCRIPTION:9/9 TJ SOKOL LETOVICE\, z.s. - Slavia HK 1:2 (17\,-14\,-12)
DTSTART;TZID=Europe/Berlin:20250412T170000
DTEND;TZID=Europe/Berlin:20250412T190000
LOCATION:Sportovní hala Letovice\, V zahradách 831 Letovice
SUMMARY:MCR-U14MC: TJ SOKOL LETOVICE\, z.s.-Slavia HK
END:VEVENT
BEGIN:VEVENT
UID:32353632-6230-4939-b335-393935373965
DTSTAMP:20260424T140418Z
DESCRIPTION:10/10 Havlíčkův Brod - Příbram 0:2 (-14\,-11)
DTSTART;TZID=Europe/Berlin:20250412T180000
DTEND;TZID=Europe/Berlin:20250412T200000
LOCATION:Sportovní hala TJ Jiskra\, Ledečská 3028 Havlíčkův Brod
SUMMARY:MCR-U14MC: Havlíčkův Brod-Příbram
END:VEVENT
END:VCALENDAR
