BEGIN:VCALENDAR
VERSION:2.0
PRODID:-//MCR-U14MD//NONSGML kigkonsult.se iCalcreator 2.41.80//
CALSCALE:GREGORIAN
UID:30386236-3664-4963-b439-663539643633
BEGIN:VEVENT
UID:35356537-3565-4764-b736-613739633034
DTSTAMP:20260422T183002Z
DESCRIPTION:1/1 AERO Odolena Voda - Tělovýchovná jednota Spartak Velké Mezi
 říčí\, z.s. 2:0 (16\,16)
DTSTART;TZID=Europe/Berlin:20250412T090000
DTEND;TZID=Europe/Berlin:20250412T110000
LOCATION:Sportovní hala\, Ke Stadionu 375 Odolena Voda
SUMMARY:MCR-U14MD: AERO Odolena Voda-Tělovýchovná jednota Spartak Velké Mez
 iříčí\, z.s.
END:VEVENT
BEGIN:VEVENT
UID:39623638-6337-4535-b430-636432373065
DTSTAMP:20260422T183002Z
DESCRIPTION:2/2 VK České Budějovice - Beach Vratislavice 2:1 (11\,-20\,9)
DTSTART;TZID=Europe/Berlin:20250412T100000
DTEND;TZID=Europe/Berlin:20250412T120000
SUMMARY:MCR-U14MD: VK České Budějovice-Beach Vratislavice
END:VEVENT
BEGIN:VEVENT
UID:33323932-3038-4263-b739-636237313633
DTSTAMP:20260422T183002Z
DESCRIPTION:3/3 Tělovýchovná jednota Spartak Velké Meziříčí\, z.s. - VK Čes
 ké Budějovice 0:2 (-16\,-10)
DTSTART;TZID=Europe/Berlin:20250412T110000
DTEND;TZID=Europe/Berlin:20250412T130000
LOCATION:ZŠ Komenského\, Komenského 1 Velké Meziříčí
SUMMARY:MCR-U14MD: Tělovýchovná jednota Spartak Velké Meziříčí\, z.s.-VK Če
 ské Budějovice
END:VEVENT
BEGIN:VEVENT
UID:31333234-6235-4636-a330-346265356234
DTSTAMP:20260422T183002Z
DESCRIPTION:4/4 SPORT Rychnov - AERO Odolena Voda 1:2 (-18\,11\,-12)
DTSTART;TZID=Europe/Berlin:20250412T120000
DTEND;TZID=Europe/Berlin:20250412T140000
LOCATION:Hala VOŠ a SPŠS\, U Stadionu 1166 Rychnov nad Kněžnou
SUMMARY:MCR-U14MD: SPORT Rychnov-AERO Odolena Voda
END:VEVENT
BEGIN:VEVENT
UID:37306134-6533-4730-a465-376564393163
DTSTAMP:20260422T183002Z
DESCRIPTION:5/5 VK České Budějovice - SPORT Rychnov 2:1 (23\,-20\,7)
DTSTART;TZID=Europe/Berlin:20250412T130000
DTEND;TZID=Europe/Berlin:20250412T150000
SUMMARY:MCR-U14MD: VK České Budějovice-SPORT Rychnov
END:VEVENT
BEGIN:VEVENT
UID:35363336-6266-4664-a430-656565666537
DTSTAMP:20260422T183002Z
DESCRIPTION:6/6 Beach Vratislavice - Tělovýchovná jednota Spartak Velké Mez
 iříčí\, z.s. 2:0 (26\,25)
DTSTART;TZID=Europe/Berlin:20250412T140000
DTEND;TZID=Europe/Berlin:20250412T160000
LOCATION:, Nad Školou 278 Liberec - Liberec XXX-Vratislavice nad Nisou
SUMMARY:MCR-U14MD: Beach Vratislavice-Tělovýchovná jednota Spartak Velké Me
 ziříčí\, z.s.
END:VEVENT
BEGIN:VEVENT
UID:33313233-6130-4335-b562-393535306261
DTSTAMP:20260422T183002Z
DESCRIPTION:7/7 SPORT Rychnov - Beach Vratislavice 2:0 (16\,14)
DTSTART;TZID=Europe/Berlin:20250412T150000
DTEND;TZID=Europe/Berlin:20250412T170000
LOCATION:Hala VOŠ a SPŠS\, U Stadionu 1166 Rychnov nad Kněžnou
SUMMARY:MCR-U14MD: SPORT Rychnov-Beach Vratislavice
END:VEVENT
BEGIN:VEVENT
UID:39373834-6330-4165-b766-353166326261
DTSTAMP:20260422T183002Z
DESCRIPTION:8/8 AERO Odolena Voda - VK České Budějovice 0:2 (-15\,-13)
DTSTART;TZID=Europe/Berlin:20250412T160000
DTEND;TZID=Europe/Berlin:20250412T180000
LOCATION:Sportovní hala\, Ke Stadionu 375 Odolena Voda
SUMMARY:MCR-U14MD: AERO Odolena Voda-VK České Budějovice
END:VEVENT
BEGIN:VEVENT
UID:32376464-6230-4563-b932-323537343962
DTSTAMP:20260422T183002Z
DESCRIPTION:9/9 Beach Vratislavice - AERO Odolena Voda 0:2 (-12\,-19)
DTSTART;TZID=Europe/Berlin:20250412T170000
DTEND;TZID=Europe/Berlin:20250412T190000
LOCATION:, Nad Školou 278 Liberec - Liberec XXX-Vratislavice nad Nisou
SUMMARY:MCR-U14MD: Beach Vratislavice-AERO Odolena Voda
END:VEVENT
BEGIN:VEVENT
UID:66383738-6363-4538-b365-623863626132
DTSTAMP:20260422T183002Z
DESCRIPTION:10/10 Tělovýchovná jednota Spartak Velké Meziříčí\, z.s. - SPOR
 T Rychnov 0:2 (-11\,-17)
DTSTART;TZID=Europe/Berlin:20250412T180000
DTEND;TZID=Europe/Berlin:20250412T200000
LOCATION:ZŠ Komenského\, Komenského 1 Velké Meziříčí
SUMMARY:MCR-U14MD: Tělovýchovná jednota Spartak Velké Meziříčí\, z.s.-SPORT
  Rychnov
END:VEVENT
END:VCALENDAR
