BEGIN:VCALENDAR
VERSION:2.0
PRODID:-//MCR-U14MF//NONSGML kigkonsult.se iCalcreator 2.41.80//
CALSCALE:GREGORIAN
UID:37633639-3864-4663-a236-346332386236
BEGIN:VEVENT
UID:37333261-3338-4238-b864-303864326330
DTSTAMP:20260424T075757Z
DESCRIPTION:1/1 SK Kojetín 2016\, z.s. - VAM Olomouc 2:1 (-21\,14\,6)
DTSTART;TZID=Europe/Berlin:20250413T100000
DTEND;TZID=Europe/Berlin:20250413T120000
SUMMARY:MCR-U14MF: SK Kojetín 2016\, z.s.-VAM Olomouc
END:VEVENT
BEGIN:VEVENT
UID:63623261-6236-4437-a137-313533633237
DTSTAMP:20260424T075757Z
DESCRIPTION:2/2 Blue Ostrava - Vlci Nový Jičín 0:2 (-24\,-13)
DTSTART;TZID=Europe/Berlin:20250413T110000
DTEND;TZID=Europe/Berlin:20250413T130000
LOCATION:Sportovní hala Ostrava -Třebovice\, 5. května 5649 Ostrava - Třebo
 vice
SUMMARY:MCR-U14MF: Blue Ostrava-Vlci Nový Jičín
END:VEVENT
BEGIN:VEVENT
UID:32386163-6665-4665-b237-643264313937
DTSTAMP:20260424T075757Z
DESCRIPTION:3/3 VK Ostrava - SK Kojetín 2016\, z.s. 0:2 (-21\,-17)
DTSTART;TZID=Europe/Berlin:20250413T120000
DTEND;TZID=Europe/Berlin:20250413T140000
LOCATION:Hala Střední zdravotní školy\, 1. máje 2208 Ostrava - Mariánské Ho
 ry
SUMMARY:MCR-U14MF: VK Ostrava-SK Kojetín 2016\, z.s.
END:VEVENT
BEGIN:VEVENT
UID:37336265-3138-4731-b331-353465346339
DTSTAMP:20260424T075757Z
DESCRIPTION:3/4 VAM Olomouc - Blue Ostrava 2:0 (14\,19)
DTSTART;TZID=Europe/Berlin:20250413T120000
DTEND;TZID=Europe/Berlin:20250413T140000
LOCATION:VOŠ a SPŠE Olomouc\, Božetěchova 755 Olomouc - Hodolany
SUMMARY:MCR-U14MF: VAM Olomouc-Blue Ostrava
END:VEVENT
BEGIN:VEVENT
UID:65646465-6666-4236-a139-613462663932
DTSTAMP:20260424T075757Z
DESCRIPTION:4/5 VK Ostrava - Vlci Nový Jičín 2:0 (15\,24)
DTSTART;TZID=Europe/Berlin:20250413T130000
DTEND;TZID=Europe/Berlin:20250413T150000
LOCATION:Hala Střední zdravotní školy\, 1. máje 2208 Ostrava - Mariánské Ho
 ry
SUMMARY:MCR-U14MF: VK Ostrava-Vlci Nový Jičín
END:VEVENT
BEGIN:VEVENT
UID:62306663-6462-4938-a239-653236623633
DTSTAMP:20260424T075757Z
DESCRIPTION:5/6 Vlci Nový Jičín - VAM Olomouc 0:2 (-10\,-16)
DTSTART;TZID=Europe/Berlin:20250413T140000
DTEND;TZID=Europe/Berlin:20250413T160000
LOCATION:Hala ABC\, Purkyňova 116 Nový Jičín
SUMMARY:MCR-U14MF: Vlci Nový Jičín-VAM Olomouc
END:VEVENT
BEGIN:VEVENT
UID:63636562-3736-4132-b766-326538393161
DTSTAMP:20260424T075757Z
DESCRIPTION:6/7 VAM Olomouc - VK Ostrava 2:0 (16\,19)
DTSTART;TZID=Europe/Berlin:20250413T150000
DTEND;TZID=Europe/Berlin:20250413T170000
LOCATION:VOŠ a SPŠE Olomouc\, Božetěchova 755 Olomouc - Hodolany
SUMMARY:MCR-U14MF: VAM Olomouc-VK Ostrava
END:VEVENT
BEGIN:VEVENT
UID:34313832-6666-4834-b066-613464393562
DTSTAMP:20260424T075757Z
DESCRIPTION:6/8 SK Kojetín 2016\, z.s. - Blue Ostrava 2:0 (5\,13)
DTSTART;TZID=Europe/Berlin:20250413T150000
DTEND;TZID=Europe/Berlin:20250413T170000
SUMMARY:MCR-U14MF: SK Kojetín 2016\, z.s.-Blue Ostrava
END:VEVENT
BEGIN:VEVENT
UID:37626637-6335-4963-a339-383362623933
DTSTAMP:20260424T075757Z
DESCRIPTION:7/9 Vlci Nový Jičín - SK Kojetín 2016\, z.s. 0:2 (-6\,-10)
DTSTART;TZID=Europe/Berlin:20250413T160000
DTEND;TZID=Europe/Berlin:20250413T180000
LOCATION:Hala ABC\, Purkyňova 116 Nový Jičín
SUMMARY:MCR-U14MF: Vlci Nový Jičín-SK Kojetín 2016\, z.s.
END:VEVENT
BEGIN:VEVENT
UID:38646561-3165-4130-b665-623039383335
DTSTAMP:20260424T075757Z
DESCRIPTION:7/10 Blue Ostrava - VK Ostrava 0:2 (-19\,-15)
DTSTART;TZID=Europe/Berlin:20250413T160000
DTEND;TZID=Europe/Berlin:20250413T180000
LOCATION:Sportovní hala Ostrava -Třebovice\, 5. května 5649 Ostrava - Třebo
 vice
SUMMARY:MCR-U14MF: Blue Ostrava-VK Ostrava
END:VEVENT
END:VCALENDAR
