BEGIN:VCALENDAR
VERSION:2.0
PRODID:-//PP-U14Z-7-B//NONSGML kigkonsult.se iCalcreator 2.41.80//
CALSCALE:GREGORIAN
UID:30393635-6339-4635-b564-366661363837
BEGIN:VEVENT
UID:63343566-3165-4465-b436-386265396230
DTSTAMP:20260421T210129Z
DESCRIPTION:1/1 PVK Olymp Praha - ABC Braník 2:0 (12\,9)
DTSTART;TZID=Europe/Berlin:20250405T090000
DTEND;TZID=Europe/Berlin:20250405T110000
LOCATION:ZŠ Dolní Břežany\, Na Vršku 290 Dolní Břežany
SUMMARY:PP-U14Z-7-B: PVK Olymp Praha-ABC Braník
END:VEVENT
BEGIN:VEVENT
UID:34343834-6635-4032-a338-653036633831
DTSTAMP:20260421T210129Z
DESCRIPTION:2/2 Volejbal Vršovice - Střešovice 1:2 (-20\,18\,-11)
DTSTART;TZID=Europe/Berlin:20250405T100000
DTEND;TZID=Europe/Berlin:20250405T120000
LOCATION:ZŠ Dolní Břežany\, Na Vršku 290 Dolní Břežany
SUMMARY:PP-U14Z-7-B: Volejbal Vršovice-Střešovice
END:VEVENT
BEGIN:VEVENT
UID:35333566-3163-4633-a534-386363376362
DTSTAMP:20260421T210129Z
DESCRIPTION:3/3 ABC Braník - Střešovice 2:0 (10\,21)
DTSTART;TZID=Europe/Berlin:20250405T110000
DTEND;TZID=Europe/Berlin:20250405T130000
LOCATION:ZŠ Dolní Břežany\, Na Vršku 290 Dolní Břežany
SUMMARY:PP-U14Z-7-B: ABC Braník-Střešovice
END:VEVENT
BEGIN:VEVENT
UID:66333539-3138-4137-b637-353761623931
DTSTAMP:20260421T210129Z
DESCRIPTION:4/4 PVK Olymp Praha - Volejbal Vršovice 2:1 (19\,-23\,5)
DTSTART;TZID=Europe/Berlin:20250405T120000
DTEND;TZID=Europe/Berlin:20250405T140000
LOCATION:ZŠ Dolní Břežany\, Na Vršku 290 Dolní Břežany
SUMMARY:PP-U14Z-7-B: PVK Olymp Praha-Volejbal Vršovice
END:VEVENT
BEGIN:VEVENT
UID:32343030-3765-4335-b139-633339303766
DTSTAMP:20260421T210129Z
DESCRIPTION:5/5 Volejbal Vršovice - ABC Braník 1:2 (-23\,6\,-10)
DTSTART;TZID=Europe/Berlin:20250405T130000
DTEND;TZID=Europe/Berlin:20250405T150000
LOCATION:ZŠ Dolní Břežany\, Na Vršku 290 Dolní Břežany
SUMMARY:PP-U14Z-7-B: Volejbal Vršovice-ABC Braník
END:VEVENT
BEGIN:VEVENT
UID:32666666-6337-4131-a463-343439323437
DTSTAMP:20260421T210129Z
DESCRIPTION:6/6 Střešovice - PVK Olymp Praha 0:2 (-10\,-10)
DTSTART;TZID=Europe/Berlin:20250405T140000
DTEND;TZID=Europe/Berlin:20250405T160000
LOCATION:ZŠ Dolní Břežany\, Na Vršku 290 Dolní Břežany
SUMMARY:PP-U14Z-7-B: Střešovice-PVK Olymp Praha
END:VEVENT
END:VCALENDAR
