BEGIN:VCALENDAR
VERSION:2.0
PRODID:-//MCR-U14Z-2A//NONSGML kigkonsult.se iCalcreator 2.41.80//
CALSCALE:GREGORIAN
UID:66356533-3239-4537-a263-623930353839
BEGIN:VEVENT
UID:38363532-3463-4231-b161-353262653634
DTSTAMP:20260421T111222Z
DESCRIPTION:1/1 Orion Praha - VoCe 2:1 (-20\,10\,12)
DTSTART;TZID=Europe/Berlin:20250412T090000
DTEND;TZID=Europe/Berlin:20250412T110000
LOCATION:Hala ZŠ Komenského\, Komenského 701 Bílovec
SUMMARY:MCR-U14Z-2A: Orion Praha-VoCe
END:VEVENT
BEGIN:VEVENT
UID:64623238-6437-4531-b830-666333383039
DTSTAMP:20260421T111222Z
DESCRIPTION:1/2 Mikulova Praha A - VK Slavia Plzeň 2:0 (17\,20)
DTSTART;TZID=Europe/Berlin:20250412T090000
DTEND;TZID=Europe/Berlin:20250412T110000
LOCATION:Hala ZŠ Komenského\, Komenského 701 Bílovec
SUMMARY:MCR-U14Z-2A: Mikulova Praha A-VK Slavia Plzeň
END:VEVENT
BEGIN:VEVENT
UID:38616434-3431-4238-b034-343138643562
DTSTAMP:20260421T111222Z
DESCRIPTION:2/3 ŠSK Bílovec - TJ Svitavy 2:0 (13\,7)
DTSTART;TZID=Europe/Berlin:20250412T103000
DTEND;TZID=Europe/Berlin:20250412T123000
LOCATION:Hala ZŠ Komenského\, Komenského 701 Bílovec
SUMMARY:MCR-U14Z-2A: ŠSK Bílovec-TJ Svitavy
END:VEVENT
BEGIN:VEVENT
UID:32656535-3966-4134-b763-333632306463
DTSTAMP:20260421T111222Z
DESCRIPTION:2/4 TJ Spartak Polička - Staré Město 0:2 (-14\,-6)
DTSTART;TZID=Europe/Berlin:20250412T103000
DTEND;TZID=Europe/Berlin:20250412T123000
LOCATION:Hala ZŠ Komenského\, Komenského 701 Bílovec
SUMMARY:MCR-U14Z-2A: TJ Spartak Polička-Staré Město
END:VEVENT
BEGIN:VEVENT
UID:34306666-6130-4731-b835-373339663836
DTSTAMP:20260421T111222Z
DESCRIPTION:3/5 TJ Svitavy - Orion Praha 0:2 (-17\,-18)
DTSTART;TZID=Europe/Berlin:20250412T114500
DTEND;TZID=Europe/Berlin:20250412T134500
LOCATION:Hala ZŠ Komenského\, Komenského 701 Bílovec
SUMMARY:MCR-U14Z-2A: TJ Svitavy-Orion Praha
END:VEVENT
BEGIN:VEVENT
UID:62343839-3538-4136-b265-646336653837
DTSTAMP:20260421T111222Z
DESCRIPTION:3/6 Staré Město - Mikulova Praha A 2:0 (17\,22)
DTSTART;TZID=Europe/Berlin:20250412T114500
DTEND;TZID=Europe/Berlin:20250412T134500
LOCATION:Hala ZŠ Komenského\, Komenského 701 Bílovec
SUMMARY:MCR-U14Z-2A: Staré Město-Mikulova Praha A
END:VEVENT
BEGIN:VEVENT
UID:36663961-3537-4332-a266-313135393861
DTSTAMP:20260421T111222Z
DESCRIPTION:4/7 ŠSK Bílovec - VoCe 0:2 (-8\,-17)
DTSTART;TZID=Europe/Berlin:20250412T130000
DTEND;TZID=Europe/Berlin:20250412T150000
LOCATION:Hala ZŠ Komenského\, Komenského 701 Bílovec
SUMMARY:MCR-U14Z-2A: ŠSK Bílovec-VoCe
END:VEVENT
BEGIN:VEVENT
UID:35363030-6662-4362-a431-376664363431
DTSTAMP:20260421T111222Z
DESCRIPTION:4/8 VK Slavia Plzeň - TJ Spartak Polička 0:2 (-21\,-13)
DTSTART;TZID=Europe/Berlin:20250412T130000
DTEND;TZID=Europe/Berlin:20250412T150000
LOCATION:Hala ZŠ Komenského\, Komenského 701 Bílovec
SUMMARY:MCR-U14Z-2A: VK Slavia Plzeň-TJ Spartak Polička
END:VEVENT
BEGIN:VEVENT
UID:31646430-3531-4334-a166-663233326138
DTSTAMP:20260421T111222Z
DESCRIPTION:5/9 Staré Město - ŠSK Bílovec 2:0 (8\,15)
DTSTART;TZID=Europe/Berlin:20250412T141500
DTEND;TZID=Europe/Berlin:20250412T161500
LOCATION:Hala ZŠ Komenského\, Komenského 701 Bílovec
SUMMARY:MCR-U14Z-2A: Staré Město-ŠSK Bílovec
END:VEVENT
BEGIN:VEVENT
UID:38383634-6665-4332-b338-376262353931
DTSTAMP:20260421T111222Z
DESCRIPTION:5/10 TJ Svitavy - VK Slavia Plzeň 1:2 (22\,-15\,-9)
DTSTART;TZID=Europe/Berlin:20250412T141500
DTEND;TZID=Europe/Berlin:20250412T161500
LOCATION:Hala ZŠ Komenského\, Komenského 701 Bílovec
SUMMARY:MCR-U14Z-2A: TJ Svitavy-VK Slavia Plzeň
END:VEVENT
BEGIN:VEVENT
UID:36643830-3233-4931-b538-623433353031
DTSTAMP:20260421T111222Z
DESCRIPTION:6/11 Orion Praha - Staré Město 2:0 (13\,13)
DTSTART;TZID=Europe/Berlin:20250412T153000
DTEND;TZID=Europe/Berlin:20250412T173000
LOCATION:Hala ZŠ Komenského\, Komenského 701 Bílovec
SUMMARY:MCR-U14Z-2A: Orion Praha-Staré Město
END:VEVENT
BEGIN:VEVENT
UID:33623632-3137-4362-a437-336337363330
DTSTAMP:20260421T111222Z
DESCRIPTION:6/12 VoCe - Mikulova Praha A 1:2 (22\,-21\,-6)
DTSTART;TZID=Europe/Berlin:20250412T153000
DTEND;TZID=Europe/Berlin:20250412T173000
LOCATION:Hala ZŠ Komenského\, Komenského 701 Bílovec
SUMMARY:MCR-U14Z-2A: VoCe-Mikulova Praha A
END:VEVENT
BEGIN:VEVENT
UID:63313630-6539-4535-a636-376363363933
DTSTAMP:20260421T111222Z
DESCRIPTION:7/13 TJ Spartak Polička - ŠSK Bílovec 0:2 (-21\,-15)
DTSTART;TZID=Europe/Berlin:20250412T164500
DTEND;TZID=Europe/Berlin:20250412T184500
LOCATION:Hala ZŠ Komenského\, Komenského 701 Bílovec
SUMMARY:MCR-U14Z-2A: TJ Spartak Polička-ŠSK Bílovec
END:VEVENT
BEGIN:VEVENT
UID:38623636-3336-4239-b632-303636356566
DTSTAMP:20260421T111222Z
DESCRIPTION:7/14 VoCe - TJ Svitavy 2:0 (20\,23)
DTSTART;TZID=Europe/Berlin:20250412T164500
DTEND;TZID=Europe/Berlin:20250412T184500
LOCATION:Hala ZŠ Komenského\, Komenského 701 Bílovec
SUMMARY:MCR-U14Z-2A: VoCe-TJ Svitavy
END:VEVENT
BEGIN:VEVENT
UID:36366430-3338-4533-b434-646231373436
DTSTAMP:20260421T111222Z
DESCRIPTION:8/15 Mikulova Praha A - TJ Spartak Polička 2:1 (17\,-20\,11)
DTSTART;TZID=Europe/Berlin:20250412T180000
DTEND;TZID=Europe/Berlin:20250412T200000
LOCATION:Hala ZŠ Komenského\, Komenského 701 Bílovec
SUMMARY:MCR-U14Z-2A: Mikulova Praha A-TJ Spartak Polička
END:VEVENT
BEGIN:VEVENT
UID:36643032-3036-4665-b934-626365343935
DTSTAMP:20260421T111222Z
DESCRIPTION:8/16 VK Slavia Plzeň - Orion Praha 0:2 (-8\,-16)
DTSTART;TZID=Europe/Berlin:20250412T180000
DTEND;TZID=Europe/Berlin:20250412T200000
LOCATION:Hala ZŠ Komenského\, Komenského 701 Bílovec
SUMMARY:MCR-U14Z-2A: VK Slavia Plzeň-Orion Praha
END:VEVENT
BEGIN:VEVENT
UID:33393835-3663-4564-b466-313965613439
DTSTAMP:20260421T111222Z
DESCRIPTION:9/17 Mikulova Praha A - ŠSK Bílovec 2:0 (18\,11)
DTSTART;TZID=Europe/Berlin:20250413T090000
DTEND;TZID=Europe/Berlin:20250413T110000
LOCATION:Hala ZŠ Komenského\, Komenského 701 Bílovec
SUMMARY:MCR-U14Z-2A: Mikulova Praha A-ŠSK Bílovec
END:VEVENT
BEGIN:VEVENT
UID:62343732-3231-4339-b436-656238356161
DTSTAMP:20260421T111222Z
DESCRIPTION:9/18 Staré Město - TJ Svitavy 2:0 (8\,12)
DTSTART;TZID=Europe/Berlin:20250413T090000
DTEND;TZID=Europe/Berlin:20250413T110000
LOCATION:Hala ZŠ Komenského\, Komenského 701 Bílovec
SUMMARY:MCR-U14Z-2A: Staré Město-TJ Svitavy
END:VEVENT
BEGIN:VEVENT
UID:63373562-3730-4961-b563-653939613233
DTSTAMP:20260421T111222Z
DESCRIPTION:9/19 VK Slavia Plzeň - VoCe 0:2 (-28\,-16)
DTSTART;TZID=Europe/Berlin:20250413T090000
DTEND;TZID=Europe/Berlin:20250413T110000
LOCATION:Hala ZŠ Komenského\, Komenského 701 Bílovec
SUMMARY:MCR-U14Z-2A: VK Slavia Plzeň-VoCe
END:VEVENT
BEGIN:VEVENT
UID:37373863-6664-4464-a437-323966653736
DTSTAMP:20260421T111222Z
DESCRIPTION:10/20 ŠSK Bílovec - VK Slavia Plzeň 2:0 (12\,23)
DTSTART;TZID=Europe/Berlin:20250413T101500
DTEND;TZID=Europe/Berlin:20250413T121500
LOCATION:Hala ZŠ Komenského\, Komenského 701 Bílovec
SUMMARY:MCR-U14Z-2A: ŠSK Bílovec-VK Slavia Plzeň
END:VEVENT
BEGIN:VEVENT
UID:33643832-6362-4462-a166-306336363964
DTSTAMP:20260421T111222Z
DESCRIPTION:10/21 VoCe - Staré Město 1:2 (24\,-17\,-10)
DTSTART;TZID=Europe/Berlin:20250413T101500
DTEND;TZID=Europe/Berlin:20250413T121500
LOCATION:Hala ZŠ Komenského\, Komenského 701 Bílovec
SUMMARY:MCR-U14Z-2A: VoCe-Staré Město
END:VEVENT
BEGIN:VEVENT
UID:63636136-3762-4962-a538-653364343234
DTSTAMP:20260421T111222Z
DESCRIPTION:10/22 TJ Spartak Polička - Orion Praha 0:2 (-18\,-15)
DTSTART;TZID=Europe/Berlin:20250413T101500
DTEND;TZID=Europe/Berlin:20250413T121500
LOCATION:Hala ZŠ Komenského\, Komenského 701 Bílovec
SUMMARY:MCR-U14Z-2A: TJ Spartak Polička-Orion Praha
END:VEVENT
BEGIN:VEVENT
UID:38393361-6430-4336-b831-333636373037
DTSTAMP:20260421T111222Z
DESCRIPTION:11/23 Staré Město - VK Slavia Plzeň 2:0 (14\,20)
DTSTART;TZID=Europe/Berlin:20250413T114500
DTEND;TZID=Europe/Berlin:20250413T134500
LOCATION:Hala ZŠ Komenského\, Komenského 701 Bílovec
SUMMARY:MCR-U14Z-2A: Staré Město-VK Slavia Plzeň
END:VEVENT
BEGIN:VEVENT
UID:39663761-6562-4362-a531-636231363039
DTSTAMP:20260421T111222Z
DESCRIPTION:11/24 TJ Svitavy - TJ Spartak Polička 1:2 (-14\,20\,-6)
DTSTART;TZID=Europe/Berlin:20250413T114500
DTEND;TZID=Europe/Berlin:20250413T134500
LOCATION:Hala ZŠ Komenského\, Komenského 701 Bílovec
SUMMARY:MCR-U14Z-2A: TJ Svitavy-TJ Spartak Polička
END:VEVENT
BEGIN:VEVENT
UID:32373262-6261-4533-b366-383664353963
DTSTAMP:20260421T111222Z
DESCRIPTION:11/25 Orion Praha - Mikulova Praha A 2:1 (-23\,22\,7)
DTSTART;TZID=Europe/Berlin:20250413T114500
DTEND;TZID=Europe/Berlin:20250413T134500
LOCATION:Hala ZŠ Komenského\, Komenského 701 Bílovec
SUMMARY:MCR-U14Z-2A: Orion Praha-Mikulova Praha A
END:VEVENT
BEGIN:VEVENT
UID:34306266-3462-4562-b862-336436346463
DTSTAMP:20260421T111222Z
DESCRIPTION:12/26 Orion Praha - ŠSK Bílovec 2:1 (11\,-21\,13)
DTSTART;TZID=Europe/Berlin:20250413T130000
DTEND;TZID=Europe/Berlin:20250413T150000
LOCATION:Hala ZŠ Komenského\, Komenského 701 Bílovec
SUMMARY:MCR-U14Z-2A: Orion Praha-ŠSK Bílovec
END:VEVENT
BEGIN:VEVENT
UID:66663335-3766-4132-a433-346363356331
DTSTAMP:20260421T111222Z
DESCRIPTION:12/27 Mikulova Praha A - TJ Svitavy 2:0 (9\,12)
DTSTART;TZID=Europe/Berlin:20250413T130000
DTEND;TZID=Europe/Berlin:20250413T150000
LOCATION:Hala ZŠ Komenského\, Komenského 701 Bílovec
SUMMARY:MCR-U14Z-2A: Mikulova Praha A-TJ Svitavy
END:VEVENT
BEGIN:VEVENT
UID:34353766-6234-4138-a234-313565656266
DTSTAMP:20260421T111222Z
DESCRIPTION:12/28 TJ Spartak Polička - VoCe 0:2 (-14\,-14)
DTSTART;TZID=Europe/Berlin:20250413T130000
DTEND;TZID=Europe/Berlin:20250413T150000
LOCATION:Hala ZŠ Komenského\, Komenského 701 Bílovec
SUMMARY:MCR-U14Z-2A: TJ Spartak Polička-VoCe
END:VEVENT
END:VCALENDAR
